BEGIN:VCALENDAR
VERSION:2.0
PRODID:-//Polar Ridge Senior Living - ECPv6.11.2.1//NONSGML v1.0//EN
CALSCALE:GREGORIAN
METHOD:PUBLISH
X-WR-CALNAME:Polar Ridge Senior Living
X-ORIGINAL-URL:https://polarridgeseniorliving.com
X-WR-CALDESC:Events for Polar Ridge Senior Living
REFRESH-INTERVAL;VALUE=DURATION:PT1H
X-Robots-Tag:noindex
X-PUBLISHED-TTL:PT1H
BEGIN:VTIMEZONE
TZID:America/Chicago
BEGIN:DAYLIGHT
TZOFFSETFROM:-0600
TZOFFSETTO:-0500
TZNAME:CDT
DTSTART:20260308T080000
END:DAYLIGHT
BEGIN:STANDARD
TZOFFSETFROM:-0500
TZOFFSETTO:-0600
TZNAME:CST
DTSTART:20261101T070000
END:STANDARD
END:VTIMEZONE
BEGIN:VEVENT
DTSTART;TZID=America/Chicago:20260521T130000
DTEND;TZID=America/Chicago:20260521T140000
DTSTAMP:20260423T054841
CREATED:20260422T091406Z
LAST-MODIFIED:20260423T092906Z
UID:10004610-1779368400-1779372000@polarridgeseniorliving.com
SUMMARY:Robot Soccer Practice
DESCRIPTION:
URL:https://polarridgeseniorliving.com/event-calendar/robot-soccer-practice-10/
LOCATION:Fitness Room
CATEGORIES:Independent and Assisted Living
END:VEVENT
BEGIN:VEVENT
DTSTART;TZID=America/Chicago:20260521T140000
DTEND;TZID=America/Chicago:20260521T150000
DTSTAMP:20260423T054841
CREATED:20260422T091406Z
LAST-MODIFIED:20260423T092906Z
UID:10004611-1779372000-1779375600@polarridgeseniorliving.com
SUMMARY:Journeying!
DESCRIPTION:
URL:https://polarridgeseniorliving.com/event-calendar/journeying-52/
LOCATION:Chapel
CATEGORIES:Independent and Assisted Living
END:VEVENT
BEGIN:VEVENT
DTSTART;TZID=America/Chicago:20260521T153000
DTEND;TZID=America/Chicago:20260521T163000
DTSTAMP:20260423T054841
CREATED:20260422T091406Z
LAST-MODIFIED:20260423T092906Z
UID:10004612-1779377400-1779381000@polarridgeseniorliving.com
SUMMARY:Word Games
DESCRIPTION:
URL:https://polarridgeseniorliving.com/event-calendar/word-games-83/
LOCATION:Fitness Room
CATEGORIES:Independent and Assisted Living
END:VEVENT
BEGIN:VEVENT
DTSTART;TZID=America/Chicago:20260521T180000
DTEND;TZID=America/Chicago:20260521T190000
DTSTAMP:20260423T054841
CREATED:20260422T091407Z
LAST-MODIFIED:20260423T092906Z
UID:10004613-1779386400-1779390000@polarridgeseniorliving.com
SUMMARY:Cards: 500
DESCRIPTION:
URL:https://polarridgeseniorliving.com/event-calendar/cards-500-54/
LOCATION:Dining Room
CATEGORIES:Independent and Assisted Living
END:VEVENT
BEGIN:VEVENT
DTSTART;TZID=America/Chicago:20260521T180000
DTEND;TZID=America/Chicago:20260521T190000
DTSTAMP:20260423T054841
CREATED:20260422T091407Z
LAST-MODIFIED:20260423T092906Z
UID:10004614-1779386400-1779390000@polarridgeseniorliving.com
SUMMARY:Evening Exercise with Lisa
DESCRIPTION:
URL:https://polarridgeseniorliving.com/event-calendar/evening-exercise-with-lisa-56/
LOCATION:Fitness Room
CATEGORIES:Independent and Assisted Living
END:VEVENT
BEGIN:VEVENT
DTSTART;TZID=America/Chicago:20260522T100000
DTEND;TZID=America/Chicago:20260522T103000
DTSTAMP:20260423T054841
CREATED:20260423T092906Z
LAST-MODIFIED:20260423T092906Z
UID:10004615-1779444000-1779445800@polarridgeseniorliving.com
SUMMARY:Exercise Class
DESCRIPTION:
URL:https://polarridgeseniorliving.com/event-calendar/exercise-class-266/
LOCATION:Fitness Room
CATEGORIES:Independent and Assisted Living
END:VEVENT
BEGIN:VEVENT
DTSTART;TZID=America/Chicago:20260522T130000
DTEND;TZID=America/Chicago:20260522T140000
DTSTAMP:20260423T054841
CREATED:20260423T092907Z
LAST-MODIFIED:20260423T092907Z
UID:10004616-1779454800-1779458400@polarridgeseniorliving.com
SUMMARY:The Really Big Show
DESCRIPTION:
URL:https://polarridgeseniorliving.com/event-calendar/the-really-big-show-38/
LOCATION:Fitness Room
CATEGORIES:Independent and Assisted Living
END:VEVENT
BEGIN:VEVENT
DTSTART;TZID=America/Chicago:20260522T140000
DTEND;TZID=America/Chicago:20260522T150000
DTSTAMP:20260423T054841
CREATED:20260423T092907Z
LAST-MODIFIED:20260423T092907Z
UID:10004617-1779458400-1779462000@polarridgeseniorliving.com
SUMMARY:Bingo: Quarters
DESCRIPTION:
URL:https://polarridgeseniorliving.com/event-calendar/bingo-quarters-55/
LOCATION:Dining Room
CATEGORIES:Independent and Assisted Living
END:VEVENT
BEGIN:VEVENT
DTSTART;TZID=America/Chicago:20260522T153000
DTEND;TZID=America/Chicago:20260522T163000
DTSTAMP:20260423T054841
CREATED:20260423T092907Z
LAST-MODIFIED:20260423T092907Z
UID:10004618-1779463800-1779467400@polarridgeseniorliving.com
SUMMARY:Happy Hour & Trivia
DESCRIPTION:
URL:https://polarridgeseniorliving.com/event-calendar/happy-hour-trivia-54/
LOCATION:Village North
CATEGORIES:Independent and Assisted Living
END:VEVENT
BEGIN:VEVENT
DTSTART;TZID=America/Chicago:20260522T180000
DTEND;TZID=America/Chicago:20260522T190000
DTSTAMP:20260423T054841
CREATED:20260423T092907Z
LAST-MODIFIED:20260423T092907Z
UID:10004619-1779472800-1779476400@polarridgeseniorliving.com
SUMMARY:Cards: Nickels
DESCRIPTION:
URL:https://polarridgeseniorliving.com/event-calendar/cards-nickels-54/
LOCATION:Dining Room
CATEGORIES:Independent and Assisted Living
END:VEVENT
END:VCALENDAR