BEGIN:VCALENDAR
VERSION:2.0
PRODID:-//Polar Ridge Senior Living - ECPv6.11.2.1//NONSGML v1.0//EN
CALSCALE:GREGORIAN
METHOD:PUBLISH
X-ORIGINAL-URL:https://polarridgeseniorliving.com
X-WR-CALDESC:Events for Polar Ridge Senior Living
REFRESH-INTERVAL;VALUE=DURATION:PT1H
X-Robots-Tag:noindex
X-PUBLISHED-TTL:PT1H
BEGIN:VTIMEZONE
TZID:America/Chicago
BEGIN:DAYLIGHT
TZOFFSETFROM:-0600
TZOFFSETTO:-0500
TZNAME:CDT
DTSTART:20260308T080000
END:DAYLIGHT
BEGIN:STANDARD
TZOFFSETFROM:-0500
TZOFFSETTO:-0600
TZNAME:CST
DTSTART:20261101T070000
END:STANDARD
END:VTIMEZONE
BEGIN:VEVENT
DTSTART;TZID=America/Chicago:20260128T090000
DTEND;TZID=America/Chicago:20260128T100000
DTSTAMP:20260421T045309
CREATED:20251230T041411Z
LAST-MODIFIED:20260128T061355Z
UID:10003087-1769590800-1769594400@polarridgeseniorliving.com
SUMMARY:Morning 1:1 Visits
DESCRIPTION:
URL:https://polarridgeseniorliving.com/event-calendar/morning-11-visits-59/
LOCATION:Legacy Court
CATEGORIES:Memory Care
END:VEVENT
BEGIN:VEVENT
DTSTART;TZID=America/Chicago:20260128T080000
DTEND;TZID=America/Chicago:20260128T090000
DTSTAMP:20260421T045309
CREATED:20251230T041411Z
LAST-MODIFIED:20260128T061355Z
UID:10003088-1769587200-1769590800@polarridgeseniorliving.com
SUMMARY:Breakfast
DESCRIPTION:
URL:https://polarridgeseniorliving.com/event-calendar/breakfast-59/
LOCATION:Legacy Court
CATEGORIES:Memory Care
END:VEVENT
BEGIN:VEVENT
DTSTART;TZID=America/Chicago:20260127T163000
DTEND;TZID=America/Chicago:20260127T173000
DTSTAMP:20260421T045309
CREATED:20251229T035914Z
LAST-MODIFIED:20260127T055855Z
UID:10003079-1769531400-1769535000@polarridgeseniorliving.com
SUMMARY:Dinner
DESCRIPTION:
URL:https://polarridgeseniorliving.com/event-calendar/dinner-57/
LOCATION:Legacy Court
CATEGORIES:Memory Care
END:VEVENT
BEGIN:VEVENT
DTSTART;TZID=America/Chicago:20260127T140000
DTEND;TZID=America/Chicago:20260127T150000
DTSTAMP:20260421T045309
CREATED:20251229T035914Z
LAST-MODIFIED:20260127T055855Z
UID:10003077-1769522400-1769526000@polarridgeseniorliving.com
SUMMARY:Afternoon Snack
DESCRIPTION:
URL:https://polarridgeseniorliving.com/event-calendar/afternoon-snack-25/
LOCATION:Legacy Court
CATEGORIES:Memory Care
END:VEVENT
BEGIN:VEVENT
DTSTART;TZID=America/Chicago:20260127T113000
DTEND;TZID=America/Chicago:20260127T123000
DTSTAMP:20260421T045309
CREATED:20251229T035914Z
LAST-MODIFIED:20260127T055855Z
UID:10003075-1769513400-1769517000@polarridgeseniorliving.com
SUMMARY:Lunch
DESCRIPTION:
URL:https://polarridgeseniorliving.com/event-calendar/lunch-58/
LOCATION:Legacy Court
CATEGORIES:Memory Care
END:VEVENT
BEGIN:VEVENT
DTSTART;TZID=America/Chicago:20260127T090000
DTEND;TZID=America/Chicago:20260127T100000
DTSTAMP:20260421T045309
CREATED:20251229T035914Z
LAST-MODIFIED:20260127T055855Z
UID:10003073-1769504400-1769508000@polarridgeseniorliving.com
SUMMARY:Morning 1:1 Visits
DESCRIPTION:
URL:https://polarridgeseniorliving.com/event-calendar/morning-11-visits-58/
LOCATION:Legacy Court
CATEGORIES:Memory Care
END:VEVENT
BEGIN:VEVENT
DTSTART;TZID=America/Chicago:20260127T080000
DTEND;TZID=America/Chicago:20260127T090000
DTSTAMP:20260421T045309
CREATED:20251229T035914Z
LAST-MODIFIED:20260127T055855Z
UID:10003072-1769500800-1769504400@polarridgeseniorliving.com
SUMMARY:Breakfast
DESCRIPTION:
URL:https://polarridgeseniorliving.com/event-calendar/breakfast-58/
LOCATION:Legacy Court
CATEGORIES:Memory Care
END:VEVENT
BEGIN:VEVENT
DTSTART;TZID=America/Chicago:20260126T173000
DTEND;TZID=America/Chicago:20260126T183000
DTSTAMP:20260421T045309
CREATED:20251228T035910Z
LAST-MODIFIED:20260126T055907Z
UID:10003063-1769448600-1769452200@polarridgeseniorliving.com
SUMMARY:Puzzles
DESCRIPTION:
URL:https://polarridgeseniorliving.com/event-calendar/puzzles-9/
LOCATION:Legacy Court
CATEGORIES:Memory Care
END:VEVENT
BEGIN:VEVENT
DTSTART;TZID=America/Chicago:20260126T163000
DTEND;TZID=America/Chicago:20260126T173000
DTSTAMP:20260421T045309
CREATED:20251228T035910Z
LAST-MODIFIED:20260126T055907Z
UID:10003062-1769445000-1769448600@polarridgeseniorliving.com
SUMMARY:Dinner
DESCRIPTION:
URL:https://polarridgeseniorliving.com/event-calendar/dinner-56/
LOCATION:Legacy Court
CATEGORIES:Memory Care
END:VEVENT
BEGIN:VEVENT
DTSTART;TZID=America/Chicago:20260126T113000
DTEND;TZID=America/Chicago:20260126T123000
DTSTAMP:20260421T045309
CREATED:20251228T035909Z
LAST-MODIFIED:20260126T055907Z
UID:10003056-1769427000-1769430600@polarridgeseniorliving.com
SUMMARY:Lunch
DESCRIPTION:
URL:https://polarridgeseniorliving.com/event-calendar/lunch-57/
LOCATION:Legacy Court
CATEGORIES:Memory Care
END:VEVENT
BEGIN:VEVENT
DTSTART;TZID=America/Chicago:20260126T090000
DTEND;TZID=America/Chicago:20260126T100000
DTSTAMP:20260421T045309
CREATED:20251228T035909Z
LAST-MODIFIED:20260126T055907Z
UID:10003055-1769418000-1769421600@polarridgeseniorliving.com
SUMMARY:Morning 1:1 Visits
DESCRIPTION:
URL:https://polarridgeseniorliving.com/event-calendar/morning-11-visits-57/
LOCATION:Legacy Court
CATEGORIES:Memory Care
END:VEVENT
BEGIN:VEVENT
DTSTART;TZID=America/Chicago:20260126T080000
DTEND;TZID=America/Chicago:20260126T090000
DTSTAMP:20260421T045309
CREATED:20251228T035909Z
LAST-MODIFIED:20260126T055907Z
UID:10003054-1769414400-1769418000@polarridgeseniorliving.com
SUMMARY:Breakfast
DESCRIPTION:
URL:https://polarridgeseniorliving.com/event-calendar/breakfast-57/
LOCATION:Legacy Court
CATEGORIES:Memory Care
END:VEVENT
BEGIN:VEVENT
DTSTART;TZID=America/Chicago:20260125T163000
DTEND;TZID=America/Chicago:20260125T173000
DTSTAMP:20260421T045309
CREATED:20251227T034429Z
LAST-MODIFIED:20260125T055858Z
UID:10003046-1769358600-1769362200@polarridgeseniorliving.com
SUMMARY:Dinner
DESCRIPTION:
URL:https://polarridgeseniorliving.com/event-calendar/dinner-55/
LOCATION:Legacy Court
CATEGORIES:Memory Care
END:VEVENT
BEGIN:VEVENT
DTSTART;TZID=America/Chicago:20260125T113000
DTEND;TZID=America/Chicago:20260125T123000
DTSTAMP:20260421T045309
CREATED:20251227T034429Z
LAST-MODIFIED:20260125T055858Z
UID:10003045-1769340600-1769344200@polarridgeseniorliving.com
SUMMARY:Lunch
DESCRIPTION:
URL:https://polarridgeseniorliving.com/event-calendar/lunch-56/
LOCATION:Legacy Court
CATEGORIES:Memory Care
END:VEVENT
BEGIN:VEVENT
DTSTART;TZID=America/Chicago:20260125T090000
DTEND;TZID=America/Chicago:20260125T100000
DTSTAMP:20260421T045309
CREATED:20251227T034429Z
LAST-MODIFIED:20260125T055858Z
UID:10003043-1769331600-1769335200@polarridgeseniorliving.com
SUMMARY:Morning 1:1 Visits
DESCRIPTION:
URL:https://polarridgeseniorliving.com/event-calendar/morning-11-visits-56/
LOCATION:Legacy Court
CATEGORIES:Memory Care
END:VEVENT
BEGIN:VEVENT
DTSTART;TZID=America/Chicago:20260125T080000
DTEND;TZID=America/Chicago:20260125T090000
DTSTAMP:20260421T045309
CREATED:20251227T034429Z
LAST-MODIFIED:20260125T055858Z
UID:10003042-1769328000-1769331600@polarridgeseniorliving.com
SUMMARY:Breakfast
DESCRIPTION:
URL:https://polarridgeseniorliving.com/event-calendar/breakfast-56/
LOCATION:Legacy Court
CATEGORIES:Memory Care
END:VEVENT
BEGIN:VEVENT
DTSTART;TZID=America/Chicago:20260124T163000
DTEND;TZID=America/Chicago:20260124T173000
DTSTAMP:20260421T045309
CREATED:20251226T034411Z
LAST-MODIFIED:20260124T055900Z
UID:10003038-1769272200-1769275800@polarridgeseniorliving.com
SUMMARY:Dinner
DESCRIPTION:
URL:https://polarridgeseniorliving.com/event-calendar/dinner-54/
LOCATION:Legacy Court
CATEGORIES:Memory Care
END:VEVENT
BEGIN:VEVENT
DTSTART;TZID=America/Chicago:20260124T150000
DTEND;TZID=America/Chicago:20260124T160000
DTSTAMP:20260421T045309
CREATED:20251226T034411Z
LAST-MODIFIED:20260124T055900Z
UID:10003037-1769266800-1769270400@polarridgeseniorliving.com
SUMMARY:Storytelling
DESCRIPTION:
URL:https://polarridgeseniorliving.com/event-calendar/storytelling-8/
LOCATION:Legacy Court
CATEGORIES:Memory Care
END:VEVENT
BEGIN:VEVENT
DTSTART;TZID=America/Chicago:20260124T140000
DTEND;TZID=America/Chicago:20260124T150000
DTSTAMP:20260421T045309
CREATED:20251226T034411Z
LAST-MODIFIED:20260124T055900Z
UID:10003036-1769263200-1769266800@polarridgeseniorliving.com
SUMMARY:Word Games
DESCRIPTION:
URL:https://polarridgeseniorliving.com/event-calendar/word-games-43/
LOCATION:Legacy Court
CATEGORIES:Memory Care
END:VEVENT
BEGIN:VEVENT
DTSTART;TZID=America/Chicago:20260124T113000
DTEND;TZID=America/Chicago:20260124T123000
DTSTAMP:20260421T045309
CREATED:20251226T034411Z
LAST-MODIFIED:20260124T055900Z
UID:10003034-1769254200-1769257800@polarridgeseniorliving.com
SUMMARY:Lunch
DESCRIPTION:
URL:https://polarridgeseniorliving.com/event-calendar/lunch-55/
LOCATION:Legacy Court
CATEGORIES:Memory Care
END:VEVENT
BEGIN:VEVENT
DTSTART;TZID=America/Chicago:20260124T090000
DTEND;TZID=America/Chicago:20260124T100000
DTSTAMP:20260421T045309
CREATED:20251226T034411Z
LAST-MODIFIED:20260124T055900Z
UID:10003032-1769245200-1769248800@polarridgeseniorliving.com
SUMMARY:Morning 1:1 Visits
DESCRIPTION:
URL:https://polarridgeseniorliving.com/event-calendar/morning-11-visits-55/
LOCATION:Legacy Court
CATEGORIES:Memory Care
END:VEVENT
BEGIN:VEVENT
DTSTART;TZID=America/Chicago:20260124T080000
DTEND;TZID=America/Chicago:20260124T090000
DTSTAMP:20260421T045309
CREATED:20251226T034411Z
LAST-MODIFIED:20260124T055900Z
UID:10003031-1769241600-1769245200@polarridgeseniorliving.com
SUMMARY:Breakfast
DESCRIPTION:
URL:https://polarridgeseniorliving.com/event-calendar/breakfast-55/
LOCATION:Legacy Court
CATEGORIES:Memory Care
END:VEVENT
BEGIN:VEVENT
DTSTART;TZID=America/Chicago:20260123T163000
DTEND;TZID=America/Chicago:20260123T173000
DTSTAMP:20260421T045309
CREATED:20251225T032920Z
LAST-MODIFIED:20260123T055902Z
UID:10003025-1769185800-1769189400@polarridgeseniorliving.com
SUMMARY:Dinner
DESCRIPTION:
URL:https://polarridgeseniorliving.com/event-calendar/dinner-53/
LOCATION:Legacy Court
CATEGORIES:Memory Care
END:VEVENT
BEGIN:VEVENT
DTSTART;TZID=America/Chicago:20260123T113000
DTEND;TZID=America/Chicago:20260123T123000
DTSTAMP:20260421T045309
CREATED:20251225T032920Z
LAST-MODIFIED:20260123T055902Z
UID:10003022-1769167800-1769171400@polarridgeseniorliving.com
SUMMARY:Lunch
DESCRIPTION:
URL:https://polarridgeseniorliving.com/event-calendar/lunch-54/
LOCATION:Legacy Court
CATEGORIES:Memory Care
END:VEVENT
BEGIN:VEVENT
DTSTART;TZID=America/Chicago:20260123T090000
DTEND;TZID=America/Chicago:20260123T100000
DTSTAMP:20260421T045309
CREATED:20251225T032920Z
LAST-MODIFIED:20260123T055902Z
UID:10003020-1769158800-1769162400@polarridgeseniorliving.com
SUMMARY:Morning 1:1 Visits
DESCRIPTION:
URL:https://polarridgeseniorliving.com/event-calendar/morning-11-visits-54/
LOCATION:Legacy Court
CATEGORIES:Memory Care
END:VEVENT
BEGIN:VEVENT
DTSTART;TZID=America/Chicago:20260123T080000
DTEND;TZID=America/Chicago:20260123T090000
DTSTAMP:20260421T045309
CREATED:20251225T032920Z
LAST-MODIFIED:20260123T055902Z
UID:10003019-1769155200-1769158800@polarridgeseniorliving.com
SUMMARY:Breakfast
DESCRIPTION:
URL:https://polarridgeseniorliving.com/event-calendar/breakfast-54/
LOCATION:Legacy Court
CATEGORIES:Memory Care
END:VEVENT
BEGIN:VEVENT
DTSTART;TZID=America/Chicago:20260122T163000
DTEND;TZID=America/Chicago:20260122T173000
DTSTAMP:20260421T045309
CREATED:20251224T031425Z
LAST-MODIFIED:20260122T055858Z
UID:10003011-1769099400-1769103000@polarridgeseniorliving.com
SUMMARY:Dinner
DESCRIPTION:
URL:https://polarridgeseniorliving.com/event-calendar/dinner-52/
LOCATION:Legacy Court
CATEGORIES:Memory Care
END:VEVENT
BEGIN:VEVENT
DTSTART;TZID=America/Chicago:20260122T140000
DTEND;TZID=America/Chicago:20260122T150000
DTSTAMP:20260421T045309
CREATED:20251224T031425Z
LAST-MODIFIED:20260122T055858Z
UID:10003009-1769090400-1769094000@polarridgeseniorliving.com
SUMMARY:Afternoon Snack
DESCRIPTION:
URL:https://polarridgeseniorliving.com/event-calendar/afternoon-snack-24/
LOCATION:Legacy Court
CATEGORIES:Memory Care
END:VEVENT
BEGIN:VEVENT
DTSTART;TZID=America/Chicago:20260122T113000
DTEND;TZID=America/Chicago:20260122T123000
DTSTAMP:20260421T045309
CREATED:20251224T031424Z
LAST-MODIFIED:20260122T055858Z
UID:10003006-1769081400-1769085000@polarridgeseniorliving.com
SUMMARY:Lunch
DESCRIPTION:
URL:https://polarridgeseniorliving.com/event-calendar/lunch-53/
LOCATION:Legacy Court
CATEGORIES:Memory Care
END:VEVENT
BEGIN:VEVENT
DTSTART;TZID=America/Chicago:20260122T090000
DTEND;TZID=America/Chicago:20260122T100000
DTSTAMP:20260421T045309
CREATED:20251224T031424Z
LAST-MODIFIED:20260122T055857Z
UID:10003005-1769072400-1769076000@polarridgeseniorliving.com
SUMMARY:Morning 1:1 Visits
DESCRIPTION:
URL:https://polarridgeseniorliving.com/event-calendar/morning-11-visits-53/
LOCATION:Legacy Court
CATEGORIES:Memory Care
END:VEVENT
END:VCALENDAR