BEGIN:VCALENDAR
VERSION:2.0
PRODID:-//Polar Ridge Senior Living - ECPv6.11.2.1//NONSGML v1.0//EN
CALSCALE:GREGORIAN
METHOD:PUBLISH
X-WR-CALNAME:Polar Ridge Senior Living
X-ORIGINAL-URL:https://polarridgeseniorliving.com
X-WR-CALDESC:Events for Polar Ridge Senior Living
REFRESH-INTERVAL;VALUE=DURATION:PT1H
X-Robots-Tag:noindex
X-PUBLISHED-TTL:PT1H
BEGIN:VTIMEZONE
TZID:America/Chicago
BEGIN:DAYLIGHT
TZOFFSETFROM:-0600
TZOFFSETTO:-0500
TZNAME:CDT
DTSTART:20260308T080000
END:DAYLIGHT
BEGIN:STANDARD
TZOFFSETFROM:-0500
TZOFFSETTO:-0600
TZNAME:CST
DTSTART:20261101T070000
END:STANDARD
END:VTIMEZONE
BEGIN:VEVENT
DTSTART;TZID=America/Chicago:20260120T113000
DTEND;TZID=America/Chicago:20260120T123000
DTSTAMP:20260421T111659
CREATED:20251222T031413Z
LAST-MODIFIED:20260120T052856Z
UID:10002974-1768908600-1768912200@polarridgeseniorliving.com
SUMMARY:Lunch
DESCRIPTION:
URL:https://polarridgeseniorliving.com/event-calendar/lunch-51/
LOCATION:Legacy Court
CATEGORIES:Memory Care
END:VEVENT
BEGIN:VEVENT
DTSTART;TZID=America/Chicago:20260120T090000
DTEND;TZID=America/Chicago:20260120T100000
DTSTAMP:20260421T111659
CREATED:20251222T031413Z
LAST-MODIFIED:20260120T052856Z
UID:10002971-1768899600-1768903200@polarridgeseniorliving.com
SUMMARY:Morning 1:1 Visits
DESCRIPTION:
URL:https://polarridgeseniorliving.com/event-calendar/morning-11-visits-51/
LOCATION:Legacy Court
CATEGORIES:Memory Care
END:VEVENT
BEGIN:VEVENT
DTSTART;TZID=America/Chicago:20260120T080000
DTEND;TZID=America/Chicago:20260120T090000
DTSTAMP:20260421T111659
CREATED:20251222T031413Z
LAST-MODIFIED:20260120T052856Z
UID:10002972-1768896000-1768899600@polarridgeseniorliving.com
SUMMARY:Breakfast
DESCRIPTION:
URL:https://polarridgeseniorliving.com/event-calendar/breakfast-51/
LOCATION:Legacy Court
CATEGORIES:Memory Care
END:VEVENT
BEGIN:VEVENT
DTSTART;TZID=America/Chicago:20260119T173000
DTEND;TZID=America/Chicago:20260119T183000
DTSTAMP:20260421T111659
CREATED:20251221T025913Z
LAST-MODIFIED:20260119T052855Z
UID:10002962-1768843800-1768847400@polarridgeseniorliving.com
SUMMARY:Puzzles
DESCRIPTION:
URL:https://polarridgeseniorliving.com/event-calendar/puzzles-8/
LOCATION:Legacy Court
CATEGORIES:Memory Care
END:VEVENT
BEGIN:VEVENT
DTSTART;TZID=America/Chicago:20260119T163000
DTEND;TZID=America/Chicago:20260119T173000
DTSTAMP:20260421T111659
CREATED:20251221T025913Z
LAST-MODIFIED:20260119T052855Z
UID:10002961-1768840200-1768843800@polarridgeseniorliving.com
SUMMARY:Dinner
DESCRIPTION:
URL:https://polarridgeseniorliving.com/event-calendar/dinner-49/
LOCATION:Legacy Court
CATEGORIES:Memory Care
END:VEVENT
BEGIN:VEVENT
DTSTART;TZID=America/Chicago:20260119T113000
DTEND;TZID=America/Chicago:20260119T123000
DTSTAMP:20260421T111659
CREATED:20251221T025913Z
LAST-MODIFIED:20260119T052855Z
UID:10002955-1768822200-1768825800@polarridgeseniorliving.com
SUMMARY:Lunch
DESCRIPTION:
URL:https://polarridgeseniorliving.com/event-calendar/lunch-50/
LOCATION:Legacy Court
CATEGORIES:Memory Care
END:VEVENT
BEGIN:VEVENT
DTSTART;TZID=America/Chicago:20260119T090000
DTEND;TZID=America/Chicago:20260119T100000
DTSTAMP:20260421T111659
CREATED:20251221T025913Z
LAST-MODIFIED:20260119T052855Z
UID:10002953-1768813200-1768816800@polarridgeseniorliving.com
SUMMARY:Morning 1:1 Visits
DESCRIPTION:
URL:https://polarridgeseniorliving.com/event-calendar/morning-11-visits-50/
LOCATION:Legacy Court
CATEGORIES:Memory Care
END:VEVENT
BEGIN:VEVENT
DTSTART;TZID=America/Chicago:20260119T080000
DTEND;TZID=America/Chicago:20260119T090000
DTSTAMP:20260421T111659
CREATED:20251221T025913Z
LAST-MODIFIED:20260119T052855Z
UID:10002952-1768809600-1768813200@polarridgeseniorliving.com
SUMMARY:Breakfast
DESCRIPTION:
URL:https://polarridgeseniorliving.com/event-calendar/breakfast-50/
LOCATION:Legacy Court
CATEGORIES:Memory Care
END:VEVENT
BEGIN:VEVENT
DTSTART;TZID=America/Chicago:20260118T163000
DTEND;TZID=America/Chicago:20260118T173000
DTSTAMP:20260421T111659
CREATED:20251220T024414Z
LAST-MODIFIED:20260118T052856Z
UID:10002944-1768753800-1768757400@polarridgeseniorliving.com
SUMMARY:Dinner
DESCRIPTION:
URL:https://polarridgeseniorliving.com/event-calendar/dinner-48/
LOCATION:Legacy Court
CATEGORIES:Memory Care
END:VEVENT
BEGIN:VEVENT
DTSTART;TZID=America/Chicago:20260118T113000
DTEND;TZID=America/Chicago:20260118T123000
DTSTAMP:20260421T111659
CREATED:20251220T024414Z
LAST-MODIFIED:20260118T052856Z
UID:10002943-1768735800-1768739400@polarridgeseniorliving.com
SUMMARY:Lunch
DESCRIPTION:
URL:https://polarridgeseniorliving.com/event-calendar/lunch-49/
LOCATION:Legacy Court
CATEGORIES:Memory Care
END:VEVENT
BEGIN:VEVENT
DTSTART;TZID=America/Chicago:20260118T090000
DTEND;TZID=America/Chicago:20260118T100000
DTSTAMP:20260421T111659
CREATED:20251220T024414Z
LAST-MODIFIED:20260118T052856Z
UID:10002941-1768726800-1768730400@polarridgeseniorliving.com
SUMMARY:Morning 1:1 Visits
DESCRIPTION:
URL:https://polarridgeseniorliving.com/event-calendar/morning-11-visits-49/
LOCATION:Legacy Court
CATEGORIES:Memory Care
END:VEVENT
BEGIN:VEVENT
DTSTART;TZID=America/Chicago:20260118T080000
DTEND;TZID=America/Chicago:20260118T090000
DTSTAMP:20260421T111659
CREATED:20251220T024414Z
LAST-MODIFIED:20260118T052856Z
UID:10002940-1768723200-1768726800@polarridgeseniorliving.com
SUMMARY:Breakfast
DESCRIPTION:
URL:https://polarridgeseniorliving.com/event-calendar/breakfast-49/
LOCATION:Legacy Court
CATEGORIES:Memory Care
END:VEVENT
BEGIN:VEVENT
DTSTART;TZID=America/Chicago:20260117T163000
DTEND;TZID=America/Chicago:20260117T173000
DTSTAMP:20260421T111659
CREATED:20251219T022951Z
LAST-MODIFIED:20260117T052857Z
UID:10002936-1768667400-1768671000@polarridgeseniorliving.com
SUMMARY:Dinner
DESCRIPTION:
URL:https://polarridgeseniorliving.com/event-calendar/dinner-47/
LOCATION:Legacy Court
CATEGORIES:Memory Care
END:VEVENT
BEGIN:VEVENT
DTSTART;TZID=America/Chicago:20260117T150000
DTEND;TZID=America/Chicago:20260117T160000
DTSTAMP:20260421T111659
CREATED:20251219T022951Z
LAST-MODIFIED:20260117T052857Z
UID:10002935-1768662000-1768665600@polarridgeseniorliving.com
SUMMARY:Storytelling
DESCRIPTION:
URL:https://polarridgeseniorliving.com/event-calendar/storytelling-7/
LOCATION:Legacy Court
CATEGORIES:Memory Care
END:VEVENT
BEGIN:VEVENT
DTSTART;TZID=America/Chicago:20260117T140000
DTEND;TZID=America/Chicago:20260117T150000
DTSTAMP:20260421T111659
CREATED:20251219T022951Z
LAST-MODIFIED:20260117T052857Z
UID:10002934-1768658400-1768662000@polarridgeseniorliving.com
SUMMARY:Word Games
DESCRIPTION:
URL:https://polarridgeseniorliving.com/event-calendar/word-games-41/
LOCATION:Legacy Court
CATEGORIES:Memory Care
END:VEVENT
BEGIN:VEVENT
DTSTART;TZID=America/Chicago:20260117T113000
DTEND;TZID=America/Chicago:20260117T123000
DTSTAMP:20260421T111659
CREATED:20251219T022951Z
LAST-MODIFIED:20260117T052857Z
UID:10002932-1768649400-1768653000@polarridgeseniorliving.com
SUMMARY:Lunch
DESCRIPTION:
URL:https://polarridgeseniorliving.com/event-calendar/lunch-48/
LOCATION:Legacy Court
CATEGORIES:Memory Care
END:VEVENT
BEGIN:VEVENT
DTSTART;TZID=America/Chicago:20260117T090000
DTEND;TZID=America/Chicago:20260117T100000
DTSTAMP:20260421T111659
CREATED:20251219T022950Z
LAST-MODIFIED:20260117T052857Z
UID:10002930-1768640400-1768644000@polarridgeseniorliving.com
SUMMARY:Morning 1:1 Visits
DESCRIPTION:
URL:https://polarridgeseniorliving.com/event-calendar/morning-11-visits-48/
LOCATION:Legacy Court
CATEGORIES:Memory Care
END:VEVENT
BEGIN:VEVENT
DTSTART;TZID=America/Chicago:20260117T080000
DTEND;TZID=America/Chicago:20260117T090000
DTSTAMP:20260421T111659
CREATED:20251219T022950Z
LAST-MODIFIED:20260117T052857Z
UID:10002929-1768636800-1768640400@polarridgeseniorliving.com
SUMMARY:Breakfast
DESCRIPTION:
URL:https://polarridgeseniorliving.com/event-calendar/breakfast-48/
LOCATION:Legacy Court
CATEGORIES:Memory Care
END:VEVENT
BEGIN:VEVENT
DTSTART;TZID=America/Chicago:20260116T163000
DTEND;TZID=America/Chicago:20260116T173000
DTSTAMP:20260421T111659
CREATED:20251218T022922Z
LAST-MODIFIED:20260116T052856Z
UID:10002923-1768581000-1768584600@polarridgeseniorliving.com
SUMMARY:Dinner
DESCRIPTION:
URL:https://polarridgeseniorliving.com/event-calendar/dinner-46/
LOCATION:Legacy Court
CATEGORIES:Memory Care
END:VEVENT
BEGIN:VEVENT
DTSTART;TZID=America/Chicago:20260116T113000
DTEND;TZID=America/Chicago:20260116T123000
DTSTAMP:20260421T111659
CREATED:20251218T022922Z
LAST-MODIFIED:20260116T052855Z
UID:10002920-1768563000-1768566600@polarridgeseniorliving.com
SUMMARY:Lunch
DESCRIPTION:
URL:https://polarridgeseniorliving.com/event-calendar/lunch-47/
LOCATION:Legacy Court
CATEGORIES:Memory Care
END:VEVENT
BEGIN:VEVENT
DTSTART;TZID=America/Chicago:20260116T090000
DTEND;TZID=America/Chicago:20260116T100000
DTSTAMP:20260421T111659
CREATED:20251218T022922Z
LAST-MODIFIED:20260116T052855Z
UID:10002918-1768554000-1768557600@polarridgeseniorliving.com
SUMMARY:Morning 1:1 Visits
DESCRIPTION:
URL:https://polarridgeseniorliving.com/event-calendar/morning-11-visits-47/
LOCATION:Legacy Court
CATEGORIES:Memory Care
END:VEVENT
BEGIN:VEVENT
DTSTART;TZID=America/Chicago:20260116T080000
DTEND;TZID=America/Chicago:20260116T090000
DTSTAMP:20260421T111659
CREATED:20251218T022922Z
LAST-MODIFIED:20260116T052855Z
UID:10002917-1768550400-1768554000@polarridgeseniorliving.com
SUMMARY:Breakfast
DESCRIPTION:
URL:https://polarridgeseniorliving.com/event-calendar/breakfast-47/
LOCATION:Legacy Court
CATEGORIES:Memory Care
END:VEVENT
BEGIN:VEVENT
DTSTART;TZID=America/Chicago:20260115T163000
DTEND;TZID=America/Chicago:20260115T173000
DTSTAMP:20260421T111659
CREATED:20251218T022921Z
LAST-MODIFIED:20260115T052900Z
UID:10002914-1768494600-1768498200@polarridgeseniorliving.com
SUMMARY:Dinner
DESCRIPTION:
URL:https://polarridgeseniorliving.com/event-calendar/dinner-45/
LOCATION:Legacy Court
CATEGORIES:Memory Care
END:VEVENT
BEGIN:VEVENT
DTSTART;TZID=America/Chicago:20260115T140000
DTEND;TZID=America/Chicago:20260115T150000
DTSTAMP:20260421T111659
CREATED:20251217T022915Z
LAST-MODIFIED:20260115T052900Z
UID:10002907-1768485600-1768489200@polarridgeseniorliving.com
SUMMARY:Afternoon Snack
DESCRIPTION:
URL:https://polarridgeseniorliving.com/event-calendar/afternoon-snack-21/
LOCATION:Legacy Court
CATEGORIES:Memory Care
END:VEVENT
BEGIN:VEVENT
DTSTART;TZID=America/Chicago:20260115T113000
DTEND;TZID=America/Chicago:20260115T123000
DTSTAMP:20260421T111659
CREATED:20251217T022915Z
LAST-MODIFIED:20260115T052900Z
UID:10002904-1768476600-1768480200@polarridgeseniorliving.com
SUMMARY:Lunch
DESCRIPTION:
URL:https://polarridgeseniorliving.com/event-calendar/lunch-46/
LOCATION:Legacy Court
CATEGORIES:Memory Care
END:VEVENT
BEGIN:VEVENT
DTSTART;TZID=America/Chicago:20260115T090000
DTEND;TZID=America/Chicago:20260115T100000
DTSTAMP:20260421T111659
CREATED:20251217T022915Z
LAST-MODIFIED:20260115T052859Z
UID:10002903-1768467600-1768471200@polarridgeseniorliving.com
SUMMARY:Morning 1:1 Visits
DESCRIPTION:
URL:https://polarridgeseniorliving.com/event-calendar/morning-11-visits-46/
LOCATION:Legacy Court
CATEGORIES:Memory Care
END:VEVENT
BEGIN:VEVENT
DTSTART;TZID=America/Chicago:20260115T080000
DTEND;TZID=America/Chicago:20260115T090000
DTSTAMP:20260421T111659
CREATED:20251217T022915Z
LAST-MODIFIED:20260115T052859Z
UID:10002902-1768464000-1768467600@polarridgeseniorliving.com
SUMMARY:Breakfast
DESCRIPTION:
URL:https://polarridgeseniorliving.com/event-calendar/breakfast-46/
LOCATION:Legacy Court
CATEGORIES:Memory Care
END:VEVENT
BEGIN:VEVENT
DTSTART;TZID=America/Chicago:20260114T163000
DTEND;TZID=America/Chicago:20260114T173000
DTSTAMP:20260421T111659
CREATED:20251217T022914Z
LAST-MODIFIED:20260114T052857Z
UID:10002899-1768408200-1768411800@polarridgeseniorliving.com
SUMMARY:Dinner
DESCRIPTION:
URL:https://polarridgeseniorliving.com/event-calendar/dinner-44/
LOCATION:Legacy Court
CATEGORIES:Memory Care
END:VEVENT
BEGIN:VEVENT
DTSTART;TZID=America/Chicago:20260114T140000
DTEND;TZID=America/Chicago:20260114T150000
DTSTAMP:20260421T111659
CREATED:20251217T022914Z
LAST-MODIFIED:20260114T052857Z
UID:10002897-1768399200-1768402800@polarridgeseniorliving.com
SUMMARY:Afternoon Snack
DESCRIPTION:
URL:https://polarridgeseniorliving.com/event-calendar/afternoon-snack-20/
LOCATION:Legacy Court
CATEGORIES:Memory Care
END:VEVENT
BEGIN:VEVENT
DTSTART;TZID=America/Chicago:20260114T113000
DTEND;TZID=America/Chicago:20260114T123000
DTSTAMP:20260421T111659
CREATED:20251216T022916Z
LAST-MODIFIED:20260114T052857Z
UID:10002889-1768390200-1768393800@polarridgeseniorliving.com
SUMMARY:Lunch
DESCRIPTION:
URL:https://polarridgeseniorliving.com/event-calendar/lunch-45/
LOCATION:Legacy Court
CATEGORIES:Memory Care
END:VEVENT
END:VCALENDAR