BEGIN:VCALENDAR
VERSION:2.0
PRODID:-//Polar Ridge Senior Living - ECPv6.11.2.1//NONSGML v1.0//EN
CALSCALE:GREGORIAN
METHOD:PUBLISH
X-ORIGINAL-URL:https://polarridgeseniorliving.com
X-WR-CALDESC:Events for Polar Ridge Senior Living
REFRESH-INTERVAL;VALUE=DURATION:PT1H
X-Robots-Tag:noindex
X-PUBLISHED-TTL:PT1H
BEGIN:VTIMEZONE
TZID:America/Chicago
BEGIN:DAYLIGHT
TZOFFSETFROM:-0600
TZOFFSETTO:-0500
TZNAME:CDT
DTSTART:20260308T080000
END:DAYLIGHT
BEGIN:STANDARD
TZOFFSETFROM:-0500
TZOFFSETTO:-0600
TZNAME:CST
DTSTART:20261101T070000
END:STANDARD
END:VTIMEZONE
BEGIN:VEVENT
DTSTART;TZID=America/Chicago:20260114T140000
DTEND;TZID=America/Chicago:20260114T150000
DTSTAMP:20260421T153415
CREATED:20251217T022914Z
LAST-MODIFIED:20260114T052857Z
UID:10002897-1768399200-1768402800@polarridgeseniorliving.com
SUMMARY:Afternoon Snack
DESCRIPTION:
URL:https://polarridgeseniorliving.com/event-calendar/afternoon-snack-20/
LOCATION:Legacy Court
CATEGORIES:Memory Care
END:VEVENT
BEGIN:VEVENT
DTSTART;TZID=America/Chicago:20260114T113000
DTEND;TZID=America/Chicago:20260114T123000
DTSTAMP:20260421T153415
CREATED:20251216T022916Z
LAST-MODIFIED:20260114T052857Z
UID:10002889-1768390200-1768393800@polarridgeseniorliving.com
SUMMARY:Lunch
DESCRIPTION:
URL:https://polarridgeseniorliving.com/event-calendar/lunch-45/
LOCATION:Legacy Court
CATEGORIES:Memory Care
END:VEVENT
BEGIN:VEVENT
DTSTART;TZID=America/Chicago:20260114T090000
DTEND;TZID=America/Chicago:20260114T100000
DTSTAMP:20260421T153415
CREATED:20251216T022915Z
LAST-MODIFIED:20260114T052857Z
UID:10002887-1768381200-1768384800@polarridgeseniorliving.com
SUMMARY:Morning 1:1 Visits
DESCRIPTION:
URL:https://polarridgeseniorliving.com/event-calendar/morning-11-visits-45/
LOCATION:Legacy Court
CATEGORIES:Memory Care
END:VEVENT
BEGIN:VEVENT
DTSTART;TZID=America/Chicago:20260114T080000
DTEND;TZID=America/Chicago:20260114T090000
DTSTAMP:20260421T153415
CREATED:20251216T022915Z
LAST-MODIFIED:20260114T052857Z
UID:10002886-1768377600-1768381200@polarridgeseniorliving.com
SUMMARY:Breakfast
DESCRIPTION:
URL:https://polarridgeseniorliving.com/event-calendar/breakfast-45/
LOCATION:Legacy Court
CATEGORIES:Memory Care
END:VEVENT
BEGIN:VEVENT
DTSTART;TZID=America/Chicago:20260113T163000
DTEND;TZID=America/Chicago:20260113T173000
DTSTAMP:20260421T153415
CREATED:20251216T022915Z
LAST-MODIFIED:20260113T052858Z
UID:10002883-1768321800-1768325400@polarridgeseniorliving.com
SUMMARY:Dinner
DESCRIPTION:
URL:https://polarridgeseniorliving.com/event-calendar/dinner-43/
LOCATION:Legacy Court
CATEGORIES:Memory Care
END:VEVENT
BEGIN:VEVENT
DTSTART;TZID=America/Chicago:20260113T140000
DTEND;TZID=America/Chicago:20260113T150000
DTSTAMP:20260421T153415
CREATED:20251216T022915Z
LAST-MODIFIED:20260113T052858Z
UID:10002881-1768312800-1768316400@polarridgeseniorliving.com
SUMMARY:Afternoon Snack
DESCRIPTION:
URL:https://polarridgeseniorliving.com/event-calendar/afternoon-snack-19/
LOCATION:Legacy Court
CATEGORIES:Memory Care
END:VEVENT
BEGIN:VEVENT
DTSTART;TZID=America/Chicago:20260113T113000
DTEND;TZID=America/Chicago:20260113T123000
DTSTAMP:20260421T153415
CREATED:20251216T022915Z
LAST-MODIFIED:20260113T052858Z
UID:10002879-1768303800-1768307400@polarridgeseniorliving.com
SUMMARY:Lunch
DESCRIPTION:
URL:https://polarridgeseniorliving.com/event-calendar/lunch-44/
LOCATION:Legacy Court
CATEGORIES:Memory Care
END:VEVENT
BEGIN:VEVENT
DTSTART;TZID=America/Chicago:20260113T090000
DTEND;TZID=America/Chicago:20260113T100000
DTSTAMP:20260421T153415
CREATED:20251215T022942Z
LAST-MODIFIED:20260113T052858Z
UID:10002870-1768294800-1768298400@polarridgeseniorliving.com
SUMMARY:Morning 1:1 Visits
DESCRIPTION:
URL:https://polarridgeseniorliving.com/event-calendar/morning-11-visits-44/
LOCATION:Legacy Court
CATEGORIES:Memory Care
END:VEVENT
BEGIN:VEVENT
DTSTART;TZID=America/Chicago:20260113T080000
DTEND;TZID=America/Chicago:20260113T090000
DTSTAMP:20260421T153415
CREATED:20251215T022942Z
LAST-MODIFIED:20260113T052858Z
UID:10002871-1768291200-1768294800@polarridgeseniorliving.com
SUMMARY:Breakfast
DESCRIPTION:
URL:https://polarridgeseniorliving.com/event-calendar/breakfast-44/
LOCATION:Legacy Court
CATEGORIES:Memory Care
END:VEVENT
BEGIN:VEVENT
DTSTART;TZID=America/Chicago:20260112T173000
DTEND;TZID=America/Chicago:20260112T183000
DTSTAMP:20260421T153415
CREATED:20251215T022942Z
LAST-MODIFIED:20260112T051359Z
UID:10002868-1768239000-1768242600@polarridgeseniorliving.com
SUMMARY:Puzzles
DESCRIPTION:
URL:https://polarridgeseniorliving.com/event-calendar/puzzles-7/
LOCATION:Legacy Court
CATEGORIES:Memory Care
END:VEVENT
BEGIN:VEVENT
DTSTART;TZID=America/Chicago:20260112T163000
DTEND;TZID=America/Chicago:20260112T173000
DTSTAMP:20260421T153415
CREATED:20251215T022942Z
LAST-MODIFIED:20260112T051359Z
UID:10002867-1768235400-1768239000@polarridgeseniorliving.com
SUMMARY:Dinner
DESCRIPTION:
URL:https://polarridgeseniorliving.com/event-calendar/dinner-42/
LOCATION:Legacy Court
CATEGORIES:Memory Care
END:VEVENT
BEGIN:VEVENT
DTSTART;TZID=America/Chicago:20260112T113000
DTEND;TZID=America/Chicago:20260112T123000
DTSTAMP:20260421T153415
CREATED:20251214T022922Z
LAST-MODIFIED:20260112T051359Z
UID:10002854-1768217400-1768221000@polarridgeseniorliving.com
SUMMARY:Lunch
DESCRIPTION:
URL:https://polarridgeseniorliving.com/event-calendar/lunch-43/
LOCATION:Legacy Court
CATEGORIES:Memory Care
END:VEVENT
BEGIN:VEVENT
DTSTART;TZID=America/Chicago:20260112T090000
DTEND;TZID=America/Chicago:20260112T100000
DTSTAMP:20260421T153415
CREATED:20251214T022922Z
LAST-MODIFIED:20260112T051358Z
UID:10002853-1768208400-1768212000@polarridgeseniorliving.com
SUMMARY:Morning 1:1 Visits
DESCRIPTION:
URL:https://polarridgeseniorliving.com/event-calendar/morning-11-visits-43/
LOCATION:Legacy Court
CATEGORIES:Memory Care
END:VEVENT
BEGIN:VEVENT
DTSTART;TZID=America/Chicago:20260112T080000
DTEND;TZID=America/Chicago:20260112T090000
DTSTAMP:20260421T153415
CREATED:20251214T022922Z
LAST-MODIFIED:20260112T051358Z
UID:10002852-1768204800-1768208400@polarridgeseniorliving.com
SUMMARY:Breakfast
DESCRIPTION:
URL:https://polarridgeseniorliving.com/event-calendar/breakfast-43/
LOCATION:Legacy Court
CATEGORIES:Memory Care
END:VEVENT
BEGIN:VEVENT
DTSTART;TZID=America/Chicago:20260111T163000
DTEND;TZID=America/Chicago:20260111T173000
DTSTAMP:20260421T153415
CREATED:20251214T022922Z
LAST-MODIFIED:20260111T045923Z
UID:10002850-1768149000-1768152600@polarridgeseniorliving.com
SUMMARY:Dinner
DESCRIPTION:
URL:https://polarridgeseniorliving.com/event-calendar/dinner-41/
LOCATION:Legacy Court
CATEGORIES:Memory Care
END:VEVENT
BEGIN:VEVENT
DTSTART;TZID=America/Chicago:20260111T113000
DTEND;TZID=America/Chicago:20260111T123000
DTSTAMP:20260421T153415
CREATED:20251214T022922Z
LAST-MODIFIED:20260111T045923Z
UID:10002849-1768131000-1768134600@polarridgeseniorliving.com
SUMMARY:Lunch
DESCRIPTION:
URL:https://polarridgeseniorliving.com/event-calendar/lunch-42/
LOCATION:Legacy Court
CATEGORIES:Memory Care
END:VEVENT
BEGIN:VEVENT
DTSTART;TZID=America/Chicago:20260111T090000
DTEND;TZID=America/Chicago:20260111T100000
DTSTAMP:20260421T153415
CREATED:20251214T022922Z
LAST-MODIFIED:20260111T045923Z
UID:10002847-1768122000-1768125600@polarridgeseniorliving.com
SUMMARY:Morning 1:1 Visits
DESCRIPTION:
URL:https://polarridgeseniorliving.com/event-calendar/morning-11-visits-42/
LOCATION:Legacy Court
CATEGORIES:Memory Care
END:VEVENT
BEGIN:VEVENT
DTSTART;TZID=America/Chicago:20260111T080000
DTEND;TZID=America/Chicago:20260111T090000
DTSTAMP:20260421T153415
CREATED:20251213T021414Z
LAST-MODIFIED:20260111T045923Z
UID:10002840-1768118400-1768122000@polarridgeseniorliving.com
SUMMARY:Breakfast
DESCRIPTION:
URL:https://polarridgeseniorliving.com/event-calendar/breakfast-42/
LOCATION:Legacy Court
CATEGORIES:Memory Care
END:VEVENT
BEGIN:VEVENT
DTSTART;TZID=America/Chicago:20260110T163000
DTEND;TZID=America/Chicago:20260110T173000
DTSTAMP:20260421T153415
CREATED:20251213T021414Z
LAST-MODIFIED:20260110T045858Z
UID:10002838-1768062600-1768066200@polarridgeseniorliving.com
SUMMARY:Dinner
DESCRIPTION:
URL:https://polarridgeseniorliving.com/event-calendar/dinner-40/
LOCATION:Legacy Court
CATEGORIES:Memory Care
END:VEVENT
BEGIN:VEVENT
DTSTART;TZID=America/Chicago:20260110T150000
DTEND;TZID=America/Chicago:20260110T160000
DTSTAMP:20260421T153415
CREATED:20251213T021414Z
LAST-MODIFIED:20260110T045858Z
UID:10002835-1768057200-1768060800@polarridgeseniorliving.com
SUMMARY:Storytelling
DESCRIPTION:
URL:https://polarridgeseniorliving.com/event-calendar/storytelling-6/
LOCATION:Legacy Court
CATEGORIES:Memory Care
END:VEVENT
BEGIN:VEVENT
DTSTART;TZID=America/Chicago:20260110T140000
DTEND;TZID=America/Chicago:20260110T150000
DTSTAMP:20260421T153415
CREATED:20251213T021414Z
LAST-MODIFIED:20260110T045858Z
UID:10002836-1768053600-1768057200@polarridgeseniorliving.com
SUMMARY:Word Games
DESCRIPTION:
URL:https://polarridgeseniorliving.com/event-calendar/word-games-39/
LOCATION:Legacy Court
CATEGORIES:Memory Care
END:VEVENT
BEGIN:VEVENT
DTSTART;TZID=America/Chicago:20260110T113000
DTEND;TZID=America/Chicago:20260110T123000
DTSTAMP:20260421T153415
CREATED:20251213T021414Z
LAST-MODIFIED:20260110T045858Z
UID:10002834-1768044600-1768048200@polarridgeseniorliving.com
SUMMARY:Lunch
DESCRIPTION:
URL:https://polarridgeseniorliving.com/event-calendar/lunch-41/
LOCATION:Legacy Court
CATEGORIES:Memory Care
END:VEVENT
BEGIN:VEVENT
DTSTART;TZID=America/Chicago:20260110T090000
DTEND;TZID=America/Chicago:20260110T100000
DTSTAMP:20260421T153415
CREATED:20251213T021414Z
LAST-MODIFIED:20260110T045858Z
UID:10002832-1768035600-1768039200@polarridgeseniorliving.com
SUMMARY:Morning 1:1 Visits
DESCRIPTION:
URL:https://polarridgeseniorliving.com/event-calendar/morning-11-visits-41/
LOCATION:Legacy Court
CATEGORIES:Memory Care
END:VEVENT
BEGIN:VEVENT
DTSTART;TZID=America/Chicago:20260110T080000
DTEND;TZID=America/Chicago:20260110T090000
DTSTAMP:20260421T153415
CREATED:20251213T021413Z
LAST-MODIFIED:20260110T045857Z
UID:10002831-1768032000-1768035600@polarridgeseniorliving.com
SUMMARY:Breakfast
DESCRIPTION:
URL:https://polarridgeseniorliving.com/event-calendar/breakfast-41/
LOCATION:Legacy Court
CATEGORIES:Memory Care
END:VEVENT
BEGIN:VEVENT
DTSTART;TZID=America/Chicago:20260109T163000
DTEND;TZID=America/Chicago:20260109T173000
DTSTAMP:20260421T153415
CREATED:20251212T021412Z
LAST-MODIFIED:20260109T045856Z
UID:10002826-1767976200-1767979800@polarridgeseniorliving.com
SUMMARY:Dinner
DESCRIPTION:
URL:https://polarridgeseniorliving.com/event-calendar/dinner-39/
LOCATION:Legacy Court
CATEGORIES:Memory Care
END:VEVENT
BEGIN:VEVENT
DTSTART;TZID=America/Chicago:20260109T113000
DTEND;TZID=America/Chicago:20260109T123000
DTSTAMP:20260421T153415
CREATED:20251212T021412Z
LAST-MODIFIED:20260109T045856Z
UID:10002823-1767958200-1767961800@polarridgeseniorliving.com
SUMMARY:Lunch
DESCRIPTION:
URL:https://polarridgeseniorliving.com/event-calendar/lunch-40/
LOCATION:Legacy Court
CATEGORIES:Memory Care
END:VEVENT
BEGIN:VEVENT
DTSTART;TZID=America/Chicago:20260109T090000
DTEND;TZID=America/Chicago:20260109T100000
DTSTAMP:20260421T153415
CREATED:20251212T021412Z
LAST-MODIFIED:20260109T045856Z
UID:10002821-1767949200-1767952800@polarridgeseniorliving.com
SUMMARY:Morning 1:1 Visits
DESCRIPTION:
URL:https://polarridgeseniorliving.com/event-calendar/morning-11-visits-40/
LOCATION:Legacy Court
CATEGORIES:Memory Care
END:VEVENT
BEGIN:VEVENT
DTSTART;TZID=America/Chicago:20260109T080000
DTEND;TZID=America/Chicago:20260109T090000
DTSTAMP:20260421T153415
CREATED:20251212T021412Z
LAST-MODIFIED:20260109T045856Z
UID:10002820-1767945600-1767949200@polarridgeseniorliving.com
SUMMARY:Breakfast
DESCRIPTION:
URL:https://polarridgeseniorliving.com/event-calendar/breakfast-40/
LOCATION:Legacy Court
CATEGORIES:Memory Care
END:VEVENT
BEGIN:VEVENT
DTSTART;TZID=America/Chicago:20260108T163000
DTEND;TZID=America/Chicago:20260108T173000
DTSTAMP:20260421T153415
CREATED:20251212T021412Z
LAST-MODIFIED:20260108T044358Z
UID:10002817-1767889800-1767893400@polarridgeseniorliving.com
SUMMARY:Dinner
DESCRIPTION:
URL:https://polarridgeseniorliving.com/event-calendar/dinner-38/
LOCATION:Legacy Court
CATEGORIES:Memory Care
END:VEVENT
BEGIN:VEVENT
DTSTART;TZID=America/Chicago:20260108T140000
DTEND;TZID=America/Chicago:20260108T150000
DTSTAMP:20260421T153415
CREATED:20251212T021412Z
LAST-MODIFIED:20260108T044357Z
UID:10002815-1767880800-1767884400@polarridgeseniorliving.com
SUMMARY:Afternoon Snack
DESCRIPTION:
URL:https://polarridgeseniorliving.com/event-calendar/afternoon-snack-18/
LOCATION:Legacy Court
CATEGORIES:Memory Care
END:VEVENT
END:VCALENDAR