BEGIN:VCALENDAR
VERSION:2.0
PRODID:-//Polar Ridge Senior Living - ECPv6.11.2.1//NONSGML v1.0//EN
CALSCALE:GREGORIAN
METHOD:PUBLISH
X-WR-CALNAME:Polar Ridge Senior Living
X-ORIGINAL-URL:https://polarridgeseniorliving.com
X-WR-CALDESC:Events for Polar Ridge Senior Living
REFRESH-INTERVAL;VALUE=DURATION:PT1H
X-Robots-Tag:noindex
X-PUBLISHED-TTL:PT1H
BEGIN:VTIMEZONE
TZID:America/Chicago
BEGIN:DAYLIGHT
TZOFFSETFROM:-0600
TZOFFSETTO:-0500
TZNAME:CDT
DTSTART:20250309T080000
END:DAYLIGHT
BEGIN:STANDARD
TZOFFSETFROM:-0500
TZOFFSETTO:-0600
TZNAME:CST
DTSTART:20251102T070000
END:STANDARD
BEGIN:DAYLIGHT
TZOFFSETFROM:-0600
TZOFFSETTO:-0500
TZNAME:CDT
DTSTART:20260308T080000
END:DAYLIGHT
BEGIN:STANDARD
TZOFFSETFROM:-0500
TZOFFSETTO:-0600
TZNAME:CST
DTSTART:20261101T070000
END:STANDARD
END:VTIMEZONE
BEGIN:VEVENT
DTSTART;TZID=America/Chicago:20260106T163000
DTEND;TZID=America/Chicago:20260106T173000
DTSTAMP:20260421T220932
CREATED:20251210T014408Z
LAST-MODIFIED:20260106T044406Z
UID:10002789-1767717000-1767720600@polarridgeseniorliving.com
SUMMARY:Dinner
DESCRIPTION:
URL:https://polarridgeseniorliving.com/event-calendar/dinner-36/
LOCATION:Legacy Court
CATEGORIES:Memory Care
END:VEVENT
BEGIN:VEVENT
DTSTART;TZID=America/Chicago:20260106T140000
DTEND;TZID=America/Chicago:20260106T150000
DTSTAMP:20260421T220932
CREATED:20251210T014408Z
LAST-MODIFIED:20260106T044406Z
UID:10002787-1767708000-1767711600@polarridgeseniorliving.com
SUMMARY:Afternoon Snack
DESCRIPTION:
URL:https://polarridgeseniorliving.com/event-calendar/afternoon-snack-16/
LOCATION:Legacy Court
CATEGORIES:Memory Care
END:VEVENT
BEGIN:VEVENT
DTSTART;TZID=America/Chicago:20260106T113000
DTEND;TZID=America/Chicago:20260106T123000
DTSTAMP:20260421T220932
CREATED:20251210T014408Z
LAST-MODIFIED:20260106T044406Z
UID:10002785-1767699000-1767702600@polarridgeseniorliving.com
SUMMARY:Lunch
DESCRIPTION:
URL:https://polarridgeseniorliving.com/event-calendar/lunch-37/
LOCATION:Legacy Court
CATEGORIES:Memory Care
END:VEVENT
BEGIN:VEVENT
DTSTART;TZID=America/Chicago:20260106T090000
DTEND;TZID=America/Chicago:20260106T100000
DTSTAMP:20260421T220932
CREATED:20251210T014407Z
LAST-MODIFIED:20260106T044406Z
UID:10002783-1767690000-1767693600@polarridgeseniorliving.com
SUMMARY:Morning 1:1 Visits
DESCRIPTION:
URL:https://polarridgeseniorliving.com/event-calendar/morning-11-visits-37/
LOCATION:Legacy Court
CATEGORIES:Memory Care
END:VEVENT
BEGIN:VEVENT
DTSTART;TZID=America/Chicago:20260106T080000
DTEND;TZID=America/Chicago:20260106T090000
DTSTAMP:20260421T220932
CREATED:20251209T014417Z
LAST-MODIFIED:20260106T044406Z
UID:10002776-1767686400-1767690000@polarridgeseniorliving.com
SUMMARY:Breakfast
DESCRIPTION:
URL:https://polarridgeseniorliving.com/event-calendar/breakfast-37/
LOCATION:Legacy Court
CATEGORIES:Memory Care
END:VEVENT
BEGIN:VEVENT
DTSTART;TZID=America/Chicago:20260105T173000
DTEND;TZID=America/Chicago:20260105T183000
DTSTAMP:20260421T220932
CREATED:20251209T014417Z
LAST-MODIFIED:20260105T044407Z
UID:10002774-1767634200-1767637800@polarridgeseniorliving.com
SUMMARY:Puzzles
DESCRIPTION:
URL:https://polarridgeseniorliving.com/event-calendar/puzzles-6/
LOCATION:Legacy Court
CATEGORIES:Memory Care
END:VEVENT
BEGIN:VEVENT
DTSTART;TZID=America/Chicago:20260105T163000
DTEND;TZID=America/Chicago:20260105T173000
DTSTAMP:20260421T220932
CREATED:20251209T014417Z
LAST-MODIFIED:20260105T044407Z
UID:10002773-1767630600-1767634200@polarridgeseniorliving.com
SUMMARY:Dinner
DESCRIPTION:
URL:https://polarridgeseniorliving.com/event-calendar/dinner-35/
LOCATION:Legacy Court
CATEGORIES:Memory Care
END:VEVENT
BEGIN:VEVENT
DTSTART;TZID=America/Chicago:20260105T113000
DTEND;TZID=America/Chicago:20260105T123000
DTSTAMP:20260421T220932
CREATED:20251209T014417Z
LAST-MODIFIED:20260105T044356Z
UID:10002768-1767612600-1767616200@polarridgeseniorliving.com
SUMMARY:Lunch
DESCRIPTION:
URL:https://polarridgeseniorliving.com/event-calendar/lunch-36/
LOCATION:Legacy Court
CATEGORIES:Memory Care
END:VEVENT
BEGIN:VEVENT
DTSTART;TZID=America/Chicago:20260105T090000
DTEND;TZID=America/Chicago:20260105T100000
DTSTAMP:20260421T220932
CREATED:20251208T014406Z
LAST-MODIFIED:20260105T044356Z
UID:10002760-1767603600-1767607200@polarridgeseniorliving.com
SUMMARY:Morning 1:1 Visits
DESCRIPTION:
URL:https://polarridgeseniorliving.com/event-calendar/morning-11-visits-36/
LOCATION:Legacy Court
CATEGORIES:Memory Care
END:VEVENT
BEGIN:VEVENT
DTSTART;TZID=America/Chicago:20260105T080000
DTEND;TZID=America/Chicago:20260105T090000
DTSTAMP:20260421T220932
CREATED:20251208T014406Z
LAST-MODIFIED:20260105T044355Z
UID:10002759-1767600000-1767603600@polarridgeseniorliving.com
SUMMARY:Breakfast
DESCRIPTION:
URL:https://polarridgeseniorliving.com/event-calendar/breakfast-36/
LOCATION:Legacy Court
CATEGORIES:Memory Care
END:VEVENT
BEGIN:VEVENT
DTSTART;TZID=America/Chicago:20260104T163000
DTEND;TZID=America/Chicago:20260104T173000
DTSTAMP:20260421T220932
CREATED:20251208T014406Z
LAST-MODIFIED:20260104T044357Z
UID:10002757-1767544200-1767547800@polarridgeseniorliving.com
SUMMARY:Dinner
DESCRIPTION:
URL:https://polarridgeseniorliving.com/event-calendar/dinner-34/
LOCATION:Legacy Court
CATEGORIES:Memory Care
END:VEVENT
BEGIN:VEVENT
DTSTART;TZID=America/Chicago:20260104T113000
DTEND;TZID=America/Chicago:20260104T123000
DTSTAMP:20260421T220932
CREATED:20251208T014406Z
LAST-MODIFIED:20260104T044357Z
UID:10002756-1767526200-1767529800@polarridgeseniorliving.com
SUMMARY:Lunch
DESCRIPTION:
URL:https://polarridgeseniorliving.com/event-calendar/lunch-35/
LOCATION:Legacy Court
CATEGORIES:Memory Care
END:VEVENT
BEGIN:VEVENT
DTSTART;TZID=America/Chicago:20260104T090000
DTEND;TZID=America/Chicago:20260104T100000
DTSTAMP:20260421T220932
CREATED:20251208T014406Z
LAST-MODIFIED:20260104T044356Z
UID:10002754-1767517200-1767520800@polarridgeseniorliving.com
SUMMARY:Morning 1:1 Visits
DESCRIPTION:
URL:https://polarridgeseniorliving.com/event-calendar/morning-11-visits-35/
LOCATION:Legacy Court
CATEGORIES:Memory Care
END:VEVENT
BEGIN:VEVENT
DTSTART;TZID=America/Chicago:20260104T080000
DTEND;TZID=America/Chicago:20260104T090000
DTSTAMP:20260421T220932
CREATED:20251207T012908Z
LAST-MODIFIED:20260104T044356Z
UID:10002746-1767513600-1767517200@polarridgeseniorliving.com
SUMMARY:Breakfast
DESCRIPTION:
URL:https://polarridgeseniorliving.com/event-calendar/breakfast-35/
LOCATION:Legacy Court
CATEGORIES:Memory Care
END:VEVENT
BEGIN:VEVENT
DTSTART;TZID=America/Chicago:20260103T163000
DTEND;TZID=America/Chicago:20260103T173000
DTSTAMP:20260421T220932
CREATED:20251207T012908Z
LAST-MODIFIED:20260103T044356Z
UID:10002744-1767457800-1767461400@polarridgeseniorliving.com
SUMMARY:Dinner
DESCRIPTION:
URL:https://polarridgeseniorliving.com/event-calendar/dinner-33/
LOCATION:Legacy Court
CATEGORIES:Memory Care
END:VEVENT
BEGIN:VEVENT
DTSTART;TZID=America/Chicago:20260103T150000
DTEND;TZID=America/Chicago:20260103T160000
DTSTAMP:20260421T220932
CREATED:20251207T012908Z
LAST-MODIFIED:20260103T044356Z
UID:10002743-1767452400-1767456000@polarridgeseniorliving.com
SUMMARY:Storytelling
DESCRIPTION:
URL:https://polarridgeseniorliving.com/event-calendar/storytelling-5/
LOCATION:Legacy Court
CATEGORIES:Memory Care
END:VEVENT
BEGIN:VEVENT
DTSTART;TZID=America/Chicago:20260103T140000
DTEND;TZID=America/Chicago:20260103T150000
DTSTAMP:20260421T220932
CREATED:20251207T012908Z
LAST-MODIFIED:20260103T044356Z
UID:10002742-1767448800-1767452400@polarridgeseniorliving.com
SUMMARY:Word Games
DESCRIPTION:
URL:https://polarridgeseniorliving.com/event-calendar/word-games-37/
LOCATION:Legacy Court
CATEGORIES:Memory Care
END:VEVENT
BEGIN:VEVENT
DTSTART;TZID=America/Chicago:20260103T113000
DTEND;TZID=America/Chicago:20260103T123000
DTSTAMP:20260421T220932
CREATED:20251207T012907Z
LAST-MODIFIED:20260103T044356Z
UID:10002740-1767439800-1767443400@polarridgeseniorliving.com
SUMMARY:Lunch
DESCRIPTION:
URL:https://polarridgeseniorliving.com/event-calendar/lunch-34/
LOCATION:Legacy Court
CATEGORIES:Memory Care
END:VEVENT
BEGIN:VEVENT
DTSTART;TZID=America/Chicago:20260103T090000
DTEND;TZID=America/Chicago:20260103T100000
DTSTAMP:20260421T220932
CREATED:20251207T012907Z
LAST-MODIFIED:20260103T044356Z
UID:10002738-1767430800-1767434400@polarridgeseniorliving.com
SUMMARY:Morning 1:1 Visits
DESCRIPTION:
URL:https://polarridgeseniorliving.com/event-calendar/morning-11-visits-34/
LOCATION:Legacy Court
CATEGORIES:Memory Care
END:VEVENT
BEGIN:VEVENT
DTSTART;TZID=America/Chicago:20260103T080000
DTEND;TZID=America/Chicago:20260103T090000
DTSTAMP:20260421T220932
CREATED:20251207T012907Z
LAST-MODIFIED:20260103T044355Z
UID:10002737-1767427200-1767430800@polarridgeseniorliving.com
SUMMARY:Breakfast
DESCRIPTION:
URL:https://polarridgeseniorliving.com/event-calendar/breakfast-34/
LOCATION:Legacy Court
CATEGORIES:Memory Care
END:VEVENT
BEGIN:VEVENT
DTSTART;TZID=America/Chicago:20260102T163000
DTEND;TZID=America/Chicago:20260102T173000
DTSTAMP:20260421T220932
CREATED:20251206T012936Z
LAST-MODIFIED:20260102T044357Z
UID:10002728-1767371400-1767375000@polarridgeseniorliving.com
SUMMARY:Dinner
DESCRIPTION:
URL:https://polarridgeseniorliving.com/event-calendar/dinner-32/
LOCATION:Legacy Court
CATEGORIES:Memory Care
END:VEVENT
BEGIN:VEVENT
DTSTART;TZID=America/Chicago:20260102T113000
DTEND;TZID=America/Chicago:20260102T123000
DTSTAMP:20260421T220932
CREATED:20251206T012936Z
LAST-MODIFIED:20260102T044356Z
UID:10002725-1767353400-1767357000@polarridgeseniorliving.com
SUMMARY:Lunch
DESCRIPTION:
URL:https://polarridgeseniorliving.com/event-calendar/lunch-33/
LOCATION:Legacy Court
CATEGORIES:Memory Care
END:VEVENT
BEGIN:VEVENT
DTSTART;TZID=America/Chicago:20260102T090000
DTEND;TZID=America/Chicago:20260102T100000
DTSTAMP:20260421T220932
CREATED:20251206T012936Z
LAST-MODIFIED:20260102T044356Z
UID:10002723-1767344400-1767348000@polarridgeseniorliving.com
SUMMARY:Morning 1:1 Visits
DESCRIPTION:
URL:https://polarridgeseniorliving.com/event-calendar/morning-11-visits-33/
LOCATION:Legacy Court
CATEGORIES:Memory Care
END:VEVENT
BEGIN:VEVENT
DTSTART;TZID=America/Chicago:20260102T080000
DTEND;TZID=America/Chicago:20260102T090000
DTSTAMP:20260421T220932
CREATED:20251206T012936Z
LAST-MODIFIED:20260102T044356Z
UID:10002722-1767340800-1767344400@polarridgeseniorliving.com
SUMMARY:Breakfast
DESCRIPTION:
URL:https://polarridgeseniorliving.com/event-calendar/breakfast-33/
LOCATION:Legacy Court
CATEGORIES:Memory Care
END:VEVENT
BEGIN:VEVENT
DTSTART;TZID=America/Chicago:20260101T163000
DTEND;TZID=America/Chicago:20260101T173000
DTSTAMP:20260421T220932
CREATED:20251206T012935Z
LAST-MODIFIED:20260101T042900Z
UID:10002720-1767285000-1767288600@polarridgeseniorliving.com
SUMMARY:Dinner
DESCRIPTION:
URL:https://polarridgeseniorliving.com/event-calendar/dinner-31/
LOCATION:Legacy Court
CATEGORIES:Memory Care
END:VEVENT
BEGIN:VEVENT
DTSTART;TZID=America/Chicago:20260101T140000
DTEND;TZID=America/Chicago:20260101T150000
DTSTAMP:20260421T220932
CREATED:20251205T011415Z
LAST-MODIFIED:20260101T042900Z
UID:10002715-1767276000-1767279600@polarridgeseniorliving.com
SUMMARY:Afternoon Snack
DESCRIPTION:
URL:https://polarridgeseniorliving.com/event-calendar/afternoon-snack-15/
LOCATION:Legacy Court
CATEGORIES:Memory Care
END:VEVENT
BEGIN:VEVENT
DTSTART;TZID=America/Chicago:20260101T113000
DTEND;TZID=America/Chicago:20260101T123000
DTSTAMP:20260421T220932
CREATED:20251205T011415Z
LAST-MODIFIED:20260101T042900Z
UID:10002713-1767267000-1767270600@polarridgeseniorliving.com
SUMMARY:Lunch
DESCRIPTION:
URL:https://polarridgeseniorliving.com/event-calendar/lunch-32/
LOCATION:Legacy Court
CATEGORIES:Memory Care
END:VEVENT
BEGIN:VEVENT
DTSTART;TZID=America/Chicago:20260101T090000
DTEND;TZID=America/Chicago:20260101T100000
DTSTAMP:20260421T220932
CREATED:20251205T011415Z
LAST-MODIFIED:20260101T042900Z
UID:10002711-1767258000-1767261600@polarridgeseniorliving.com
SUMMARY:Morning 1:1 Visits
DESCRIPTION:
URL:https://polarridgeseniorliving.com/event-calendar/morning-11-visits-32/
LOCATION:Legacy Court
CATEGORIES:Memory Care
END:VEVENT
BEGIN:VEVENT
DTSTART;TZID=America/Chicago:20260101T080000
DTEND;TZID=America/Chicago:20260101T090000
DTSTAMP:20260421T220932
CREATED:20251205T011415Z
LAST-MODIFIED:20260101T042859Z
UID:10002710-1767254400-1767258000@polarridgeseniorliving.com
SUMMARY:Breakfast
DESCRIPTION:
URL:https://polarridgeseniorliving.com/event-calendar/breakfast-32/
LOCATION:Legacy Court
CATEGORIES:Memory Care
END:VEVENT
BEGIN:VEVENT
DTSTART;TZID=America/Chicago:20251231T163000
DTEND;TZID=America/Chicago:20251231T173000
DTSTAMP:20260421T220932
CREATED:20251205T011414Z
LAST-MODIFIED:20251231T041430Z
UID:10002708-1767198600-1767202200@polarridgeseniorliving.com
SUMMARY:Dinner
DESCRIPTION:
URL:https://polarridgeseniorliving.com/event-calendar/dinner-30/
LOCATION:Legacy Court
CATEGORIES:Memory Care
END:VEVENT
END:VCALENDAR