BEGIN:VCALENDAR
VERSION:2.0
PRODID:-//Polar Ridge Senior Living - ECPv6.11.2.1//NONSGML v1.0//EN
CALSCALE:GREGORIAN
METHOD:PUBLISH
X-WR-CALNAME:Polar Ridge Senior Living
X-ORIGINAL-URL:https://polarridgeseniorliving.com
X-WR-CALDESC:Events for Polar Ridge Senior Living
REFRESH-INTERVAL;VALUE=DURATION:PT1H
X-Robots-Tag:noindex
X-PUBLISHED-TTL:PT1H
BEGIN:VTIMEZONE
TZID:America/Chicago
BEGIN:DAYLIGHT
TZOFFSETFROM:-0600
TZOFFSETTO:-0500
TZNAME:CDT
DTSTART:20250309T080000
END:DAYLIGHT
BEGIN:STANDARD
TZOFFSETFROM:-0500
TZOFFSETTO:-0600
TZNAME:CST
DTSTART:20251102T070000
END:STANDARD
BEGIN:DAYLIGHT
TZOFFSETFROM:-0600
TZOFFSETTO:-0500
TZNAME:CDT
DTSTART:20260308T080000
END:DAYLIGHT
BEGIN:STANDARD
TZOFFSETFROM:-0500
TZOFFSETTO:-0600
TZNAME:CST
DTSTART:20261101T070000
END:STANDARD
END:VTIMEZONE
BEGIN:VEVENT
DTSTART;TZID=America/Chicago:20260102T163000
DTEND;TZID=America/Chicago:20260102T173000
DTSTAMP:20260422T015940
CREATED:20251206T012936Z
LAST-MODIFIED:20260102T044357Z
UID:10002728-1767371400-1767375000@polarridgeseniorliving.com
SUMMARY:Dinner
DESCRIPTION:
URL:https://polarridgeseniorliving.com/event-calendar/dinner-32/
LOCATION:Legacy Court
CATEGORIES:Memory Care
END:VEVENT
BEGIN:VEVENT
DTSTART;TZID=America/Chicago:20260102T113000
DTEND;TZID=America/Chicago:20260102T123000
DTSTAMP:20260422T015940
CREATED:20251206T012936Z
LAST-MODIFIED:20260102T044356Z
UID:10002725-1767353400-1767357000@polarridgeseniorliving.com
SUMMARY:Lunch
DESCRIPTION:
URL:https://polarridgeseniorliving.com/event-calendar/lunch-33/
LOCATION:Legacy Court
CATEGORIES:Memory Care
END:VEVENT
BEGIN:VEVENT
DTSTART;TZID=America/Chicago:20260102T090000
DTEND;TZID=America/Chicago:20260102T100000
DTSTAMP:20260422T015940
CREATED:20251206T012936Z
LAST-MODIFIED:20260102T044356Z
UID:10002723-1767344400-1767348000@polarridgeseniorliving.com
SUMMARY:Morning 1:1 Visits
DESCRIPTION:
URL:https://polarridgeseniorliving.com/event-calendar/morning-11-visits-33/
LOCATION:Legacy Court
CATEGORIES:Memory Care
END:VEVENT
BEGIN:VEVENT
DTSTART;TZID=America/Chicago:20260102T080000
DTEND;TZID=America/Chicago:20260102T090000
DTSTAMP:20260422T015940
CREATED:20251206T012936Z
LAST-MODIFIED:20260102T044356Z
UID:10002722-1767340800-1767344400@polarridgeseniorliving.com
SUMMARY:Breakfast
DESCRIPTION:
URL:https://polarridgeseniorliving.com/event-calendar/breakfast-33/
LOCATION:Legacy Court
CATEGORIES:Memory Care
END:VEVENT
BEGIN:VEVENT
DTSTART;TZID=America/Chicago:20260101T163000
DTEND;TZID=America/Chicago:20260101T173000
DTSTAMP:20260422T015940
CREATED:20251206T012935Z
LAST-MODIFIED:20260101T042900Z
UID:10002720-1767285000-1767288600@polarridgeseniorliving.com
SUMMARY:Dinner
DESCRIPTION:
URL:https://polarridgeseniorliving.com/event-calendar/dinner-31/
LOCATION:Legacy Court
CATEGORIES:Memory Care
END:VEVENT
BEGIN:VEVENT
DTSTART;TZID=America/Chicago:20260101T140000
DTEND;TZID=America/Chicago:20260101T150000
DTSTAMP:20260422T015940
CREATED:20251205T011415Z
LAST-MODIFIED:20260101T042900Z
UID:10002715-1767276000-1767279600@polarridgeseniorliving.com
SUMMARY:Afternoon Snack
DESCRIPTION:
URL:https://polarridgeseniorliving.com/event-calendar/afternoon-snack-15/
LOCATION:Legacy Court
CATEGORIES:Memory Care
END:VEVENT
BEGIN:VEVENT
DTSTART;TZID=America/Chicago:20260101T113000
DTEND;TZID=America/Chicago:20260101T123000
DTSTAMP:20260422T015940
CREATED:20251205T011415Z
LAST-MODIFIED:20260101T042900Z
UID:10002713-1767267000-1767270600@polarridgeseniorliving.com
SUMMARY:Lunch
DESCRIPTION:
URL:https://polarridgeseniorliving.com/event-calendar/lunch-32/
LOCATION:Legacy Court
CATEGORIES:Memory Care
END:VEVENT
BEGIN:VEVENT
DTSTART;TZID=America/Chicago:20260101T090000
DTEND;TZID=America/Chicago:20260101T100000
DTSTAMP:20260422T015940
CREATED:20251205T011415Z
LAST-MODIFIED:20260101T042900Z
UID:10002711-1767258000-1767261600@polarridgeseniorliving.com
SUMMARY:Morning 1:1 Visits
DESCRIPTION:
URL:https://polarridgeseniorliving.com/event-calendar/morning-11-visits-32/
LOCATION:Legacy Court
CATEGORIES:Memory Care
END:VEVENT
BEGIN:VEVENT
DTSTART;TZID=America/Chicago:20260101T080000
DTEND;TZID=America/Chicago:20260101T090000
DTSTAMP:20260422T015940
CREATED:20251205T011415Z
LAST-MODIFIED:20260101T042859Z
UID:10002710-1767254400-1767258000@polarridgeseniorliving.com
SUMMARY:Breakfast
DESCRIPTION:
URL:https://polarridgeseniorliving.com/event-calendar/breakfast-32/
LOCATION:Legacy Court
CATEGORIES:Memory Care
END:VEVENT
BEGIN:VEVENT
DTSTART;TZID=America/Chicago:20251231T163000
DTEND;TZID=America/Chicago:20251231T173000
DTSTAMP:20260422T015940
CREATED:20251205T011414Z
LAST-MODIFIED:20251231T041430Z
UID:10002708-1767198600-1767202200@polarridgeseniorliving.com
SUMMARY:Dinner
DESCRIPTION:
URL:https://polarridgeseniorliving.com/event-calendar/dinner-30/
LOCATION:Legacy Court
CATEGORIES:Memory Care
END:VEVENT
BEGIN:VEVENT
DTSTART;TZID=America/Chicago:20251231T140000
DTEND;TZID=America/Chicago:20251231T150000
DTSTAMP:20260422T015940
CREATED:20251204T011436Z
LAST-MODIFIED:20251231T041430Z
UID:10002702-1767189600-1767193200@polarridgeseniorliving.com
SUMMARY:Afternoon Snack
DESCRIPTION:
URL:https://polarridgeseniorliving.com/event-calendar/afternoon-snack-14/
LOCATION:Legacy Court
CATEGORIES:Memory Care
END:VEVENT
BEGIN:VEVENT
DTSTART;TZID=America/Chicago:20251231T113000
DTEND;TZID=America/Chicago:20251231T123000
DTSTAMP:20260422T015940
CREATED:20251204T011436Z
LAST-MODIFIED:20251231T041430Z
UID:10002700-1767180600-1767184200@polarridgeseniorliving.com
SUMMARY:Lunch
DESCRIPTION:
URL:https://polarridgeseniorliving.com/event-calendar/lunch-31/
LOCATION:Legacy Court
CATEGORIES:Memory Care
END:VEVENT
BEGIN:VEVENT
DTSTART;TZID=America/Chicago:20251231T090000
DTEND;TZID=America/Chicago:20251231T100000
DTSTAMP:20260422T015940
CREATED:20251204T011435Z
LAST-MODIFIED:20251231T041430Z
UID:10002697-1767171600-1767175200@polarridgeseniorliving.com
SUMMARY:Morning 1:1 Visits
DESCRIPTION:
URL:https://polarridgeseniorliving.com/event-calendar/morning-11-visits-31/
LOCATION:Legacy Court
CATEGORIES:Memory Care
END:VEVENT
BEGIN:VEVENT
DTSTART;TZID=America/Chicago:20251231T080000
DTEND;TZID=America/Chicago:20251231T090000
DTSTAMP:20260422T015940
CREATED:20251204T011435Z
LAST-MODIFIED:20251231T041430Z
UID:10002696-1767168000-1767171600@polarridgeseniorliving.com
SUMMARY:Breakfast
DESCRIPTION:
URL:https://polarridgeseniorliving.com/event-calendar/breakfast-31/
LOCATION:Legacy Court
CATEGORIES:Memory Care
END:VEVENT
BEGIN:VEVENT
DTSTART;TZID=America/Chicago:20251230T163000
DTEND;TZID=America/Chicago:20251230T173000
DTSTAMP:20260422T015940
CREATED:20251204T011435Z
LAST-MODIFIED:20251230T041357Z
UID:10002693-1767112200-1767115800@polarridgeseniorliving.com
SUMMARY:Dinner
DESCRIPTION:
URL:https://polarridgeseniorliving.com/event-calendar/dinner-29/
LOCATION:Legacy Court
CATEGORIES:Memory Care
END:VEVENT
BEGIN:VEVENT
DTSTART;TZID=America/Chicago:20251230T140000
DTEND;TZID=America/Chicago:20251230T150000
DTSTAMP:20260422T015940
CREATED:20251203T005906Z
LAST-MODIFIED:20251230T041357Z
UID:10002686-1767103200-1767106800@polarridgeseniorliving.com
SUMMARY:Afternoon Snack
DESCRIPTION:
URL:https://polarridgeseniorliving.com/event-calendar/afternoon-snack-13/
LOCATION:Legacy Court
CATEGORIES:Memory Care
END:VEVENT
BEGIN:VEVENT
DTSTART;TZID=America/Chicago:20251230T113000
DTEND;TZID=America/Chicago:20251230T123000
DTSTAMP:20260422T015940
CREATED:20251203T005906Z
LAST-MODIFIED:20251230T041357Z
UID:10002684-1767094200-1767097800@polarridgeseniorliving.com
SUMMARY:Lunch
DESCRIPTION:
URL:https://polarridgeseniorliving.com/event-calendar/lunch-30/
LOCATION:Legacy Court
CATEGORIES:Memory Care
END:VEVENT
BEGIN:VEVENT
DTSTART;TZID=America/Chicago:20251230T090000
DTEND;TZID=America/Chicago:20251230T100000
DTSTAMP:20260422T015940
CREATED:20251203T005906Z
LAST-MODIFIED:20251230T041357Z
UID:10002681-1767085200-1767088800@polarridgeseniorliving.com
SUMMARY:Morning 1:1 Visits
DESCRIPTION:
URL:https://polarridgeseniorliving.com/event-calendar/morning-11-visits-30/
LOCATION:Legacy Court
CATEGORIES:Memory Care
END:VEVENT
BEGIN:VEVENT
DTSTART;TZID=America/Chicago:20251230T080000
DTEND;TZID=America/Chicago:20251230T090000
DTSTAMP:20260422T015940
CREATED:20251203T005906Z
LAST-MODIFIED:20251230T041357Z
UID:10002682-1767081600-1767085200@polarridgeseniorliving.com
SUMMARY:Breakfast
DESCRIPTION:
URL:https://polarridgeseniorliving.com/event-calendar/breakfast-30/
LOCATION:Legacy Court
CATEGORIES:Memory Care
END:VEVENT
BEGIN:VEVENT
DTSTART;TZID=America/Chicago:20251229T173000
DTEND;TZID=America/Chicago:20251229T183000
DTSTAMP:20260422T015940
CREATED:20251203T005906Z
LAST-MODIFIED:20251229T035911Z
UID:10002678-1767029400-1767033000@polarridgeseniorliving.com
SUMMARY:Puzzles
DESCRIPTION:
URL:https://polarridgeseniorliving.com/event-calendar/puzzles-5/
LOCATION:Legacy Court
CATEGORIES:Memory Care
END:VEVENT
BEGIN:VEVENT
DTSTART;TZID=America/Chicago:20251229T163000
DTEND;TZID=America/Chicago:20251229T173000
DTSTAMP:20260422T015940
CREATED:20251203T005906Z
LAST-MODIFIED:20251229T035900Z
UID:10002677-1767025800-1767029400@polarridgeseniorliving.com
SUMMARY:Dinner
DESCRIPTION:
URL:https://polarridgeseniorliving.com/event-calendar/dinner-28/
LOCATION:Legacy Court
CATEGORIES:Memory Care
END:VEVENT
BEGIN:VEVENT
DTSTART;TZID=America/Chicago:20251229T113000
DTEND;TZID=America/Chicago:20251229T123000
DTSTAMP:20260422T015940
CREATED:20251202T005906Z
LAST-MODIFIED:20251229T035859Z
UID:10002674-1767007800-1767011400@polarridgeseniorliving.com
SUMMARY:Lunch
DESCRIPTION:
URL:https://polarridgeseniorliving.com/event-calendar/lunch-29/
LOCATION:Legacy Court
CATEGORIES:Memory Care
END:VEVENT
BEGIN:VEVENT
DTSTART;TZID=America/Chicago:20251229T090000
DTEND;TZID=America/Chicago:20251229T100000
DTSTAMP:20260422T015940
CREATED:20251202T005906Z
LAST-MODIFIED:20251229T035859Z
UID:10002673-1766998800-1767002400@polarridgeseniorliving.com
SUMMARY:Morning 1:1 Visits
DESCRIPTION:
URL:https://polarridgeseniorliving.com/event-calendar/morning-11-visits-29/
LOCATION:Legacy Court
CATEGORIES:Memory Care
END:VEVENT
BEGIN:VEVENT
DTSTART;TZID=America/Chicago:20251229T080000
DTEND;TZID=America/Chicago:20251229T090000
DTSTAMP:20260422T015940
CREATED:20251202T005906Z
LAST-MODIFIED:20251229T035859Z
UID:10002672-1766995200-1766998800@polarridgeseniorliving.com
SUMMARY:Breakfast
DESCRIPTION:
URL:https://polarridgeseniorliving.com/event-calendar/breakfast-29/
LOCATION:Legacy Court
CATEGORIES:Memory Care
END:VEVENT
BEGIN:VEVENT
DTSTART;TZID=America/Chicago:20251228T163000
DTEND;TZID=America/Chicago:20251228T173000
DTSTAMP:20260422T015940
CREATED:20251202T005906Z
LAST-MODIFIED:20251228T035857Z
UID:10002670-1766939400-1766943000@polarridgeseniorliving.com
SUMMARY:Dinner
DESCRIPTION:
URL:https://polarridgeseniorliving.com/event-calendar/dinner-27/
LOCATION:Legacy Court
CATEGORIES:Memory Care
END:VEVENT
BEGIN:VEVENT
DTSTART;TZID=America/Chicago:20251228T113000
DTEND;TZID=America/Chicago:20251228T123000
DTSTAMP:20260422T015940
CREATED:20251202T005906Z
LAST-MODIFIED:20251228T035857Z
UID:10002669-1766921400-1766925000@polarridgeseniorliving.com
SUMMARY:Lunch
DESCRIPTION:
URL:https://polarridgeseniorliving.com/event-calendar/lunch-28/
LOCATION:Legacy Court
CATEGORIES:Memory Care
END:VEVENT
BEGIN:VEVENT
DTSTART;TZID=America/Chicago:20251228T090000
DTEND;TZID=America/Chicago:20251228T100000
DTSTAMP:20260422T015940
CREATED:20251202T005906Z
LAST-MODIFIED:20251228T035856Z
UID:10002667-1766912400-1766916000@polarridgeseniorliving.com
SUMMARY:Morning 1:1 Visits
DESCRIPTION:
URL:https://polarridgeseniorliving.com/event-calendar/morning-11-visits-28/
LOCATION:Legacy Court
CATEGORIES:Memory Care
END:VEVENT
BEGIN:VEVENT
DTSTART;TZID=America/Chicago:20251228T080000
DTEND;TZID=America/Chicago:20251228T090000
DTSTAMP:20260422T015940
CREATED:20251202T005906Z
LAST-MODIFIED:20251228T035856Z
UID:10002666-1766908800-1766912400@polarridgeseniorliving.com
SUMMARY:Breakfast
DESCRIPTION:
URL:https://polarridgeseniorliving.com/event-calendar/breakfast-28/
LOCATION:Legacy Court
CATEGORIES:Memory Care
END:VEVENT
BEGIN:VEVENT
DTSTART;TZID=America/Chicago:20251227T163000
DTEND;TZID=America/Chicago:20251227T173000
DTSTAMP:20260422T015940
CREATED:20251201T004408Z
LAST-MODIFIED:20251227T034418Z
UID:10002658-1766853000-1766856600@polarridgeseniorliving.com
SUMMARY:Dinner
DESCRIPTION:
URL:https://polarridgeseniorliving.com/event-calendar/dinner-26/
LOCATION:Legacy Court
CATEGORIES:Memory Care
END:VEVENT
BEGIN:VEVENT
DTSTART;TZID=America/Chicago:20251227T150000
DTEND;TZID=America/Chicago:20251227T160000
DTSTAMP:20260422T015940
CREATED:20251128T082910Z
LAST-MODIFIED:20251227T034418Z
UID:10002477-1766847600-1766851200@polarridgeseniorliving.com
SUMMARY:Storytelling
DESCRIPTION:
URL:https://polarridgeseniorliving.com/event-calendar/storytelling-4/
LOCATION:Legacy Court
CATEGORIES:Memory Care
END:VEVENT
END:VCALENDAR