BEGIN:VCALENDAR
VERSION:2.0
PRODID:-//Polar Ridge Senior Living - ECPv6.11.2.1//NONSGML v1.0//EN
CALSCALE:GREGORIAN
METHOD:PUBLISH
X-ORIGINAL-URL:https://polarridgeseniorliving.com
X-WR-CALDESC:Events for Polar Ridge Senior Living
REFRESH-INTERVAL;VALUE=DURATION:PT1H
X-Robots-Tag:noindex
X-PUBLISHED-TTL:PT1H
BEGIN:VTIMEZONE
TZID:America/Chicago
BEGIN:DAYLIGHT
TZOFFSETFROM:-0600
TZOFFSETTO:-0500
TZNAME:CDT
DTSTART:20250309T080000
END:DAYLIGHT
BEGIN:STANDARD
TZOFFSETFROM:-0500
TZOFFSETTO:-0600
TZNAME:CST
DTSTART:20251102T070000
END:STANDARD
END:VTIMEZONE
BEGIN:VEVENT
DTSTART;TZID=America/Chicago:20251227T140000
DTEND;TZID=America/Chicago:20251227T150000
DTSTAMP:20260422T063602
CREATED:20251128T082909Z
LAST-MODIFIED:20251227T034418Z
UID:10002476-1766844000-1766847600@polarridgeseniorliving.com
SUMMARY:Word Games
DESCRIPTION:
URL:https://polarridgeseniorliving.com/event-calendar/word-games-36/
LOCATION:Legacy Court
CATEGORIES:Memory Care
END:VEVENT
BEGIN:VEVENT
DTSTART;TZID=America/Chicago:20251227T113000
DTEND;TZID=America/Chicago:20251227T123000
DTSTAMP:20260422T063602
CREATED:20251201T004408Z
LAST-MODIFIED:20251227T034418Z
UID:10002657-1766835000-1766838600@polarridgeseniorliving.com
SUMMARY:Lunch
DESCRIPTION:
URL:https://polarridgeseniorliving.com/event-calendar/lunch-27/
LOCATION:Legacy Court
CATEGORIES:Memory Care
END:VEVENT
BEGIN:VEVENT
DTSTART;TZID=America/Chicago:20251227T090000
DTEND;TZID=America/Chicago:20251227T100000
DTSTAMP:20260422T063602
CREATED:20251201T004408Z
LAST-MODIFIED:20251227T034417Z
UID:10002655-1766826000-1766829600@polarridgeseniorliving.com
SUMMARY:Morning 1:1 Visits
DESCRIPTION:
URL:https://polarridgeseniorliving.com/event-calendar/morning-11-visits-27/
LOCATION:Legacy Court
CATEGORIES:Memory Care
END:VEVENT
BEGIN:VEVENT
DTSTART;TZID=America/Chicago:20251227T080000
DTEND;TZID=America/Chicago:20251227T090000
DTSTAMP:20260422T063602
CREATED:20251201T004408Z
LAST-MODIFIED:20251227T034417Z
UID:10002654-1766822400-1766826000@polarridgeseniorliving.com
SUMMARY:Breakfast
DESCRIPTION:
URL:https://polarridgeseniorliving.com/event-calendar/breakfast-27/
LOCATION:Legacy Court
CATEGORIES:Memory Care
END:VEVENT
BEGIN:VEVENT
DTSTART;TZID=America/Chicago:20251226T163000
DTEND;TZID=America/Chicago:20251226T173000
DTSTAMP:20260422T063602
CREATED:20251201T004408Z
LAST-MODIFIED:20251226T034357Z
UID:10002652-1766766600-1766770200@polarridgeseniorliving.com
SUMMARY:Dinner
DESCRIPTION:
URL:https://polarridgeseniorliving.com/event-calendar/dinner-25/
LOCATION:Legacy Court
CATEGORIES:Memory Care
END:VEVENT
BEGIN:VEVENT
DTSTART;TZID=America/Chicago:20251226T113000
DTEND;TZID=America/Chicago:20251226T123000
DTSTAMP:20260422T063602
CREATED:20251201T004408Z
LAST-MODIFIED:20251226T034357Z
UID:10002651-1766748600-1766752200@polarridgeseniorliving.com
SUMMARY:Lunch
DESCRIPTION:
URL:https://polarridgeseniorliving.com/event-calendar/lunch-26/
LOCATION:Legacy Court
CATEGORIES:Memory Care
END:VEVENT
BEGIN:VEVENT
DTSTART;TZID=America/Chicago:20251226T090000
DTEND;TZID=America/Chicago:20251226T100000
DTSTAMP:20260422T063602
CREATED:20251201T004407Z
LAST-MODIFIED:20251226T034357Z
UID:10002650-1766739600-1766743200@polarridgeseniorliving.com
SUMMARY:Morning 1:1 Visits
DESCRIPTION:
URL:https://polarridgeseniorliving.com/event-calendar/morning-11-visits-26/
LOCATION:Legacy Court
CATEGORIES:Memory Care
END:VEVENT
BEGIN:VEVENT
DTSTART;TZID=America/Chicago:20251226T080000
DTEND;TZID=America/Chicago:20251226T090000
DTSTAMP:20260422T063602
CREATED:20251201T004407Z
LAST-MODIFIED:20251226T034357Z
UID:10002649-1766736000-1766739600@polarridgeseniorliving.com
SUMMARY:Breakfast
DESCRIPTION:
URL:https://polarridgeseniorliving.com/event-calendar/breakfast-26/
LOCATION:Legacy Court
CATEGORIES:Memory Care
END:VEVENT
BEGIN:VEVENT
DTSTART;TZID=America/Chicago:20251225T163000
DTEND;TZID=America/Chicago:20251225T173000
DTSTAMP:20260422T063602
CREATED:20251201T004407Z
LAST-MODIFIED:20251225T032904Z
UID:10002647-1766680200-1766683800@polarridgeseniorliving.com
SUMMARY:Dinner
DESCRIPTION:
URL:https://polarridgeseniorliving.com/event-calendar/dinner-24/
LOCATION:Legacy Court
CATEGORIES:Memory Care
END:VEVENT
BEGIN:VEVENT
DTSTART;TZID=America/Chicago:20251225T140000
DTEND;TZID=America/Chicago:20251225T150000
DTSTAMP:20260422T063602
CREATED:20251201T004407Z
LAST-MODIFIED:20251225T032904Z
UID:10002646-1766671200-1766674800@polarridgeseniorliving.com
SUMMARY:Afternoon Snack
DESCRIPTION:
URL:https://polarridgeseniorliving.com/event-calendar/afternoon-snack-12/
LOCATION:Legacy Court
CATEGORIES:Memory Care
END:VEVENT
BEGIN:VEVENT
DTSTART;TZID=America/Chicago:20251225T113000
DTEND;TZID=America/Chicago:20251225T123000
DTSTAMP:20260422T063602
CREATED:20251201T004407Z
LAST-MODIFIED:20251225T032904Z
UID:10002645-1766662200-1766665800@polarridgeseniorliving.com
SUMMARY:Lunch
DESCRIPTION:
URL:https://polarridgeseniorliving.com/event-calendar/lunch-25/
LOCATION:Legacy Court
CATEGORIES:Memory Care
END:VEVENT
BEGIN:VEVENT
DTSTART;TZID=America/Chicago:20251225T090000
DTEND;TZID=America/Chicago:20251225T100000
DTSTAMP:20260422T063602
CREATED:20251201T004407Z
LAST-MODIFIED:20251225T032903Z
UID:10002643-1766653200-1766656800@polarridgeseniorliving.com
SUMMARY:Morning 1:1 Visits
DESCRIPTION:
URL:https://polarridgeseniorliving.com/event-calendar/morning-11-visits-25/
LOCATION:Legacy Court
CATEGORIES:Memory Care
END:VEVENT
BEGIN:VEVENT
DTSTART;TZID=America/Chicago:20251225T080000
DTEND;TZID=America/Chicago:20251225T090000
DTSTAMP:20260422T063602
CREATED:20251201T004407Z
LAST-MODIFIED:20251225T032903Z
UID:10002644-1766649600-1766653200@polarridgeseniorliving.com
SUMMARY:Breakfast
DESCRIPTION:
URL:https://polarridgeseniorliving.com/event-calendar/breakfast-25/
LOCATION:Legacy Court
CATEGORIES:Memory Care
END:VEVENT
BEGIN:VEVENT
DTSTART;TZID=America/Chicago:20251224T163000
DTEND;TZID=America/Chicago:20251224T173000
DTSTAMP:20260422T063602
CREATED:20251201T004407Z
LAST-MODIFIED:20251224T031407Z
UID:10002641-1766593800-1766597400@polarridgeseniorliving.com
SUMMARY:Dinner
DESCRIPTION:
URL:https://polarridgeseniorliving.com/event-calendar/dinner-23/
LOCATION:Legacy Court
CATEGORIES:Memory Care
END:VEVENT
BEGIN:VEVENT
DTSTART;TZID=America/Chicago:20251224T140000
DTEND;TZID=America/Chicago:20251224T150000
DTSTAMP:20260422T063602
CREATED:20251201T004407Z
LAST-MODIFIED:20251224T031407Z
UID:10002640-1766584800-1766588400@polarridgeseniorliving.com
SUMMARY:Afternoon Snack
DESCRIPTION:
URL:https://polarridgeseniorliving.com/event-calendar/afternoon-snack-11/
LOCATION:Legacy Court
CATEGORIES:Memory Care
END:VEVENT
BEGIN:VEVENT
DTSTART;TZID=America/Chicago:20251224T113000
DTEND;TZID=America/Chicago:20251224T123000
DTSTAMP:20260422T063602
CREATED:20251201T004406Z
LAST-MODIFIED:20251224T031407Z
UID:10002639-1766575800-1766579400@polarridgeseniorliving.com
SUMMARY:Lunch
DESCRIPTION:
URL:https://polarridgeseniorliving.com/event-calendar/lunch-24/
LOCATION:Legacy Court
CATEGORIES:Memory Care
END:VEVENT
BEGIN:VEVENT
DTSTART;TZID=America/Chicago:20251224T090000
DTEND;TZID=America/Chicago:20251224T100000
DTSTAMP:20260422T063602
CREATED:20251201T004406Z
LAST-MODIFIED:20251224T031406Z
UID:10002638-1766566800-1766570400@polarridgeseniorliving.com
SUMMARY:Morning 1:1 Visits
DESCRIPTION:
URL:https://polarridgeseniorliving.com/event-calendar/morning-11-visits-24/
LOCATION:Legacy Court
CATEGORIES:Memory Care
END:VEVENT
BEGIN:VEVENT
DTSTART;TZID=America/Chicago:20251224T080000
DTEND;TZID=America/Chicago:20251224T090000
DTSTAMP:20260422T063602
CREATED:20251201T004406Z
LAST-MODIFIED:20251224T031406Z
UID:10002637-1766563200-1766566800@polarridgeseniorliving.com
SUMMARY:Breakfast
DESCRIPTION:
URL:https://polarridgeseniorliving.com/event-calendar/breakfast-24/
LOCATION:Legacy Court
CATEGORIES:Memory Care
END:VEVENT
BEGIN:VEVENT
DTSTART;TZID=America/Chicago:20251223T163000
DTEND;TZID=America/Chicago:20251223T173000
DTSTAMP:20260422T063602
CREATED:20251201T004406Z
LAST-MODIFIED:20251223T031357Z
UID:10002635-1766507400-1766511000@polarridgeseniorliving.com
SUMMARY:Dinner
DESCRIPTION:
URL:https://polarridgeseniorliving.com/event-calendar/dinner-22/
LOCATION:Legacy Court
CATEGORIES:Memory Care
END:VEVENT
BEGIN:VEVENT
DTSTART;TZID=America/Chicago:20251223T140000
DTEND;TZID=America/Chicago:20251223T150000
DTSTAMP:20260422T063602
CREATED:20251201T004406Z
LAST-MODIFIED:20251223T031357Z
UID:10002634-1766498400-1766502000@polarridgeseniorliving.com
SUMMARY:Afternoon Snack
DESCRIPTION:
URL:https://polarridgeseniorliving.com/event-calendar/afternoon-snack-10/
LOCATION:Legacy Court
CATEGORIES:Memory Care
END:VEVENT
BEGIN:VEVENT
DTSTART;TZID=America/Chicago:20251223T113000
DTEND;TZID=America/Chicago:20251223T123000
DTSTAMP:20260422T063602
CREATED:20251201T004406Z
LAST-MODIFIED:20251223T031357Z
UID:10002633-1766489400-1766493000@polarridgeseniorliving.com
SUMMARY:Lunch
DESCRIPTION:
URL:https://polarridgeseniorliving.com/event-calendar/lunch-23/
LOCATION:Legacy Court
CATEGORIES:Memory Care
END:VEVENT
BEGIN:VEVENT
DTSTART;TZID=America/Chicago:20251223T090000
DTEND;TZID=America/Chicago:20251223T100000
DTSTAMP:20260422T063602
CREATED:20251201T004406Z
LAST-MODIFIED:20251223T031357Z
UID:10002632-1766480400-1766484000@polarridgeseniorliving.com
SUMMARY:Morning 1:1 Visits
DESCRIPTION:
URL:https://polarridgeseniorliving.com/event-calendar/morning-11-visits-23/
LOCATION:Legacy Court
CATEGORIES:Memory Care
END:VEVENT
BEGIN:VEVENT
DTSTART;TZID=America/Chicago:20251223T080000
DTEND;TZID=America/Chicago:20251223T090000
DTSTAMP:20260422T063602
CREATED:20251201T004406Z
LAST-MODIFIED:20251223T031357Z
UID:10002631-1766476800-1766480400@polarridgeseniorliving.com
SUMMARY:Breakfast
DESCRIPTION:
URL:https://polarridgeseniorliving.com/event-calendar/breakfast-23/
LOCATION:Legacy Court
CATEGORIES:Memory Care
END:VEVENT
BEGIN:VEVENT
DTSTART;TZID=America/Chicago:20251222T173000
DTEND;TZID=America/Chicago:20251222T183000
DTSTAMP:20260422T063602
CREATED:20251201T004406Z
LAST-MODIFIED:20251222T031407Z
UID:10002630-1766424600-1766428200@polarridgeseniorliving.com
SUMMARY:Puzzles
DESCRIPTION:
URL:https://polarridgeseniorliving.com/event-calendar/puzzles-4/
LOCATION:Legacy Court
CATEGORIES:Memory Care
END:VEVENT
BEGIN:VEVENT
DTSTART;TZID=America/Chicago:20251222T163000
DTEND;TZID=America/Chicago:20251222T173000
DTSTAMP:20260422T063602
CREATED:20251201T004406Z
LAST-MODIFIED:20251222T031407Z
UID:10002629-1766421000-1766424600@polarridgeseniorliving.com
SUMMARY:Dinner
DESCRIPTION:
URL:https://polarridgeseniorliving.com/event-calendar/dinner-21/
LOCATION:Legacy Court
CATEGORIES:Memory Care
END:VEVENT
BEGIN:VEVENT
DTSTART;TZID=America/Chicago:20251222T113000
DTEND;TZID=America/Chicago:20251222T123000
DTSTAMP:20260422T063602
CREATED:20251201T004406Z
LAST-MODIFIED:20251222T031356Z
UID:10002628-1766403000-1766406600@polarridgeseniorliving.com
SUMMARY:Lunch
DESCRIPTION:
URL:https://polarridgeseniorliving.com/event-calendar/lunch-22/
LOCATION:Legacy Court
CATEGORIES:Memory Care
END:VEVENT
BEGIN:VEVENT
DTSTART;TZID=America/Chicago:20251222T090000
DTEND;TZID=America/Chicago:20251222T100000
DTSTAMP:20260422T063602
CREATED:20251201T004405Z
LAST-MODIFIED:20251222T031356Z
UID:10002627-1766394000-1766397600@polarridgeseniorliving.com
SUMMARY:Morning 1:1 Visits
DESCRIPTION:
URL:https://polarridgeseniorliving.com/event-calendar/morning-11-visits-22/
LOCATION:Legacy Court
CATEGORIES:Memory Care
END:VEVENT
BEGIN:VEVENT
DTSTART;TZID=America/Chicago:20251222T080000
DTEND;TZID=America/Chicago:20251222T090000
DTSTAMP:20260422T063602
CREATED:20251201T004405Z
LAST-MODIFIED:20251222T031356Z
UID:10002626-1766390400-1766394000@polarridgeseniorliving.com
SUMMARY:Breakfast
DESCRIPTION:
URL:https://polarridgeseniorliving.com/event-calendar/breakfast-22/
LOCATION:Legacy Court
CATEGORIES:Memory Care
END:VEVENT
BEGIN:VEVENT
DTSTART;TZID=America/Chicago:20251221T163000
DTEND;TZID=America/Chicago:20251221T173000
DTSTAMP:20260422T063602
CREATED:20251201T004405Z
LAST-MODIFIED:20251221T025900Z
UID:10002624-1766334600-1766338200@polarridgeseniorliving.com
SUMMARY:Dinner
DESCRIPTION:
URL:https://polarridgeseniorliving.com/event-calendar/dinner-20/
LOCATION:Legacy Court
CATEGORIES:Memory Care
END:VEVENT
BEGIN:VEVENT
DTSTART;TZID=America/Chicago:20251221T113000
DTEND;TZID=America/Chicago:20251221T123000
DTSTAMP:20260422T063602
CREATED:20251201T004405Z
LAST-MODIFIED:20251221T025859Z
UID:10002622-1766316600-1766320200@polarridgeseniorliving.com
SUMMARY:Lunch
DESCRIPTION:
URL:https://polarridgeseniorliving.com/event-calendar/lunch-21/
LOCATION:Legacy Court
CATEGORIES:Memory Care
END:VEVENT
END:VCALENDAR