BEGIN:VCALENDAR
VERSION:2.0
PRODID:-//Polar Ridge Senior Living - ECPv6.11.2.1//NONSGML v1.0//EN
CALSCALE:GREGORIAN
METHOD:PUBLISH
X-WR-CALNAME:Polar Ridge Senior Living
X-ORIGINAL-URL:https://polarridgeseniorliving.com
X-WR-CALDESC:Events for Polar Ridge Senior Living
REFRESH-INTERVAL;VALUE=DURATION:PT1H
X-Robots-Tag:noindex
X-PUBLISHED-TTL:PT1H
BEGIN:VTIMEZONE
TZID:America/Chicago
BEGIN:DAYLIGHT
TZOFFSETFROM:-0600
TZOFFSETTO:-0500
TZNAME:CDT
DTSTART:20250309T080000
END:DAYLIGHT
BEGIN:STANDARD
TZOFFSETFROM:-0500
TZOFFSETTO:-0600
TZNAME:CST
DTSTART:20251102T070000
END:STANDARD
END:VTIMEZONE
BEGIN:VEVENT
DTSTART;TZID=America/Chicago:20251217T140000
DTEND;TZID=America/Chicago:20251217T150000
DTSTAMP:20260422T145001
CREATED:20251201T004403Z
LAST-MODIFIED:20251217T022857Z
UID:10002601-1765980000-1765983600@polarridgeseniorliving.com
SUMMARY:Afternoon Snack
DESCRIPTION:
URL:https://polarridgeseniorliving.com/event-calendar/afternoon-snack-8/
LOCATION:Legacy Court
CATEGORIES:Memory Care
END:VEVENT
BEGIN:VEVENT
DTSTART;TZID=America/Chicago:20251217T113000
DTEND;TZID=America/Chicago:20251217T123000
DTSTAMP:20260422T145001
CREATED:20251201T004403Z
LAST-MODIFIED:20251217T022857Z
UID:10002600-1765971000-1765974600@polarridgeseniorliving.com
SUMMARY:Lunch
DESCRIPTION:
URL:https://polarridgeseniorliving.com/event-calendar/lunch-17/
LOCATION:Legacy Court
CATEGORIES:Memory Care
END:VEVENT
BEGIN:VEVENT
DTSTART;TZID=America/Chicago:20251217T090000
DTEND;TZID=America/Chicago:20251217T100000
DTSTAMP:20260422T145001
CREATED:20251201T004403Z
LAST-MODIFIED:20251217T022857Z
UID:10002599-1765962000-1765965600@polarridgeseniorliving.com
SUMMARY:Morning 1:1 Visits
DESCRIPTION:
URL:https://polarridgeseniorliving.com/event-calendar/morning-11-visits-17/
LOCATION:Legacy Court
CATEGORIES:Memory Care
END:VEVENT
BEGIN:VEVENT
DTSTART;TZID=America/Chicago:20251217T080000
DTEND;TZID=America/Chicago:20251217T090000
DTSTAMP:20260422T145001
CREATED:20251201T004403Z
LAST-MODIFIED:20251217T022857Z
UID:10002598-1765958400-1765962000@polarridgeseniorliving.com
SUMMARY:Breakfast
DESCRIPTION:
URL:https://polarridgeseniorliving.com/event-calendar/breakfast-17/
LOCATION:Legacy Court
CATEGORIES:Memory Care
END:VEVENT
BEGIN:VEVENT
DTSTART;TZID=America/Chicago:20251216T163000
DTEND;TZID=America/Chicago:20251216T173000
DTSTAMP:20260422T145001
CREATED:20251201T004403Z
LAST-MODIFIED:20251216T022900Z
UID:10002596-1765902600-1765906200@polarridgeseniorliving.com
SUMMARY:Dinner
DESCRIPTION:
URL:https://polarridgeseniorliving.com/event-calendar/dinner-16/
LOCATION:Legacy Court
CATEGORIES:Memory Care
END:VEVENT
BEGIN:VEVENT
DTSTART;TZID=America/Chicago:20251216T140000
DTEND;TZID=America/Chicago:20251216T150000
DTSTAMP:20260422T145001
CREATED:20251201T004403Z
LAST-MODIFIED:20251216T022900Z
UID:10002595-1765893600-1765897200@polarridgeseniorliving.com
SUMMARY:Afternoon Snack
DESCRIPTION:
URL:https://polarridgeseniorliving.com/event-calendar/afternoon-snack-7/
LOCATION:Legacy Court
CATEGORIES:Memory Care
END:VEVENT
BEGIN:VEVENT
DTSTART;TZID=America/Chicago:20251216T113000
DTEND;TZID=America/Chicago:20251216T123000
DTSTAMP:20260422T145001
CREATED:20251201T004403Z
LAST-MODIFIED:20251216T022900Z
UID:10002594-1765884600-1765888200@polarridgeseniorliving.com
SUMMARY:Lunch
DESCRIPTION:
URL:https://polarridgeseniorliving.com/event-calendar/lunch-16/
LOCATION:Legacy Court
CATEGORIES:Memory Care
END:VEVENT
BEGIN:VEVENT
DTSTART;TZID=America/Chicago:20251216T090000
DTEND;TZID=America/Chicago:20251216T100000
DTSTAMP:20260422T145001
CREATED:20251201T004403Z
LAST-MODIFIED:20251216T022900Z
UID:10002593-1765875600-1765879200@polarridgeseniorliving.com
SUMMARY:Morning 1:1 Visits
DESCRIPTION:
URL:https://polarridgeseniorliving.com/event-calendar/morning-11-visits-16/
LOCATION:Legacy Court
CATEGORIES:Memory Care
END:VEVENT
BEGIN:VEVENT
DTSTART;TZID=America/Chicago:20251216T080000
DTEND;TZID=America/Chicago:20251216T090000
DTSTAMP:20260422T145001
CREATED:20251201T004403Z
LAST-MODIFIED:20251216T022900Z
UID:10002592-1765872000-1765875600@polarridgeseniorliving.com
SUMMARY:Breakfast
DESCRIPTION:
URL:https://polarridgeseniorliving.com/event-calendar/breakfast-16/
LOCATION:Legacy Court
CATEGORIES:Memory Care
END:VEVENT
BEGIN:VEVENT
DTSTART;TZID=America/Chicago:20251215T173000
DTEND;TZID=America/Chicago:20251215T183000
DTSTAMP:20260422T145001
CREATED:20251201T004402Z
LAST-MODIFIED:20251215T022938Z
UID:10002591-1765819800-1765823400@polarridgeseniorliving.com
SUMMARY:Puzzles
DESCRIPTION:
URL:https://polarridgeseniorliving.com/event-calendar/puzzles-3/
LOCATION:Legacy Court
CATEGORIES:Memory Care
END:VEVENT
BEGIN:VEVENT
DTSTART;TZID=America/Chicago:20251215T163000
DTEND;TZID=America/Chicago:20251215T173000
DTSTAMP:20260422T145001
CREATED:20251201T004402Z
LAST-MODIFIED:20251215T022938Z
UID:10002590-1765816200-1765819800@polarridgeseniorliving.com
SUMMARY:Dinner
DESCRIPTION:
URL:https://polarridgeseniorliving.com/event-calendar/dinner-15/
LOCATION:Legacy Court
CATEGORIES:Memory Care
END:VEVENT
BEGIN:VEVENT
DTSTART;TZID=America/Chicago:20251215T113000
DTEND;TZID=America/Chicago:20251215T123000
DTSTAMP:20260422T145001
CREATED:20251201T004402Z
LAST-MODIFIED:20251215T022926Z
UID:10002589-1765798200-1765801800@polarridgeseniorliving.com
SUMMARY:Lunch
DESCRIPTION:
URL:https://polarridgeseniorliving.com/event-calendar/lunch-15/
LOCATION:Legacy Court
CATEGORIES:Memory Care
END:VEVENT
BEGIN:VEVENT
DTSTART;TZID=America/Chicago:20251215T090000
DTEND;TZID=America/Chicago:20251215T100000
DTSTAMP:20260422T145001
CREATED:20251201T004402Z
LAST-MODIFIED:20251215T022926Z
UID:10002588-1765789200-1765792800@polarridgeseniorliving.com
SUMMARY:Morning 1:1 Visits
DESCRIPTION:
URL:https://polarridgeseniorliving.com/event-calendar/morning-11-visits-15/
LOCATION:Legacy Court
CATEGORIES:Memory Care
END:VEVENT
BEGIN:VEVENT
DTSTART;TZID=America/Chicago:20251215T080000
DTEND;TZID=America/Chicago:20251215T090000
DTSTAMP:20260422T145001
CREATED:20251201T004402Z
LAST-MODIFIED:20251215T022926Z
UID:10002587-1765785600-1765789200@polarridgeseniorliving.com
SUMMARY:Breakfast
DESCRIPTION:
URL:https://polarridgeseniorliving.com/event-calendar/breakfast-15/
LOCATION:Legacy Court
CATEGORIES:Memory Care
END:VEVENT
BEGIN:VEVENT
DTSTART;TZID=America/Chicago:20251214T163000
DTEND;TZID=America/Chicago:20251214T173000
DTSTAMP:20260422T145001
CREATED:20251201T004402Z
LAST-MODIFIED:20251214T022900Z
UID:10002585-1765729800-1765733400@polarridgeseniorliving.com
SUMMARY:Dinner
DESCRIPTION:
URL:https://polarridgeseniorliving.com/event-calendar/dinner-14/
LOCATION:Legacy Court
CATEGORIES:Memory Care
END:VEVENT
BEGIN:VEVENT
DTSTART;TZID=America/Chicago:20251214T113000
DTEND;TZID=America/Chicago:20251214T123000
DTSTAMP:20260422T145001
CREATED:20251201T004402Z
LAST-MODIFIED:20251214T022900Z
UID:10002584-1765711800-1765715400@polarridgeseniorliving.com
SUMMARY:Lunch
DESCRIPTION:
URL:https://polarridgeseniorliving.com/event-calendar/lunch-14/
LOCATION:Legacy Court
CATEGORIES:Memory Care
END:VEVENT
BEGIN:VEVENT
DTSTART;TZID=America/Chicago:20251214T110000
DTEND;TZID=America/Chicago:20251214T120000
DTSTAMP:20260422T145001
CREATED:20251128T082906Z
LAST-MODIFIED:20251214T022900Z
UID:10002453-1765710000-1765713600@polarridgeseniorliving.com
SUMMARY:Hope Singers
DESCRIPTION:
URL:https://polarridgeseniorliving.com/event-calendar/hope-singers/
LOCATION:Legacy Court
CATEGORIES:Memory Care
END:VEVENT
BEGIN:VEVENT
DTSTART;TZID=America/Chicago:20251214T090000
DTEND;TZID=America/Chicago:20251214T100000
DTSTAMP:20260422T145001
CREATED:20251201T004402Z
LAST-MODIFIED:20251214T022859Z
UID:10002582-1765702800-1765706400@polarridgeseniorliving.com
SUMMARY:Morning 1:1 Visits
DESCRIPTION:
URL:https://polarridgeseniorliving.com/event-calendar/morning-11-visits-14/
LOCATION:Legacy Court
CATEGORIES:Memory Care
END:VEVENT
BEGIN:VEVENT
DTSTART;TZID=America/Chicago:20251214T080000
DTEND;TZID=America/Chicago:20251214T090000
DTSTAMP:20260422T145001
CREATED:20251201T004401Z
LAST-MODIFIED:20251214T022859Z
UID:10002581-1765699200-1765702800@polarridgeseniorliving.com
SUMMARY:Breakfast
DESCRIPTION:
URL:https://polarridgeseniorliving.com/event-calendar/breakfast-14/
LOCATION:Legacy Court
CATEGORIES:Memory Care
END:VEVENT
BEGIN:VEVENT
DTSTART;TZID=America/Chicago:20251213T163000
DTEND;TZID=America/Chicago:20251213T173000
DTSTAMP:20260422T145001
CREATED:20251201T004401Z
LAST-MODIFIED:20251213T021400Z
UID:10002579-1765643400-1765647000@polarridgeseniorliving.com
SUMMARY:Dinner
DESCRIPTION:
URL:https://polarridgeseniorliving.com/event-calendar/dinner-13/
LOCATION:Legacy Court
CATEGORIES:Memory Care
END:VEVENT
BEGIN:VEVENT
DTSTART;TZID=America/Chicago:20251213T150000
DTEND;TZID=America/Chicago:20251213T160000
DTSTAMP:20260422T145001
CREATED:20251128T082906Z
LAST-MODIFIED:20251213T021400Z
UID:10002450-1765638000-1765641600@polarridgeseniorliving.com
SUMMARY:Storytelling
DESCRIPTION:
URL:https://polarridgeseniorliving.com/event-calendar/storytelling-2/
LOCATION:Legacy Court
CATEGORIES:Memory Care
END:VEVENT
BEGIN:VEVENT
DTSTART;TZID=America/Chicago:20251213T140000
DTEND;TZID=America/Chicago:20251213T150000
DTSTAMP:20260422T145001
CREATED:20251128T082906Z
LAST-MODIFIED:20251213T021359Z
UID:10002451-1765634400-1765638000@polarridgeseniorliving.com
SUMMARY:Bingo hosted by St. Peters Church
DESCRIPTION:
URL:https://polarridgeseniorliving.com/event-calendar/bingo-hosted-by-st-peters-church-2/
LOCATION:Legacy Court
CATEGORIES:Memory Care
END:VEVENT
BEGIN:VEVENT
DTSTART;TZID=America/Chicago:20251213T140000
DTEND;TZID=America/Chicago:20251213T150000
DTSTAMP:20260422T145001
CREATED:20251128T082906Z
LAST-MODIFIED:20251130T004532Z
UID:10002452-1765634400-1765638000@polarridgeseniorliving.com
SUMMARY:Word Games
DESCRIPTION:
URL:https://polarridgeseniorliving.com/event-calendar/word-games-34/
LOCATION:Legacy Court
CATEGORIES:Memory Care
END:VEVENT
BEGIN:VEVENT
DTSTART;TZID=America/Chicago:20251213T113000
DTEND;TZID=America/Chicago:20251213T123000
DTSTAMP:20260422T145001
CREATED:20251201T004401Z
LAST-MODIFIED:20251213T021359Z
UID:10002578-1765625400-1765629000@polarridgeseniorliving.com
SUMMARY:Lunch
DESCRIPTION:
URL:https://polarridgeseniorliving.com/event-calendar/lunch-13/
LOCATION:Legacy Court
CATEGORIES:Memory Care
END:VEVENT
BEGIN:VEVENT
DTSTART;TZID=America/Chicago:20251213T090000
DTEND;TZID=America/Chicago:20251213T100000
DTSTAMP:20260422T145001
CREATED:20251201T004401Z
LAST-MODIFIED:20251213T021359Z
UID:10002576-1765616400-1765620000@polarridgeseniorliving.com
SUMMARY:Morning 1:1 Visits
DESCRIPTION:
URL:https://polarridgeseniorliving.com/event-calendar/morning-11-visits-13/
LOCATION:Legacy Court
CATEGORIES:Memory Care
END:VEVENT
BEGIN:VEVENT
DTSTART;TZID=America/Chicago:20251213T080000
DTEND;TZID=America/Chicago:20251213T090000
DTSTAMP:20260422T145001
CREATED:20251201T004401Z
LAST-MODIFIED:20251213T021359Z
UID:10002575-1765612800-1765616400@polarridgeseniorliving.com
SUMMARY:Breakfast
DESCRIPTION:
URL:https://polarridgeseniorliving.com/event-calendar/breakfast-13/
LOCATION:Legacy Court
CATEGORIES:Memory Care
END:VEVENT
BEGIN:VEVENT
DTSTART;TZID=America/Chicago:20251212T163000
DTEND;TZID=America/Chicago:20251212T173000
DTSTAMP:20260422T145001
CREATED:20251201T004401Z
LAST-MODIFIED:20251212T021400Z
UID:10002573-1765557000-1765560600@polarridgeseniorliving.com
SUMMARY:Dinner
DESCRIPTION:
URL:https://polarridgeseniorliving.com/event-calendar/dinner-12/
LOCATION:Legacy Court
CATEGORIES:Memory Care
END:VEVENT
BEGIN:VEVENT
DTSTART;TZID=America/Chicago:20251212T113000
DTEND;TZID=America/Chicago:20251212T123000
DTSTAMP:20260422T145001
CREATED:20251201T004401Z
LAST-MODIFIED:20251212T021400Z
UID:10002572-1765539000-1765542600@polarridgeseniorliving.com
SUMMARY:Lunch
DESCRIPTION:
URL:https://polarridgeseniorliving.com/event-calendar/lunch-12/
LOCATION:Legacy Court
CATEGORIES:Memory Care
END:VEVENT
BEGIN:VEVENT
DTSTART;TZID=America/Chicago:20251212T090000
DTEND;TZID=America/Chicago:20251212T100000
DTSTAMP:20260422T145001
CREATED:20251201T004401Z
LAST-MODIFIED:20251212T021400Z
UID:10002571-1765530000-1765533600@polarridgeseniorliving.com
SUMMARY:Morning 1:1 Visits
DESCRIPTION:
URL:https://polarridgeseniorliving.com/event-calendar/morning-11-visits-12/
LOCATION:Legacy Court
CATEGORIES:Memory Care
END:VEVENT
BEGIN:VEVENT
DTSTART;TZID=America/Chicago:20251212T080000
DTEND;TZID=America/Chicago:20251212T090000
DTSTAMP:20260422T145001
CREATED:20251201T004401Z
LAST-MODIFIED:20251212T021400Z
UID:10002570-1765526400-1765530000@polarridgeseniorliving.com
SUMMARY:Breakfast
DESCRIPTION:
URL:https://polarridgeseniorliving.com/event-calendar/breakfast-12/
LOCATION:Legacy Court
CATEGORIES:Memory Care
END:VEVENT
END:VCALENDAR