BEGIN:VCALENDAR
VERSION:2.0
PRODID:-//Polar Ridge Senior Living - ECPv6.11.2.1//NONSGML v1.0//EN
CALSCALE:GREGORIAN
METHOD:PUBLISH
X-WR-CALNAME:Polar Ridge Senior Living
X-ORIGINAL-URL:https://polarridgeseniorliving.com
X-WR-CALDESC:Events for Polar Ridge Senior Living
REFRESH-INTERVAL;VALUE=DURATION:PT1H
X-Robots-Tag:noindex
X-PUBLISHED-TTL:PT1H
BEGIN:VTIMEZONE
TZID:America/Chicago
BEGIN:DAYLIGHT
TZOFFSETFROM:-0600
TZOFFSETTO:-0500
TZNAME:CDT
DTSTART:20250309T080000
END:DAYLIGHT
BEGIN:STANDARD
TZOFFSETFROM:-0500
TZOFFSETTO:-0600
TZNAME:CST
DTSTART:20251102T070000
END:STANDARD
END:VTIMEZONE
BEGIN:VEVENT
DTSTART;TZID=America/Chicago:20251208T090000
DTEND;TZID=America/Chicago:20251208T100000
DTSTAMP:20260422T225003
CREATED:20251201T004358Z
LAST-MODIFIED:20251208T014356Z
UID:10002548-1765184400-1765188000@polarridgeseniorliving.com
SUMMARY:Morning 1:1 Visits
DESCRIPTION:
URL:https://polarridgeseniorliving.com/event-calendar/morning-11-visits-8/
LOCATION:Legacy Court
CATEGORIES:Memory Care
END:VEVENT
BEGIN:VEVENT
DTSTART;TZID=America/Chicago:20251208T080000
DTEND;TZID=America/Chicago:20251208T090000
DTSTAMP:20260422T225003
CREATED:20251201T004358Z
LAST-MODIFIED:20251208T014356Z
UID:10002547-1765180800-1765184400@polarridgeseniorliving.com
SUMMARY:Breakfast
DESCRIPTION:
URL:https://polarridgeseniorliving.com/event-calendar/breakfast-8/
LOCATION:Legacy Court
CATEGORIES:Memory Care
END:VEVENT
BEGIN:VEVENT
DTSTART;TZID=America/Chicago:20251207T163000
DTEND;TZID=America/Chicago:20251207T173000
DTSTAMP:20260422T225003
CREATED:20251201T004358Z
LAST-MODIFIED:20251207T012856Z
UID:10002545-1765125000-1765128600@polarridgeseniorliving.com
SUMMARY:Dinner
DESCRIPTION:
URL:https://polarridgeseniorliving.com/event-calendar/dinner-7/
LOCATION:Legacy Court
CATEGORIES:Memory Care
END:VEVENT
BEGIN:VEVENT
DTSTART;TZID=America/Chicago:20251207T113000
DTEND;TZID=America/Chicago:20251207T123000
DTSTAMP:20260422T225003
CREATED:20251201T004358Z
LAST-MODIFIED:20251207T012856Z
UID:10002543-1765107000-1765110600@polarridgeseniorliving.com
SUMMARY:Lunch
DESCRIPTION:
URL:https://polarridgeseniorliving.com/event-calendar/lunch-7/
LOCATION:Legacy Court
CATEGORIES:Memory Care
END:VEVENT
BEGIN:VEVENT
DTSTART;TZID=America/Chicago:20251207T090000
DTEND;TZID=America/Chicago:20251207T100000
DTSTAMP:20260422T225003
CREATED:20251201T004358Z
LAST-MODIFIED:20251207T012856Z
UID:10002542-1765098000-1765101600@polarridgeseniorliving.com
SUMMARY:Morning 1:1 Visits
DESCRIPTION:
URL:https://polarridgeseniorliving.com/event-calendar/morning-11-visits-7/
LOCATION:Legacy Court
CATEGORIES:Memory Care
END:VEVENT
BEGIN:VEVENT
DTSTART;TZID=America/Chicago:20251207T080000
DTEND;TZID=America/Chicago:20251207T090000
DTSTAMP:20260422T225003
CREATED:20251201T004358Z
LAST-MODIFIED:20251207T012856Z
UID:10002541-1765094400-1765098000@polarridgeseniorliving.com
SUMMARY:Breakfast
DESCRIPTION:
URL:https://polarridgeseniorliving.com/event-calendar/breakfast-7/
LOCATION:Legacy Court
CATEGORIES:Memory Care
END:VEVENT
BEGIN:VEVENT
DTSTART;TZID=America/Chicago:20251206T163000
DTEND;TZID=America/Chicago:20251206T173000
DTSTAMP:20260422T225003
CREATED:20251201T004358Z
LAST-MODIFIED:20251206T012925Z
UID:10002539-1765038600-1765042200@polarridgeseniorliving.com
SUMMARY:Dinner
DESCRIPTION:
URL:https://polarridgeseniorliving.com/event-calendar/dinner-6/
LOCATION:Legacy Court
CATEGORIES:Memory Care
END:VEVENT
BEGIN:VEVENT
DTSTART;TZID=America/Chicago:20251206T150000
DTEND;TZID=America/Chicago:20251206T160000
DTSTAMP:20260422T225003
CREATED:20251128T082904Z
LAST-MODIFIED:20251206T012925Z
UID:10002440-1765033200-1765036800@polarridgeseniorliving.com
SUMMARY:Storytelling
DESCRIPTION:
URL:https://polarridgeseniorliving.com/event-calendar/storytelling/
LOCATION:Legacy Court
CATEGORIES:Memory Care
END:VEVENT
BEGIN:VEVENT
DTSTART;TZID=America/Chicago:20251206T140000
DTEND;TZID=America/Chicago:20251206T150000
DTSTAMP:20260422T225003
CREATED:20251128T082904Z
LAST-MODIFIED:20251206T012925Z
UID:10002439-1765029600-1765033200@polarridgeseniorliving.com
SUMMARY:Word Games
DESCRIPTION:
URL:https://polarridgeseniorliving.com/event-calendar/word-games-33/
LOCATION:Legacy Court
CATEGORIES:Memory Care
END:VEVENT
BEGIN:VEVENT
DTSTART;TZID=America/Chicago:20251206T113000
DTEND;TZID=America/Chicago:20251206T123000
DTSTAMP:20260422T225003
CREATED:20251201T004358Z
LAST-MODIFIED:20251206T012925Z
UID:10002538-1765020600-1765024200@polarridgeseniorliving.com
SUMMARY:Lunch
DESCRIPTION:
URL:https://polarridgeseniorliving.com/event-calendar/lunch-6/
LOCATION:Legacy Court
CATEGORIES:Memory Care
END:VEVENT
BEGIN:VEVENT
DTSTART;TZID=America/Chicago:20251206T090000
DTEND;TZID=America/Chicago:20251206T100000
DTSTAMP:20260422T225003
CREATED:20251201T004358Z
LAST-MODIFIED:20251206T012925Z
UID:10002537-1765011600-1765015200@polarridgeseniorliving.com
SUMMARY:Morning 1:1 Visits
DESCRIPTION:
URL:https://polarridgeseniorliving.com/event-calendar/morning-11-visits-6/
LOCATION:Legacy Court
CATEGORIES:Memory Care
END:VEVENT
BEGIN:VEVENT
DTSTART;TZID=America/Chicago:20251206T080000
DTEND;TZID=America/Chicago:20251206T090000
DTSTAMP:20260422T225003
CREATED:20251201T004358Z
LAST-MODIFIED:20251206T012925Z
UID:10002535-1765008000-1765011600@polarridgeseniorliving.com
SUMMARY:Breakfast
DESCRIPTION:
URL:https://polarridgeseniorliving.com/event-calendar/breakfast-6/
LOCATION:Legacy Court
CATEGORIES:Memory Care
END:VEVENT
BEGIN:VEVENT
DTSTART;TZID=America/Chicago:20251205T163000
DTEND;TZID=America/Chicago:20251205T173000
DTSTAMP:20260422T225003
CREATED:20251201T004357Z
LAST-MODIFIED:20251205T011404Z
UID:10002533-1764952200-1764955800@polarridgeseniorliving.com
SUMMARY:Dinner
DESCRIPTION:
URL:https://polarridgeseniorliving.com/event-calendar/dinner-5/
LOCATION:Legacy Court
CATEGORIES:Memory Care
END:VEVENT
BEGIN:VEVENT
DTSTART;TZID=America/Chicago:20251205T113000
DTEND;TZID=America/Chicago:20251205T123000
DTSTAMP:20260422T225003
CREATED:20251201T004357Z
LAST-MODIFIED:20251205T011404Z
UID:10002532-1764934200-1764937800@polarridgeseniorliving.com
SUMMARY:Lunch
DESCRIPTION:
URL:https://polarridgeseniorliving.com/event-calendar/lunch-5/
LOCATION:Legacy Court
CATEGORIES:Memory Care
END:VEVENT
BEGIN:VEVENT
DTSTART;TZID=America/Chicago:20251205T090000
DTEND;TZID=America/Chicago:20251205T100000
DTSTAMP:20260422T225003
CREATED:20251201T004357Z
LAST-MODIFIED:20251205T011404Z
UID:10002531-1764925200-1764928800@polarridgeseniorliving.com
SUMMARY:Morning 1:1 Visits
DESCRIPTION:
URL:https://polarridgeseniorliving.com/event-calendar/morning-11-visits-5/
LOCATION:Legacy Court
CATEGORIES:Memory Care
END:VEVENT
BEGIN:VEVENT
DTSTART;TZID=America/Chicago:20251205T080000
DTEND;TZID=America/Chicago:20251205T090000
DTSTAMP:20260422T225003
CREATED:20251201T004357Z
LAST-MODIFIED:20251205T011404Z
UID:10002530-1764921600-1764925200@polarridgeseniorliving.com
SUMMARY:Breakfast
DESCRIPTION:
URL:https://polarridgeseniorliving.com/event-calendar/breakfast-5/
LOCATION:Legacy Court
CATEGORIES:Memory Care
END:VEVENT
BEGIN:VEVENT
DTSTART;TZID=America/Chicago:20251204T163000
DTEND;TZID=America/Chicago:20251204T173000
DTSTAMP:20260422T225003
CREATED:20251201T004357Z
LAST-MODIFIED:20251204T011425Z
UID:10002528-1764865800-1764869400@polarridgeseniorliving.com
SUMMARY:Dinner
DESCRIPTION:
URL:https://polarridgeseniorliving.com/event-calendar/dinner-4/
LOCATION:Legacy Court
CATEGORIES:Memory Care
END:VEVENT
BEGIN:VEVENT
DTSTART;TZID=America/Chicago:20251204T140000
DTEND;TZID=America/Chicago:20251204T150000
DTSTAMP:20260422T225003
CREATED:20251201T004357Z
LAST-MODIFIED:20251204T011426Z
UID:10002527-1764856800-1764860400@polarridgeseniorliving.com
SUMMARY:Afternoon Snack
DESCRIPTION:
URL:https://polarridgeseniorliving.com/event-calendar/afternoon-snack-3/
LOCATION:Legacy Court
CATEGORIES:Memory Care
END:VEVENT
BEGIN:VEVENT
DTSTART;TZID=America/Chicago:20251204T113000
DTEND;TZID=America/Chicago:20251204T123000
DTSTAMP:20260422T225003
CREATED:20251201T004357Z
LAST-MODIFIED:20251204T011426Z
UID:10002526-1764847800-1764851400@polarridgeseniorliving.com
SUMMARY:Lunch
DESCRIPTION:
URL:https://polarridgeseniorliving.com/event-calendar/lunch-4/
LOCATION:Legacy Court
CATEGORIES:Memory Care
END:VEVENT
BEGIN:VEVENT
DTSTART;TZID=America/Chicago:20251204T090000
DTEND;TZID=America/Chicago:20251204T100000
DTSTAMP:20260422T225003
CREATED:20251201T004357Z
LAST-MODIFIED:20251204T011426Z
UID:10002525-1764838800-1764842400@polarridgeseniorliving.com
SUMMARY:Morning 1:1 Visits
DESCRIPTION:
URL:https://polarridgeseniorliving.com/event-calendar/morning-11-visits-4/
LOCATION:Legacy Court
CATEGORIES:Memory Care
END:VEVENT
BEGIN:VEVENT
DTSTART;TZID=America/Chicago:20251204T080000
DTEND;TZID=America/Chicago:20251204T090000
DTSTAMP:20260422T225003
CREATED:20251201T004357Z
LAST-MODIFIED:20251204T011426Z
UID:10002524-1764835200-1764838800@polarridgeseniorliving.com
SUMMARY:Breakfast
DESCRIPTION:
URL:https://polarridgeseniorliving.com/event-calendar/breakfast-4/
LOCATION:Legacy Court
CATEGORIES:Memory Care
END:VEVENT
BEGIN:VEVENT
DTSTART;TZID=America/Chicago:20251203T163000
DTEND;TZID=America/Chicago:20251203T173000
DTSTAMP:20260422T225003
CREATED:20251201T004356Z
LAST-MODIFIED:20251203T005857Z
UID:10002522-1764779400-1764783000@polarridgeseniorliving.com
SUMMARY:Dinner
DESCRIPTION:
URL:https://polarridgeseniorliving.com/event-calendar/dinner-3/
LOCATION:Legacy Court
CATEGORIES:Memory Care
END:VEVENT
BEGIN:VEVENT
DTSTART;TZID=America/Chicago:20251203T140000
DTEND;TZID=America/Chicago:20251203T150000
DTSTAMP:20260422T225003
CREATED:20251201T004356Z
LAST-MODIFIED:20251203T005857Z
UID:10002521-1764770400-1764774000@polarridgeseniorliving.com
SUMMARY:Afternoon Snack
DESCRIPTION:
URL:https://polarridgeseniorliving.com/event-calendar/afternoon-snack-2/
LOCATION:Legacy Court
CATEGORIES:Memory Care
END:VEVENT
BEGIN:VEVENT
DTSTART;TZID=America/Chicago:20251203T113000
DTEND;TZID=America/Chicago:20251203T123000
DTSTAMP:20260422T225003
CREATED:20251201T004356Z
LAST-MODIFIED:20251203T005857Z
UID:10002520-1764761400-1764765000@polarridgeseniorliving.com
SUMMARY:Lunch
DESCRIPTION:
URL:https://polarridgeseniorliving.com/event-calendar/lunch-3/
LOCATION:Legacy Court
CATEGORIES:Memory Care
END:VEVENT
BEGIN:VEVENT
DTSTART;TZID=America/Chicago:20251203T090000
DTEND;TZID=America/Chicago:20251203T100000
DTSTAMP:20260422T225003
CREATED:20251201T004356Z
LAST-MODIFIED:20251203T005857Z
UID:10002519-1764752400-1764756000@polarridgeseniorliving.com
SUMMARY:Morning 1:1 Visits
DESCRIPTION:
URL:https://polarridgeseniorliving.com/event-calendar/morning-11-visits-3/
LOCATION:Legacy Court
CATEGORIES:Memory Care
END:VEVENT
BEGIN:VEVENT
DTSTART;TZID=America/Chicago:20251203T080000
DTEND;TZID=America/Chicago:20251203T090000
DTSTAMP:20260422T225003
CREATED:20251201T004356Z
LAST-MODIFIED:20251203T005857Z
UID:10002518-1764748800-1764752400@polarridgeseniorliving.com
SUMMARY:Breakfast
DESCRIPTION:
URL:https://polarridgeseniorliving.com/event-calendar/breakfast-3/
LOCATION:Legacy Court
CATEGORIES:Memory Care
END:VEVENT
BEGIN:VEVENT
DTSTART;TZID=America/Chicago:20251202T163000
DTEND;TZID=America/Chicago:20251202T173000
DTSTAMP:20260422T225003
CREATED:20251201T004356Z
LAST-MODIFIED:20251202T005856Z
UID:10002516-1764693000-1764696600@polarridgeseniorliving.com
SUMMARY:Dinner
DESCRIPTION:
URL:https://polarridgeseniorliving.com/event-calendar/dinner-2/
LOCATION:Legacy Court
CATEGORIES:Memory Care
END:VEVENT
BEGIN:VEVENT
DTSTART;TZID=America/Chicago:20251202T140000
DTEND;TZID=America/Chicago:20251202T150000
DTSTAMP:20260422T225003
CREATED:20251201T004356Z
LAST-MODIFIED:20251202T005857Z
UID:10002515-1764684000-1764687600@polarridgeseniorliving.com
SUMMARY:Afternoon Snack
DESCRIPTION:
URL:https://polarridgeseniorliving.com/event-calendar/afternoon-snack/
LOCATION:Legacy Court
CATEGORIES:Memory Care
END:VEVENT
BEGIN:VEVENT
DTSTART;TZID=America/Chicago:20251202T113000
DTEND;TZID=America/Chicago:20251202T123000
DTSTAMP:20260422T225003
CREATED:20251201T004356Z
LAST-MODIFIED:20251202T005857Z
UID:10002514-1764675000-1764678600@polarridgeseniorliving.com
SUMMARY:Lunch
DESCRIPTION:
URL:https://polarridgeseniorliving.com/event-calendar/lunch-2/
LOCATION:Legacy Court
CATEGORIES:Memory Care
END:VEVENT
BEGIN:VEVENT
DTSTART;TZID=America/Chicago:20251202T090000
DTEND;TZID=America/Chicago:20251202T100000
DTSTAMP:20260422T225003
CREATED:20251201T004356Z
LAST-MODIFIED:20251202T005857Z
UID:10002513-1764666000-1764669600@polarridgeseniorliving.com
SUMMARY:Morning 1:1 Visits
DESCRIPTION:
URL:https://polarridgeseniorliving.com/event-calendar/morning-11-visits-2/
LOCATION:Legacy Court
CATEGORIES:Memory Care
END:VEVENT
END:VCALENDAR