BEGIN:VCALENDAR
VERSION:2.0
PRODID:-//Polar Ridge Senior Living - ECPv6.11.2.1//NONSGML v1.0//EN
CALSCALE:GREGORIAN
METHOD:PUBLISH
X-WR-CALNAME:Polar Ridge Senior Living
X-ORIGINAL-URL:https://polarridgeseniorliving.com
X-WR-CALDESC:Events for Polar Ridge Senior Living
REFRESH-INTERVAL;VALUE=DURATION:PT1H
X-Robots-Tag:noindex
X-PUBLISHED-TTL:PT1H
BEGIN:VTIMEZONE
TZID:America/Chicago
BEGIN:DAYLIGHT
TZOFFSETFROM:-0600
TZOFFSETTO:-0500
TZNAME:CDT
DTSTART:20260308T080000
END:DAYLIGHT
BEGIN:STANDARD
TZOFFSETFROM:-0500
TZOFFSETTO:-0600
TZNAME:CST
DTSTART:20261101T070000
END:STANDARD
END:VTIMEZONE
BEGIN:VEVENT
DTSTART;TZID=America/Chicago:20260227T190000
DTEND;TZID=America/Chicago:20260227T200000
DTSTAMP:20260421T064048
CREATED:20260129T061407Z
LAST-MODIFIED:20260227T072930Z
UID:10003549-1772218800-1772222400@polarridgeseniorliving.com
SUMMARY:Rest & Relaxation
DESCRIPTION:
URL:https://polarridgeseniorliving.com/event-calendar/rest-relaxation-281/
LOCATION:Memory Care
CATEGORIES:Memory Care
END:VEVENT
BEGIN:VEVENT
DTSTART;TZID=America/Chicago:20260227T150000
DTEND;TZID=America/Chicago:20260227T160000
DTSTAMP:20260421T064048
CREATED:20260129T061407Z
LAST-MODIFIED:20260227T072930Z
UID:10003547-1772204400-1772208000@polarridgeseniorliving.com
SUMMARY:1:1 Social Visits
DESCRIPTION:
URL:https://polarridgeseniorliving.com/event-calendar/11-social-visits-129/
LOCATION:Memory Care
CATEGORIES:Memory Care
END:VEVENT
BEGIN:VEVENT
DTSTART;TZID=America/Chicago:20260226T190000
DTEND;TZID=America/Chicago:20260226T200000
DTSTAMP:20260421T064048
CREATED:20260128T061403Z
LAST-MODIFIED:20260226T072856Z
UID:10003504-1772132400-1772136000@polarridgeseniorliving.com
SUMMARY:Rest & Relaxation
DESCRIPTION:
URL:https://polarridgeseniorliving.com/event-calendar/rest-relaxation-280/
LOCATION:Memory Care
CATEGORIES:Memory Care
END:VEVENT
BEGIN:VEVENT
DTSTART;TZID=America/Chicago:20260226T150000
DTEND;TZID=America/Chicago:20260226T160000
DTSTAMP:20260421T064048
CREATED:20260128T061403Z
LAST-MODIFIED:20260226T072856Z
UID:10003502-1772118000-1772121600@polarridgeseniorliving.com
SUMMARY:1:1 Social Visits
DESCRIPTION:
URL:https://polarridgeseniorliving.com/event-calendar/11-social-visits-128/
LOCATION:Memory Care
CATEGORIES:Memory Care
END:VEVENT
BEGIN:VEVENT
DTSTART;TZID=America/Chicago:20260225T190000
DTEND;TZID=America/Chicago:20260225T200000
DTSTAMP:20260421T064048
CREATED:20260127T055904Z
LAST-MODIFIED:20260225T072920Z
UID:10003489-1772046000-1772049600@polarridgeseniorliving.com
SUMMARY:Rest & Relaxation
DESCRIPTION:
URL:https://polarridgeseniorliving.com/event-calendar/rest-relaxation-279/
LOCATION:Memory Care
CATEGORIES:Memory Care
END:VEVENT
BEGIN:VEVENT
DTSTART;TZID=America/Chicago:20260225T150000
DTEND;TZID=America/Chicago:20260225T160000
DTSTAMP:20260421T064048
CREATED:20260127T055904Z
LAST-MODIFIED:20260225T072909Z
UID:10003487-1772031600-1772035200@polarridgeseniorliving.com
SUMMARY:1:1 Social Visits
DESCRIPTION:
URL:https://polarridgeseniorliving.com/event-calendar/11-social-visits-127/
LOCATION:Memory Care
CATEGORIES:Memory Care
END:VEVENT
BEGIN:VEVENT
DTSTART;TZID=America/Chicago:20260225T133000
DTEND;TZID=America/Chicago:20260225T143000
DTSTAMP:20260421T064048
CREATED:20260127T055904Z
LAST-MODIFIED:20260225T072909Z
UID:10003485-1772026200-1772029800@polarridgeseniorliving.com
SUMMARY:Ladies Club: Fancy Fingers
DESCRIPTION:
URL:https://polarridgeseniorliving.com/event-calendar/ladies-club-fancy-fingers-22/
LOCATION:Memory Care
CATEGORIES:Memory Care
END:VEVENT
BEGIN:VEVENT
DTSTART;TZID=America/Chicago:20260224T190000
DTEND;TZID=America/Chicago:20260224T200000
DTSTAMP:20260421T064048
CREATED:20260126T055916Z
LAST-MODIFIED:20260224T072905Z
UID:10003478-1771959600-1771963200@polarridgeseniorliving.com
SUMMARY:Rest & Relaxation
DESCRIPTION:
URL:https://polarridgeseniorliving.com/event-calendar/rest-relaxation-278/
LOCATION:Memory Care
CATEGORIES:Memory Care
END:VEVENT
BEGIN:VEVENT
DTSTART;TZID=America/Chicago:20260224T150000
DTEND;TZID=America/Chicago:20260224T160000
DTSTAMP:20260421T064048
CREATED:20260126T055916Z
LAST-MODIFIED:20260224T072905Z
UID:10003476-1771945200-1771948800@polarridgeseniorliving.com
SUMMARY:1:1 Social Visits
DESCRIPTION:
URL:https://polarridgeseniorliving.com/event-calendar/11-social-visits-126/
LOCATION:Memory Care
CATEGORIES:Memory Care
END:VEVENT
BEGIN:VEVENT
DTSTART;TZID=America/Chicago:20260223T190000
DTEND;TZID=America/Chicago:20260223T200000
DTSTAMP:20260421T064048
CREATED:20260125T055907Z
LAST-MODIFIED:20260223T072913Z
UID:10003463-1771873200-1771876800@polarridgeseniorliving.com
SUMMARY:Rest & Relaxation
DESCRIPTION:
URL:https://polarridgeseniorliving.com/event-calendar/rest-relaxation-277/
LOCATION:Memory Care
CATEGORIES:Memory Care
END:VEVENT
BEGIN:VEVENT
DTSTART;TZID=America/Chicago:20260223T150000
DTEND;TZID=America/Chicago:20260223T160000
DTSTAMP:20260421T064048
CREATED:20260125T055907Z
LAST-MODIFIED:20260223T072902Z
UID:10003460-1771858800-1771862400@polarridgeseniorliving.com
SUMMARY:1:1 Social Visits
DESCRIPTION:
URL:https://polarridgeseniorliving.com/event-calendar/11-social-visits-125/
LOCATION:Memory Care
CATEGORIES:Memory Care
END:VEVENT
BEGIN:VEVENT
DTSTART;TZID=America/Chicago:20260223T143000
DTEND;TZID=America/Chicago:20260223T150000
DTSTAMP:20260421T064048
CREATED:20260125T055907Z
LAST-MODIFIED:20260223T072902Z
UID:10003459-1771857000-1771858800@polarridgeseniorliving.com
SUMMARY:Story Time
DESCRIPTION:
URL:https://polarridgeseniorliving.com/event-calendar/story-time-with-maria-37/
LOCATION:Memory Care
CATEGORIES:Memory Care
END:VEVENT
BEGIN:VEVENT
DTSTART;TZID=America/Chicago:20260222T190000
DTEND;TZID=America/Chicago:20260222T200000
DTSTAMP:20260421T064048
CREATED:20260124T055907Z
LAST-MODIFIED:20260222T072918Z
UID:10003448-1771786800-1771790400@polarridgeseniorliving.com
SUMMARY:Rest & Relaxation
DESCRIPTION:
URL:https://polarridgeseniorliving.com/event-calendar/rest-relaxation-276/
LOCATION:Memory Care
CATEGORIES:Memory Care
END:VEVENT
BEGIN:VEVENT
DTSTART;TZID=America/Chicago:20260221T190000
DTEND;TZID=America/Chicago:20260221T200000
DTSTAMP:20260421T064048
CREATED:20260123T055910Z
LAST-MODIFIED:20260221T071356Z
UID:10003441-1771700400-1771704000@polarridgeseniorliving.com
SUMMARY:Rest & Relaxation
DESCRIPTION:
URL:https://polarridgeseniorliving.com/event-calendar/rest-relaxation-275/
LOCATION:Memory Care
CATEGORIES:Memory Care
END:VEVENT
BEGIN:VEVENT
DTSTART;TZID=America/Chicago:20260220T190000
DTEND;TZID=America/Chicago:20260220T200000
DTSTAMP:20260421T064048
CREATED:20260122T055905Z
LAST-MODIFIED:20260220T065858Z
UID:10003430-1771614000-1771617600@polarridgeseniorliving.com
SUMMARY:Rest & Relaxation
DESCRIPTION:
URL:https://polarridgeseniorliving.com/event-calendar/rest-relaxation-274/
LOCATION:Memory Care
CATEGORIES:Memory Care
END:VEVENT
BEGIN:VEVENT
DTSTART;TZID=America/Chicago:20260220T150000
DTEND;TZID=America/Chicago:20260220T160000
DTSTAMP:20260421T064048
CREATED:20260122T055905Z
LAST-MODIFIED:20260220T065858Z
UID:10003428-1771599600-1771603200@polarridgeseniorliving.com
SUMMARY:1:1 Social Visits
DESCRIPTION:
URL:https://polarridgeseniorliving.com/event-calendar/11-social-visits-124/
LOCATION:Memory Care
CATEGORIES:Memory Care
END:VEVENT
BEGIN:VEVENT
DTSTART;TZID=America/Chicago:20260219T190000
DTEND;TZID=America/Chicago:20260219T200000
DTSTAMP:20260421T064048
CREATED:20260121T054405Z
LAST-MODIFIED:20260219T065915Z
UID:10003417-1771527600-1771531200@polarridgeseniorliving.com
SUMMARY:Rest & Relaxation
DESCRIPTION:
URL:https://polarridgeseniorliving.com/event-calendar/rest-relaxation-273/
LOCATION:Memory Care
CATEGORIES:Memory Care
END:VEVENT
BEGIN:VEVENT
DTSTART;TZID=America/Chicago:20260219T150000
DTEND;TZID=America/Chicago:20260219T160000
DTSTAMP:20260421T064048
CREATED:20260121T054405Z
LAST-MODIFIED:20260219T065917Z
UID:10003415-1771513200-1771516800@polarridgeseniorliving.com
SUMMARY:1:1 Social Visits
DESCRIPTION:
URL:https://polarridgeseniorliving.com/event-calendar/11-social-visits-123/
LOCATION:Memory Care
CATEGORIES:Memory Care
END:VEVENT
BEGIN:VEVENT
DTSTART;TZID=America/Chicago:20260218T190000
DTEND;TZID=America/Chicago:20260218T200000
DTSTAMP:20260421T064048
CREATED:20260120T052905Z
LAST-MODIFIED:20260218T065957Z
UID:10003402-1771441200-1771444800@polarridgeseniorliving.com
SUMMARY:Rest & Relaxation
DESCRIPTION:
URL:https://polarridgeseniorliving.com/event-calendar/rest-relaxation-272/
LOCATION:Memory Care
CATEGORIES:Memory Care
END:VEVENT
BEGIN:VEVENT
DTSTART;TZID=America/Chicago:20260218T150000
DTEND;TZID=America/Chicago:20260218T160000
DTSTAMP:20260421T064048
CREATED:20260120T052905Z
LAST-MODIFIED:20260218T065957Z
UID:10003400-1771426800-1771430400@polarridgeseniorliving.com
SUMMARY:1:1 Social Visits
DESCRIPTION:
URL:https://polarridgeseniorliving.com/event-calendar/11-social-visits-122/
LOCATION:Memory Care
CATEGORIES:Memory Care
END:VEVENT
BEGIN:VEVENT
DTSTART;TZID=America/Chicago:20260218T133000
DTEND;TZID=America/Chicago:20260218T143000
DTSTAMP:20260421T064048
CREATED:20260120T052904Z
LAST-MODIFIED:20260218T065957Z
UID:10003398-1771421400-1771425000@polarridgeseniorliving.com
SUMMARY:Ladies Club: Fancy Fingers
DESCRIPTION:
URL:https://polarridgeseniorliving.com/event-calendar/ladies-club-fancy-fingers-21/
LOCATION:Memory Care
CATEGORIES:Memory Care
END:VEVENT
BEGIN:VEVENT
DTSTART;TZID=America/Chicago:20260217T190000
DTEND;TZID=America/Chicago:20260217T200000
DTSTAMP:20260421T064048
CREATED:20260119T052905Z
LAST-MODIFIED:20260217T065958Z
UID:10003389-1771354800-1771358400@polarridgeseniorliving.com
SUMMARY:Rest & Relaxation
DESCRIPTION:
URL:https://polarridgeseniorliving.com/event-calendar/rest-relaxation-271/
LOCATION:Memory Care
CATEGORIES:Memory Care
END:VEVENT
BEGIN:VEVENT
DTSTART;TZID=America/Chicago:20260217T150000
DTEND;TZID=America/Chicago:20260217T160000
DTSTAMP:20260421T064048
CREATED:20260119T052905Z
LAST-MODIFIED:20260217T065958Z
UID:10003387-1771340400-1771344000@polarridgeseniorliving.com
SUMMARY:1:1 Social Visits
DESCRIPTION:
URL:https://polarridgeseniorliving.com/event-calendar/11-social-visits-121/
LOCATION:Memory Care
CATEGORIES:Memory Care
END:VEVENT
BEGIN:VEVENT
DTSTART;TZID=America/Chicago:20260216T190000
DTEND;TZID=America/Chicago:20260216T200000
DTSTAMP:20260421T064048
CREATED:20260118T052905Z
LAST-MODIFIED:20260216T065858Z
UID:10003374-1771268400-1771272000@polarridgeseniorliving.com
SUMMARY:Rest & Relaxation
DESCRIPTION:
URL:https://polarridgeseniorliving.com/event-calendar/rest-relaxation-270/
LOCATION:Memory Care
CATEGORIES:Memory Care
END:VEVENT
BEGIN:VEVENT
DTSTART;TZID=America/Chicago:20260216T150000
DTEND;TZID=America/Chicago:20260216T160000
DTSTAMP:20260421T064048
CREATED:20260118T052904Z
LAST-MODIFIED:20260216T065859Z
UID:10003371-1771254000-1771257600@polarridgeseniorliving.com
SUMMARY:1:1 Social Visits
DESCRIPTION:
URL:https://polarridgeseniorliving.com/event-calendar/11-social-visits-120/
LOCATION:Memory Care
CATEGORIES:Memory Care
END:VEVENT
BEGIN:VEVENT
DTSTART;TZID=America/Chicago:20260216T143000
DTEND;TZID=America/Chicago:20260216T150000
DTSTAMP:20260421T064048
CREATED:20260118T052904Z
LAST-MODIFIED:20260216T065859Z
UID:10003370-1771252200-1771254000@polarridgeseniorliving.com
SUMMARY:Story Time
DESCRIPTION:
URL:https://polarridgeseniorliving.com/event-calendar/story-time-with-maria-36/
LOCATION:Memory Care
CATEGORIES:Memory Care
END:VEVENT
BEGIN:VEVENT
DTSTART;TZID=America/Chicago:20260215T190000
DTEND;TZID=America/Chicago:20260215T200000
DTSTAMP:20260421T064048
CREATED:20260117T052907Z
LAST-MODIFIED:20260215T065902Z
UID:10003359-1771182000-1771185600@polarridgeseniorliving.com
SUMMARY:Rest & Relaxation
DESCRIPTION:
URL:https://polarridgeseniorliving.com/event-calendar/rest-relaxation-269/
LOCATION:Memory Care
CATEGORIES:Memory Care
END:VEVENT
BEGIN:VEVENT
DTSTART;TZID=America/Chicago:20260214T190000
DTEND;TZID=America/Chicago:20260214T200000
DTSTAMP:20260421T064048
CREATED:20260116T052905Z
LAST-MODIFIED:20260214T064403Z
UID:10003352-1771095600-1771099200@polarridgeseniorliving.com
SUMMARY:Rest & Relaxation
DESCRIPTION:
URL:https://polarridgeseniorliving.com/event-calendar/rest-relaxation-268/
LOCATION:Memory Care
CATEGORIES:Memory Care
END:VEVENT
BEGIN:VEVENT
DTSTART;TZID=America/Chicago:20260213T190000
DTEND;TZID=America/Chicago:20260213T200000
DTSTAMP:20260421T064048
CREATED:20260115T052908Z
LAST-MODIFIED:20260213T064357Z
UID:10003341-1771009200-1771012800@polarridgeseniorliving.com
SUMMARY:Rest & Relaxation
DESCRIPTION:
URL:https://polarridgeseniorliving.com/event-calendar/rest-relaxation-267/
LOCATION:Memory Care
CATEGORIES:Memory Care
END:VEVENT
BEGIN:VEVENT
DTSTART;TZID=America/Chicago:20260213T150000
DTEND;TZID=America/Chicago:20260213T160000
DTSTAMP:20260421T064048
CREATED:20260115T052908Z
LAST-MODIFIED:20260213T064357Z
UID:10003339-1770994800-1770998400@polarridgeseniorliving.com
SUMMARY:1:1 Social Visits
DESCRIPTION:
URL:https://polarridgeseniorliving.com/event-calendar/11-social-visits-119/
LOCATION:Memory Care
CATEGORIES:Memory Care
END:VEVENT
END:VCALENDAR