BEGIN:VCALENDAR
VERSION:2.0
PRODID:-//Polar Ridge Senior Living - ECPv6.11.2.1//NONSGML v1.0//EN
CALSCALE:GREGORIAN
METHOD:PUBLISH
X-ORIGINAL-URL:https://polarridgeseniorliving.com
X-WR-CALDESC:Events for Polar Ridge Senior Living
REFRESH-INTERVAL;VALUE=DURATION:PT1H
X-Robots-Tag:noindex
X-PUBLISHED-TTL:PT1H
BEGIN:VTIMEZONE
TZID:America/Chicago
BEGIN:DAYLIGHT
TZOFFSETFROM:-0600
TZOFFSETTO:-0500
TZNAME:CDT
DTSTART:20260308T080000
END:DAYLIGHT
BEGIN:STANDARD
TZOFFSETFROM:-0500
TZOFFSETTO:-0600
TZNAME:CST
DTSTART:20261101T070000
END:STANDARD
END:VTIMEZONE
BEGIN:VEVENT
DTSTART;TZID=America/Chicago:20260212T190000
DTEND;TZID=America/Chicago:20260212T200000
DTSTAMP:20260421T114725
CREATED:20260114T052907Z
LAST-MODIFIED:20260212T064357Z
UID:10003328-1770922800-1770926400@polarridgeseniorliving.com
SUMMARY:Rest & Relaxation
DESCRIPTION:
URL:https://polarridgeseniorliving.com/event-calendar/rest-relaxation-266/
LOCATION:Memory Care
CATEGORIES:Memory Care
END:VEVENT
BEGIN:VEVENT
DTSTART;TZID=America/Chicago:20260212T150000
DTEND;TZID=America/Chicago:20260212T160000
DTSTAMP:20260421T114725
CREATED:20260114T052907Z
LAST-MODIFIED:20260212T064357Z
UID:10003326-1770908400-1770912000@polarridgeseniorliving.com
SUMMARY:1:1 Social Visits
DESCRIPTION:
URL:https://polarridgeseniorliving.com/event-calendar/11-social-visits-118/
LOCATION:Memory Care
CATEGORIES:Memory Care
END:VEVENT
BEGIN:VEVENT
DTSTART;TZID=America/Chicago:20260211T190000
DTEND;TZID=America/Chicago:20260211T200000
DTSTAMP:20260421T114725
CREATED:20260113T052907Z
LAST-MODIFIED:20260211T064356Z
UID:10003313-1770836400-1770840000@polarridgeseniorliving.com
SUMMARY:Rest & Relaxation
DESCRIPTION:
URL:https://polarridgeseniorliving.com/event-calendar/rest-relaxation-265/
LOCATION:Memory Care
CATEGORIES:Memory Care
END:VEVENT
BEGIN:VEVENT
DTSTART;TZID=America/Chicago:20260211T150000
DTEND;TZID=America/Chicago:20260211T160000
DTSTAMP:20260421T114725
CREATED:20260113T052907Z
LAST-MODIFIED:20260211T064356Z
UID:10003311-1770822000-1770825600@polarridgeseniorliving.com
SUMMARY:1:1 Social Visits
DESCRIPTION:
URL:https://polarridgeseniorliving.com/event-calendar/11-social-visits-117/
LOCATION:Memory Care
CATEGORIES:Memory Care
END:VEVENT
BEGIN:VEVENT
DTSTART;TZID=America/Chicago:20260211T133000
DTEND;TZID=America/Chicago:20260211T143000
DTSTAMP:20260421T114725
CREATED:20260113T052907Z
LAST-MODIFIED:20260211T064356Z
UID:10003309-1770816600-1770820200@polarridgeseniorliving.com
SUMMARY:Ladies Club: Fancy Fingers
DESCRIPTION:
URL:https://polarridgeseniorliving.com/event-calendar/ladies-club-fancy-fingers-20/
LOCATION:Memory Care
CATEGORIES:Memory Care
END:VEVENT
BEGIN:VEVENT
DTSTART;TZID=America/Chicago:20260210T190000
DTEND;TZID=America/Chicago:20260210T200000
DTSTAMP:20260421T114725
CREATED:20260112T051411Z
LAST-MODIFIED:20260210T064356Z
UID:10003301-1770750000-1770753600@polarridgeseniorliving.com
SUMMARY:Rest & Relaxation
DESCRIPTION:
URL:https://polarridgeseniorliving.com/event-calendar/rest-relaxation-264/
LOCATION:Memory Care
CATEGORIES:Memory Care
END:VEVENT
BEGIN:VEVENT
DTSTART;TZID=America/Chicago:20260210T150000
DTEND;TZID=America/Chicago:20260210T160000
DTSTAMP:20260421T114725
CREATED:20260112T051411Z
LAST-MODIFIED:20260210T064356Z
UID:10003299-1770735600-1770739200@polarridgeseniorliving.com
SUMMARY:1:1 Social Visits
DESCRIPTION:
URL:https://polarridgeseniorliving.com/event-calendar/11-social-visits-116/
LOCATION:Memory Care
CATEGORIES:Memory Care
END:VEVENT
BEGIN:VEVENT
DTSTART;TZID=America/Chicago:20260209T190000
DTEND;TZID=America/Chicago:20260209T200000
DTSTAMP:20260421T114725
CREATED:20260111T045934Z
LAST-MODIFIED:20260209T064408Z
UID:10003286-1770663600-1770667200@polarridgeseniorliving.com
SUMMARY:Rest & Relaxation
DESCRIPTION:
URL:https://polarridgeseniorliving.com/event-calendar/rest-relaxation-263/
LOCATION:Memory Care
CATEGORIES:Memory Care
END:VEVENT
BEGIN:VEVENT
DTSTART;TZID=America/Chicago:20260209T150000
DTEND;TZID=America/Chicago:20260209T160000
DTSTAMP:20260421T114725
CREATED:20260111T045934Z
LAST-MODIFIED:20260209T064356Z
UID:10003283-1770649200-1770652800@polarridgeseniorliving.com
SUMMARY:1:1 Social Visits
DESCRIPTION:
URL:https://polarridgeseniorliving.com/event-calendar/11-social-visits-115/
LOCATION:Memory Care
CATEGORIES:Memory Care
END:VEVENT
BEGIN:VEVENT
DTSTART;TZID=America/Chicago:20260209T143000
DTEND;TZID=America/Chicago:20260209T150000
DTSTAMP:20260421T114725
CREATED:20260111T045933Z
LAST-MODIFIED:20260209T064356Z
UID:10003282-1770647400-1770649200@polarridgeseniorliving.com
SUMMARY:Story Time
DESCRIPTION:
URL:https://polarridgeseniorliving.com/event-calendar/story-time-with-maria-35/
LOCATION:Memory Care
CATEGORIES:Memory Care
END:VEVENT
BEGIN:VEVENT
DTSTART;TZID=America/Chicago:20260208T190000
DTEND;TZID=America/Chicago:20260208T200000
DTSTAMP:20260421T114725
CREATED:20260110T045908Z
LAST-MODIFIED:20260208T064358Z
UID:10003271-1770577200-1770580800@polarridgeseniorliving.com
SUMMARY:Rest & Relaxation
DESCRIPTION:
URL:https://polarridgeseniorliving.com/event-calendar/rest-relaxation-262/
LOCATION:Memory Care
CATEGORIES:Memory Care
END:VEVENT
BEGIN:VEVENT
DTSTART;TZID=America/Chicago:20260207T190000
DTEND;TZID=America/Chicago:20260207T200000
DTSTAMP:20260421T114725
CREATED:20260109T045906Z
LAST-MODIFIED:20260207T064430Z
UID:10003264-1770490800-1770494400@polarridgeseniorliving.com
SUMMARY:Rest & Relaxation
DESCRIPTION:
URL:https://polarridgeseniorliving.com/event-calendar/rest-relaxation-261/
LOCATION:Memory Care
CATEGORIES:Memory Care
END:VEVENT
BEGIN:VEVENT
DTSTART;TZID=America/Chicago:20260206T190000
DTEND;TZID=America/Chicago:20260206T200000
DTSTAMP:20260421T114725
CREATED:20260108T044406Z
LAST-MODIFIED:20260206T062856Z
UID:10003253-1770404400-1770408000@polarridgeseniorliving.com
SUMMARY:Rest & Relaxation
DESCRIPTION:
URL:https://polarridgeseniorliving.com/event-calendar/rest-relaxation-260/
LOCATION:Memory Care
CATEGORIES:Memory Care
END:VEVENT
BEGIN:VEVENT
DTSTART;TZID=America/Chicago:20260206T150000
DTEND;TZID=America/Chicago:20260206T160000
DTSTAMP:20260421T114725
CREATED:20260108T044406Z
LAST-MODIFIED:20260206T062856Z
UID:10003251-1770390000-1770393600@polarridgeseniorliving.com
SUMMARY:1:1 Social Visits
DESCRIPTION:
URL:https://polarridgeseniorliving.com/event-calendar/11-social-visits-114/
LOCATION:Memory Care
CATEGORIES:Memory Care
END:VEVENT
BEGIN:VEVENT
DTSTART;TZID=America/Chicago:20260205T190000
DTEND;TZID=America/Chicago:20260205T200000
DTSTAMP:20260421T114725
CREATED:20260107T044425Z
LAST-MODIFIED:20260205T062910Z
UID:10003240-1770318000-1770321600@polarridgeseniorliving.com
SUMMARY:Rest & Relaxation
DESCRIPTION:
URL:https://polarridgeseniorliving.com/event-calendar/rest-relaxation-259/
LOCATION:Memory Care
CATEGORIES:Memory Care
END:VEVENT
BEGIN:VEVENT
DTSTART;TZID=America/Chicago:20260205T150000
DTEND;TZID=America/Chicago:20260205T160000
DTSTAMP:20260421T114725
CREATED:20260107T044425Z
LAST-MODIFIED:20260205T062910Z
UID:10003238-1770303600-1770307200@polarridgeseniorliving.com
SUMMARY:1:1 Social Visits
DESCRIPTION:
URL:https://polarridgeseniorliving.com/event-calendar/11-social-visits-113/
LOCATION:Memory Care
CATEGORIES:Memory Care
END:VEVENT
BEGIN:VEVENT
DTSTART;TZID=America/Chicago:20260204T190000
DTEND;TZID=America/Chicago:20260204T200000
DTSTAMP:20260421T114725
CREATED:20260106T044420Z
LAST-MODIFIED:20260204T061402Z
UID:10003225-1770231600-1770235200@polarridgeseniorliving.com
SUMMARY:Rest & Relaxation
DESCRIPTION:
URL:https://polarridgeseniorliving.com/event-calendar/rest-relaxation-258/
LOCATION:Memory Care
CATEGORIES:Memory Care
END:VEVENT
BEGIN:VEVENT
DTSTART;TZID=America/Chicago:20260204T150000
DTEND;TZID=America/Chicago:20260204T160000
DTSTAMP:20260421T114725
CREATED:20260106T044420Z
LAST-MODIFIED:20260204T061402Z
UID:10003223-1770217200-1770220800@polarridgeseniorliving.com
SUMMARY:1:1 Social Visits
DESCRIPTION:
URL:https://polarridgeseniorliving.com/event-calendar/11-social-visits-112/
LOCATION:Memory Care
CATEGORIES:Memory Care
END:VEVENT
BEGIN:VEVENT
DTSTART;TZID=America/Chicago:20260204T133000
DTEND;TZID=America/Chicago:20260204T143000
DTSTAMP:20260421T114725
CREATED:20260106T044420Z
LAST-MODIFIED:20260204T061402Z
UID:10003221-1770211800-1770215400@polarridgeseniorliving.com
SUMMARY:Ladies Club: Fancy Fingers
DESCRIPTION:
URL:https://polarridgeseniorliving.com/event-calendar/ladies-club-fancy-fingers-19/
LOCATION:Memory Care
CATEGORIES:Memory Care
END:VEVENT
BEGIN:VEVENT
DTSTART;TZID=America/Chicago:20260203T190000
DTEND;TZID=America/Chicago:20260203T200000
DTSTAMP:20260421T114725
CREATED:20260105T044408Z
LAST-MODIFIED:20260203T061355Z
UID:10003214-1770145200-1770148800@polarridgeseniorliving.com
SUMMARY:Rest & Relaxation
DESCRIPTION:
URL:https://polarridgeseniorliving.com/event-calendar/rest-relaxation-257/
LOCATION:Memory Care
CATEGORIES:Memory Care
END:VEVENT
BEGIN:VEVENT
DTSTART;TZID=America/Chicago:20260203T150000
DTEND;TZID=America/Chicago:20260203T160000
DTSTAMP:20260421T114725
CREATED:20260105T044408Z
LAST-MODIFIED:20260203T061355Z
UID:10003212-1770130800-1770134400@polarridgeseniorliving.com
SUMMARY:1:1 Social Visits
DESCRIPTION:
URL:https://polarridgeseniorliving.com/event-calendar/11-social-visits-111/
LOCATION:Memory Care
CATEGORIES:Memory Care
END:VEVENT
BEGIN:VEVENT
DTSTART;TZID=America/Chicago:20260202T190000
DTEND;TZID=America/Chicago:20260202T200000
DTSTAMP:20260421T114725
CREATED:20260104T044413Z
LAST-MODIFIED:20260202T061355Z
UID:10003199-1770058800-1770062400@polarridgeseniorliving.com
SUMMARY:Rest & Relaxation
DESCRIPTION:
URL:https://polarridgeseniorliving.com/event-calendar/rest-relaxation-256/
LOCATION:Memory Care
CATEGORIES:Memory Care
END:VEVENT
BEGIN:VEVENT
DTSTART;TZID=America/Chicago:20260202T150000
DTEND;TZID=America/Chicago:20260202T160000
DTSTAMP:20260421T114725
CREATED:20260104T044412Z
LAST-MODIFIED:20260202T061355Z
UID:10003196-1770044400-1770048000@polarridgeseniorliving.com
SUMMARY:1:1 Social Visits
DESCRIPTION:
URL:https://polarridgeseniorliving.com/event-calendar/11-social-visits-110/
LOCATION:Memory Care
CATEGORIES:Memory Care
END:VEVENT
BEGIN:VEVENT
DTSTART;TZID=America/Chicago:20260202T140000
DTEND;TZID=America/Chicago:20260202T143000
DTSTAMP:20260421T114725
CREATED:20260104T044412Z
LAST-MODIFIED:20260202T061355Z
UID:10003195-1770040800-1770042600@polarridgeseniorliving.com
SUMMARY:Story Time with Maria
DESCRIPTION:
URL:https://polarridgeseniorliving.com/event-calendar/story-time-with-maria-34/
LOCATION:Memory Care
CATEGORIES:Memory Care
END:VEVENT
BEGIN:VEVENT
DTSTART;TZID=America/Chicago:20260202T130000
DTEND;TZID=America/Chicago:20260202T140000
DTSTAMP:20260421T114725
CREATED:20260104T044412Z
LAST-MODIFIED:20260105T044408Z
UID:10003194-1770037200-1770040800@polarridgeseniorliving.com
SUMMARY:Arts & Crafts
DESCRIPTION:
URL:https://polarridgeseniorliving.com/event-calendar/arts-crafts-52/
LOCATION:Memory Care
CATEGORIES:Memory Care
END:VEVENT
BEGIN:VEVENT
DTSTART;TZID=America/Chicago:20260201T190000
DTEND;TZID=America/Chicago:20260201T200000
DTSTAMP:20260421T114725
CREATED:20260103T044412Z
LAST-MODIFIED:20260201T061355Z
UID:10003183-1769972400-1769976000@polarridgeseniorliving.com
SUMMARY:Rest & Relaxation
DESCRIPTION:
URL:https://polarridgeseniorliving.com/event-calendar/rest-relaxation-255/
LOCATION:Memory Care
CATEGORIES:Memory Care
END:VEVENT
BEGIN:VEVENT
DTSTART;TZID=America/Chicago:20260131T190000
DTEND;TZID=America/Chicago:20260131T200000
DTSTAMP:20260421T114725
CREATED:20260102T044410Z
LAST-MODIFIED:20260131T061356Z
UID:10003176-1769886000-1769889600@polarridgeseniorliving.com
SUMMARY:Rest & Relaxation
DESCRIPTION:
URL:https://polarridgeseniorliving.com/event-calendar/rest-relaxation-254/
LOCATION:Memory Care
CATEGORIES:Memory Care
END:VEVENT
BEGIN:VEVENT
DTSTART;TZID=America/Chicago:20260131T103000
DTEND;TZID=America/Chicago:20260131T113000
DTSTAMP:20260421T114725
CREATED:20260102T044410Z
LAST-MODIFIED:20260131T061356Z
UID:10003170-1769855400-1769859000@polarridgeseniorliving.com
SUMMARY:Coffee Social/Daily Chronicle
DESCRIPTION:
URL:https://polarridgeseniorliving.com/event-calendar/coffee-social-daily-chronicle-173/
LOCATION:Memory Care
CATEGORIES:Memory Care
END:VEVENT
BEGIN:VEVENT
DTSTART;TZID=America/Chicago:20260130T190000
DTEND;TZID=America/Chicago:20260130T200000
DTSTAMP:20260421T114725
CREATED:20260101T042913Z
LAST-MODIFIED:20260130T061359Z
UID:10003162-1769799600-1769803200@polarridgeseniorliving.com
SUMMARY:Rest & Relaxation
DESCRIPTION:
URL:https://polarridgeseniorliving.com/event-calendar/rest-relaxation-253/
LOCATION:Memory Care
CATEGORIES:Memory Care
END:VEVENT
BEGIN:VEVENT
DTSTART;TZID=America/Chicago:20260130T173000
DTEND;TZID=America/Chicago:20260130T183000
DTSTAMP:20260421T114725
CREATED:20260101T042913Z
LAST-MODIFIED:20260130T061359Z
UID:10003161-1769794200-1769797800@polarridgeseniorliving.com
SUMMARY:Music Appreciation
DESCRIPTION:
URL:https://polarridgeseniorliving.com/event-calendar/music-appreciation-159/
LOCATION:Memory Care
CATEGORIES:Memory Care
END:VEVENT
END:VCALENDAR