BEGIN:VCALENDAR
VERSION:2.0
PRODID:-//Polar Ridge Senior Living - ECPv6.11.2.1//NONSGML v1.0//EN
CALSCALE:GREGORIAN
METHOD:PUBLISH
X-ORIGINAL-URL:https://polarridgeseniorliving.com
X-WR-CALDESC:Events for Polar Ridge Senior Living
REFRESH-INTERVAL;VALUE=DURATION:PT1H
X-Robots-Tag:noindex
X-PUBLISHED-TTL:PT1H
BEGIN:VTIMEZONE
TZID:America/Chicago
BEGIN:DAYLIGHT
TZOFFSETFROM:-0600
TZOFFSETTO:-0500
TZNAME:CDT
DTSTART:20260308T080000
END:DAYLIGHT
BEGIN:STANDARD
TZOFFSETFROM:-0500
TZOFFSETTO:-0600
TZNAME:CST
DTSTART:20261101T070000
END:STANDARD
END:VTIMEZONE
BEGIN:VEVENT
DTSTART;TZID=America/Chicago:20260203T150000
DTEND;TZID=America/Chicago:20260203T160000
DTSTAMP:20260421T143114
CREATED:20260105T044408Z
LAST-MODIFIED:20260203T061355Z
UID:10003212-1770130800-1770134400@polarridgeseniorliving.com
SUMMARY:1:1 Social Visits
DESCRIPTION:
URL:https://polarridgeseniorliving.com/event-calendar/11-social-visits-111/
LOCATION:Memory Care
CATEGORIES:Memory Care
END:VEVENT
BEGIN:VEVENT
DTSTART;TZID=America/Chicago:20260202T190000
DTEND;TZID=America/Chicago:20260202T200000
DTSTAMP:20260421T143114
CREATED:20260104T044413Z
LAST-MODIFIED:20260202T061355Z
UID:10003199-1770058800-1770062400@polarridgeseniorliving.com
SUMMARY:Rest & Relaxation
DESCRIPTION:
URL:https://polarridgeseniorliving.com/event-calendar/rest-relaxation-256/
LOCATION:Memory Care
CATEGORIES:Memory Care
END:VEVENT
BEGIN:VEVENT
DTSTART;TZID=America/Chicago:20260202T150000
DTEND;TZID=America/Chicago:20260202T160000
DTSTAMP:20260421T143114
CREATED:20260104T044412Z
LAST-MODIFIED:20260202T061355Z
UID:10003196-1770044400-1770048000@polarridgeseniorliving.com
SUMMARY:1:1 Social Visits
DESCRIPTION:
URL:https://polarridgeseniorliving.com/event-calendar/11-social-visits-110/
LOCATION:Memory Care
CATEGORIES:Memory Care
END:VEVENT
BEGIN:VEVENT
DTSTART;TZID=America/Chicago:20260202T140000
DTEND;TZID=America/Chicago:20260202T143000
DTSTAMP:20260421T143114
CREATED:20260104T044412Z
LAST-MODIFIED:20260202T061355Z
UID:10003195-1770040800-1770042600@polarridgeseniorliving.com
SUMMARY:Story Time with Maria
DESCRIPTION:
URL:https://polarridgeseniorliving.com/event-calendar/story-time-with-maria-34/
LOCATION:Memory Care
CATEGORIES:Memory Care
END:VEVENT
BEGIN:VEVENT
DTSTART;TZID=America/Chicago:20260202T130000
DTEND;TZID=America/Chicago:20260202T140000
DTSTAMP:20260421T143114
CREATED:20260104T044412Z
LAST-MODIFIED:20260105T044408Z
UID:10003194-1770037200-1770040800@polarridgeseniorliving.com
SUMMARY:Arts & Crafts
DESCRIPTION:
URL:https://polarridgeseniorliving.com/event-calendar/arts-crafts-52/
LOCATION:Memory Care
CATEGORIES:Memory Care
END:VEVENT
BEGIN:VEVENT
DTSTART;TZID=America/Chicago:20260201T190000
DTEND;TZID=America/Chicago:20260201T200000
DTSTAMP:20260421T143114
CREATED:20260103T044412Z
LAST-MODIFIED:20260201T061355Z
UID:10003183-1769972400-1769976000@polarridgeseniorliving.com
SUMMARY:Rest & Relaxation
DESCRIPTION:
URL:https://polarridgeseniorliving.com/event-calendar/rest-relaxation-255/
LOCATION:Memory Care
CATEGORIES:Memory Care
END:VEVENT
BEGIN:VEVENT
DTSTART;TZID=America/Chicago:20260131T190000
DTEND;TZID=America/Chicago:20260131T200000
DTSTAMP:20260421T143114
CREATED:20260102T044410Z
LAST-MODIFIED:20260131T061356Z
UID:10003176-1769886000-1769889600@polarridgeseniorliving.com
SUMMARY:Rest & Relaxation
DESCRIPTION:
URL:https://polarridgeseniorliving.com/event-calendar/rest-relaxation-254/
LOCATION:Memory Care
CATEGORIES:Memory Care
END:VEVENT
BEGIN:VEVENT
DTSTART;TZID=America/Chicago:20260131T103000
DTEND;TZID=America/Chicago:20260131T113000
DTSTAMP:20260421T143114
CREATED:20260102T044410Z
LAST-MODIFIED:20260131T061356Z
UID:10003170-1769855400-1769859000@polarridgeseniorliving.com
SUMMARY:Coffee Social/Daily Chronicle
DESCRIPTION:
URL:https://polarridgeseniorliving.com/event-calendar/coffee-social-daily-chronicle-173/
LOCATION:Memory Care
CATEGORIES:Memory Care
END:VEVENT
BEGIN:VEVENT
DTSTART;TZID=America/Chicago:20260130T190000
DTEND;TZID=America/Chicago:20260130T200000
DTSTAMP:20260421T143114
CREATED:20260101T042913Z
LAST-MODIFIED:20260130T061359Z
UID:10003162-1769799600-1769803200@polarridgeseniorliving.com
SUMMARY:Rest & Relaxation
DESCRIPTION:
URL:https://polarridgeseniorliving.com/event-calendar/rest-relaxation-253/
LOCATION:Memory Care
CATEGORIES:Memory Care
END:VEVENT
BEGIN:VEVENT
DTSTART;TZID=America/Chicago:20260130T173000
DTEND;TZID=America/Chicago:20260130T183000
DTSTAMP:20260421T143114
CREATED:20260101T042913Z
LAST-MODIFIED:20260130T061359Z
UID:10003161-1769794200-1769797800@polarridgeseniorliving.com
SUMMARY:Music Appreciation
DESCRIPTION:
URL:https://polarridgeseniorliving.com/event-calendar/music-appreciation-159/
LOCATION:Memory Care
CATEGORIES:Memory Care
END:VEVENT
BEGIN:VEVENT
DTSTART;TZID=America/Chicago:20260130T150000
DTEND;TZID=America/Chicago:20260130T160000
DTSTAMP:20260421T143114
CREATED:20260101T042913Z
LAST-MODIFIED:20260130T061359Z
UID:10003159-1769785200-1769788800@polarridgeseniorliving.com
SUMMARY:1:1 Social Visits
DESCRIPTION:
URL:https://polarridgeseniorliving.com/event-calendar/11-social-visits-109/
LOCATION:Memory Care
CATEGORIES:Memory Care
END:VEVENT
BEGIN:VEVENT
DTSTART;TZID=America/Chicago:20260130T103000
DTEND;TZID=America/Chicago:20260130T113000
DTSTAMP:20260421T143114
CREATED:20260101T042912Z
LAST-MODIFIED:20260130T061359Z
UID:10003156-1769769000-1769772600@polarridgeseniorliving.com
SUMMARY:Coffee Social/Daily Chronicle
DESCRIPTION:
URL:https://polarridgeseniorliving.com/event-calendar/coffee-social-daily-chronicle-172/
LOCATION:Memory Care
CATEGORIES:Memory Care
END:VEVENT
BEGIN:VEVENT
DTSTART;TZID=America/Chicago:20260129T190000
DTEND;TZID=America/Chicago:20260129T200000
DTSTAMP:20260421T143114
CREATED:20251231T041443Z
LAST-MODIFIED:20260129T061358Z
UID:10003112-1769713200-1769716800@polarridgeseniorliving.com
SUMMARY:Rest & Relaxation
DESCRIPTION:
URL:https://polarridgeseniorliving.com/event-calendar/rest-relaxation-252/
LOCATION:Memory Care
CATEGORIES:Memory Care
END:VEVENT
BEGIN:VEVENT
DTSTART;TZID=America/Chicago:20260129T173000
DTEND;TZID=America/Chicago:20260129T183000
DTSTAMP:20260421T143114
CREATED:20251231T041443Z
LAST-MODIFIED:20260129T061359Z
UID:10003111-1769707800-1769711400@polarridgeseniorliving.com
SUMMARY:Music Appreciation
DESCRIPTION:
URL:https://polarridgeseniorliving.com/event-calendar/music-appreciation-158/
LOCATION:Memory Care
CATEGORIES:Memory Care
END:VEVENT
BEGIN:VEVENT
DTSTART;TZID=America/Chicago:20260129T150000
DTEND;TZID=America/Chicago:20260129T160000
DTSTAMP:20260421T143114
CREATED:20251231T041443Z
LAST-MODIFIED:20260129T061359Z
UID:10003109-1769698800-1769702400@polarridgeseniorliving.com
SUMMARY:1:1 Social Visits
DESCRIPTION:
URL:https://polarridgeseniorliving.com/event-calendar/11-social-visits-108/
LOCATION:Memory Care
CATEGORIES:Memory Care
END:VEVENT
BEGIN:VEVENT
DTSTART;TZID=America/Chicago:20260129T130000
DTEND;TZID=America/Chicago:20260129T140000
DTSTAMP:20260421T143114
CREATED:20251231T041443Z
LAST-MODIFIED:20260129T061359Z
UID:10003107-1769691600-1769695200@polarridgeseniorliving.com
SUMMARY:Bingo
DESCRIPTION:
URL:https://polarridgeseniorliving.com/event-calendar/bingo-75/
LOCATION:Memory Care
CATEGORIES:Memory Care
END:VEVENT
BEGIN:VEVENT
DTSTART;TZID=America/Chicago:20260129T103000
DTEND;TZID=America/Chicago:20260129T113000
DTSTAMP:20260421T143114
CREATED:20251231T041443Z
LAST-MODIFIED:20260129T061359Z
UID:10003106-1769682600-1769686200@polarridgeseniorliving.com
SUMMARY:Coffee Social/Daily Chronicle
DESCRIPTION:
URL:https://polarridgeseniorliving.com/event-calendar/coffee-social-daily-chronicle-171/
LOCATION:Memory Care
CATEGORIES:Memory Care
END:VEVENT
BEGIN:VEVENT
DTSTART;TZID=America/Chicago:20260128T190000
DTEND;TZID=America/Chicago:20260128T200000
DTSTAMP:20260421T143114
CREATED:20251230T041412Z
LAST-MODIFIED:20260128T061354Z
UID:10003096-1769626800-1769630400@polarridgeseniorliving.com
SUMMARY:Rest & Relaxation
DESCRIPTION:
URL:https://polarridgeseniorliving.com/event-calendar/rest-relaxation-251/
LOCATION:Memory Care
CATEGORIES:Memory Care
END:VEVENT
BEGIN:VEVENT
DTSTART;TZID=America/Chicago:20260128T173000
DTEND;TZID=America/Chicago:20260128T183000
DTSTAMP:20260421T143114
CREATED:20251230T041412Z
LAST-MODIFIED:20260128T061355Z
UID:10003095-1769621400-1769625000@polarridgeseniorliving.com
SUMMARY:Music Appreciation
DESCRIPTION:
URL:https://polarridgeseniorliving.com/event-calendar/music-appreciation-157/
LOCATION:Memory Care
CATEGORIES:Memory Care
END:VEVENT
BEGIN:VEVENT
DTSTART;TZID=America/Chicago:20260128T150000
DTEND;TZID=America/Chicago:20260128T160000
DTSTAMP:20260421T143114
CREATED:20251230T041412Z
LAST-MODIFIED:20260128T061355Z
UID:10003093-1769612400-1769616000@polarridgeseniorliving.com
SUMMARY:1:1 Social Visits
DESCRIPTION:
URL:https://polarridgeseniorliving.com/event-calendar/11-social-visits-107/
LOCATION:Memory Care
CATEGORIES:Memory Care
END:VEVENT
BEGIN:VEVENT
DTSTART;TZID=America/Chicago:20260128T133000
DTEND;TZID=America/Chicago:20260128T143000
DTSTAMP:20260421T143114
CREATED:20251230T041411Z
LAST-MODIFIED:20260128T061355Z
UID:10003091-1769607000-1769610600@polarridgeseniorliving.com
SUMMARY:Ladies Club: Fancy Fingers
DESCRIPTION:
URL:https://polarridgeseniorliving.com/event-calendar/ladies-club-fancy-fingers-18/
LOCATION:Memory Care
CATEGORIES:Memory Care
END:VEVENT
BEGIN:VEVENT
DTSTART;TZID=America/Chicago:20260128T103000
DTEND;TZID=America/Chicago:20260128T113000
DTSTAMP:20260421T143114
CREATED:20251230T041411Z
LAST-MODIFIED:20260128T061355Z
UID:10003089-1769596200-1769599800@polarridgeseniorliving.com
SUMMARY:Coffee Social/Daily Chronicle
DESCRIPTION:
URL:https://polarridgeseniorliving.com/event-calendar/coffee-social-daily-chronicle-170/
LOCATION:Memory Care
CATEGORIES:Memory Care
END:VEVENT
BEGIN:VEVENT
DTSTART;TZID=America/Chicago:20260127T190000
DTEND;TZID=America/Chicago:20260127T200000
DTSTAMP:20260421T143114
CREATED:20251229T035914Z
LAST-MODIFIED:20260127T055855Z
UID:10003081-1769540400-1769544000@polarridgeseniorliving.com
SUMMARY:Rest & Relaxation
DESCRIPTION:
URL:https://polarridgeseniorliving.com/event-calendar/rest-relaxation-250/
LOCATION:Memory Care
CATEGORIES:Memory Care
END:VEVENT
BEGIN:VEVENT
DTSTART;TZID=America/Chicago:20260127T173000
DTEND;TZID=America/Chicago:20260127T183000
DTSTAMP:20260421T143114
CREATED:20251229T035914Z
LAST-MODIFIED:20260127T055855Z
UID:10003080-1769535000-1769538600@polarridgeseniorliving.com
SUMMARY:Music Appreciation
DESCRIPTION:
URL:https://polarridgeseniorliving.com/event-calendar/music-appreciation-156/
LOCATION:Memory Care
CATEGORIES:Memory Care
END:VEVENT
BEGIN:VEVENT
DTSTART;TZID=America/Chicago:20260127T150000
DTEND;TZID=America/Chicago:20260127T160000
DTSTAMP:20260421T143114
CREATED:20251229T035914Z
LAST-MODIFIED:20260127T055855Z
UID:10003078-1769526000-1769529600@polarridgeseniorliving.com
SUMMARY:1:1 Social Visits
DESCRIPTION:
URL:https://polarridgeseniorliving.com/event-calendar/11-social-visits-106/
LOCATION:Memory Care
CATEGORIES:Memory Care
END:VEVENT
BEGIN:VEVENT
DTSTART;TZID=America/Chicago:20260127T130000
DTEND;TZID=America/Chicago:20260127T140000
DTSTAMP:20260421T143114
CREATED:20251229T035914Z
LAST-MODIFIED:20260127T055855Z
UID:10003076-1769518800-1769522400@polarridgeseniorliving.com
SUMMARY:Bingo
DESCRIPTION:
URL:https://polarridgeseniorliving.com/event-calendar/bingo-74/
LOCATION:Memory Care
CATEGORIES:Memory Care
END:VEVENT
BEGIN:VEVENT
DTSTART;TZID=America/Chicago:20260127T103000
DTEND;TZID=America/Chicago:20260127T113000
DTSTAMP:20260421T143114
CREATED:20251229T035914Z
LAST-MODIFIED:20260127T055855Z
UID:10003074-1769509800-1769513400@polarridgeseniorliving.com
SUMMARY:Coffee Social/Daily Chronicle
DESCRIPTION:
URL:https://polarridgeseniorliving.com/event-calendar/coffee-social-daily-chronicle-169/
LOCATION:Memory Care
CATEGORIES:Memory Care
END:VEVENT
BEGIN:VEVENT
DTSTART;TZID=America/Chicago:20260126T190000
DTEND;TZID=America/Chicago:20260126T200000
DTSTAMP:20260421T143114
CREATED:20251228T035910Z
LAST-MODIFIED:20260126T055907Z
UID:10003064-1769454000-1769457600@polarridgeseniorliving.com
SUMMARY:Rest & Relaxation
DESCRIPTION:
URL:https://polarridgeseniorliving.com/event-calendar/rest-relaxation-249/
LOCATION:Memory Care
CATEGORIES:Memory Care
END:VEVENT
BEGIN:VEVENT
DTSTART;TZID=America/Chicago:20260126T150000
DTEND;TZID=America/Chicago:20260126T160000
DTSTAMP:20260421T143114
CREATED:20251228T035910Z
LAST-MODIFIED:20260126T055907Z
UID:10003061-1769439600-1769443200@polarridgeseniorliving.com
SUMMARY:1:1 Social Visits
DESCRIPTION:
URL:https://polarridgeseniorliving.com/event-calendar/11-social-visits-105/
LOCATION:Memory Care
CATEGORIES:Memory Care
END:VEVENT
BEGIN:VEVENT
DTSTART;TZID=America/Chicago:20260126T140000
DTEND;TZID=America/Chicago:20260126T143000
DTSTAMP:20260421T143114
CREATED:20251228T035910Z
LAST-MODIFIED:20260126T055907Z
UID:10003060-1769436000-1769437800@polarridgeseniorliving.com
SUMMARY:Story Time with Maria
DESCRIPTION:
URL:https://polarridgeseniorliving.com/event-calendar/story-time-with-maria-33/
LOCATION:Memory Care
CATEGORIES:Memory Care
END:VEVENT
END:VCALENDAR