BEGIN:VCALENDAR
VERSION:2.0
PRODID:-//Polar Ridge Senior Living - ECPv6.11.2.1//NONSGML v1.0//EN
CALSCALE:GREGORIAN
METHOD:PUBLISH
X-WR-CALNAME:Polar Ridge Senior Living
X-ORIGINAL-URL:https://polarridgeseniorliving.com
X-WR-CALDESC:Events for Polar Ridge Senior Living
REFRESH-INTERVAL;VALUE=DURATION:PT1H
X-Robots-Tag:noindex
X-PUBLISHED-TTL:PT1H
BEGIN:VTIMEZONE
TZID:America/Chicago
BEGIN:DAYLIGHT
TZOFFSETFROM:-0600
TZOFFSETTO:-0500
TZNAME:CDT
DTSTART:20260308T080000
END:DAYLIGHT
BEGIN:STANDARD
TZOFFSETFROM:-0500
TZOFFSETTO:-0600
TZNAME:CST
DTSTART:20261101T070000
END:STANDARD
END:VTIMEZONE
BEGIN:VEVENT
DTSTART;TZID=America/Chicago:20260114T173000
DTEND;TZID=America/Chicago:20260114T183000
DTSTAMP:20260422T032636
CREATED:20251217T022914Z
LAST-MODIFIED:20260114T052857Z
UID:10002900-1768411800-1768415400@polarridgeseniorliving.com
SUMMARY:Music Appreciation
DESCRIPTION:
URL:https://polarridgeseniorliving.com/event-calendar/music-appreciation-149/
LOCATION:Memory Care
CATEGORIES:Memory Care
END:VEVENT
BEGIN:VEVENT
DTSTART;TZID=America/Chicago:20260114T150000
DTEND;TZID=America/Chicago:20260114T160000
DTSTAMP:20260422T032636
CREATED:20251217T022914Z
LAST-MODIFIED:20260114T052857Z
UID:10002898-1768402800-1768406400@polarridgeseniorliving.com
SUMMARY:1:1 Social Visits
DESCRIPTION:
URL:https://polarridgeseniorliving.com/event-calendar/11-social-visits-97/
LOCATION:Memory Care
CATEGORIES:Memory Care
END:VEVENT
BEGIN:VEVENT
DTSTART;TZID=America/Chicago:20260114T133000
DTEND;TZID=America/Chicago:20260114T143000
DTSTAMP:20260422T032636
CREATED:20251216T022916Z
LAST-MODIFIED:20260114T052857Z
UID:10002890-1768397400-1768401000@polarridgeseniorliving.com
SUMMARY:Ladies Club: Fancy Fingers
DESCRIPTION:
URL:https://polarridgeseniorliving.com/event-calendar/ladies-club-fancy-fingers-16/
LOCATION:Memory Care
CATEGORIES:Memory Care
END:VEVENT
BEGIN:VEVENT
DTSTART;TZID=America/Chicago:20260114T103000
DTEND;TZID=America/Chicago:20260114T113000
DTSTAMP:20260422T032636
CREATED:20251216T022916Z
LAST-MODIFIED:20260114T052857Z
UID:10002888-1768386600-1768390200@polarridgeseniorliving.com
SUMMARY:Coffee Social/Daily Chronicle
DESCRIPTION:
URL:https://polarridgeseniorliving.com/event-calendar/coffee-social-daily-chronicle-156/
LOCATION:Memory Care
CATEGORIES:Memory Care
END:VEVENT
BEGIN:VEVENT
DTSTART;TZID=America/Chicago:20260113T190000
DTEND;TZID=America/Chicago:20260113T200000
DTSTAMP:20260422T032636
CREATED:20251216T022915Z
LAST-MODIFIED:20260113T052858Z
UID:10002885-1768330800-1768334400@polarridgeseniorliving.com
SUMMARY:Rest & Relaxation
DESCRIPTION:
URL:https://polarridgeseniorliving.com/event-calendar/rest-relaxation-236/
LOCATION:Memory Care
CATEGORIES:Memory Care
END:VEVENT
BEGIN:VEVENT
DTSTART;TZID=America/Chicago:20260113T173000
DTEND;TZID=America/Chicago:20260113T183000
DTSTAMP:20260422T032636
CREATED:20251216T022915Z
LAST-MODIFIED:20260113T052858Z
UID:10002884-1768325400-1768329000@polarridgeseniorliving.com
SUMMARY:Music Appreciation
DESCRIPTION:
URL:https://polarridgeseniorliving.com/event-calendar/music-appreciation-148/
LOCATION:Memory Care
CATEGORIES:Memory Care
END:VEVENT
BEGIN:VEVENT
DTSTART;TZID=America/Chicago:20260113T150000
DTEND;TZID=America/Chicago:20260113T160000
DTSTAMP:20260422T032636
CREATED:20251216T022915Z
LAST-MODIFIED:20260113T052858Z
UID:10002882-1768316400-1768320000@polarridgeseniorliving.com
SUMMARY:1:1 Social Visits
DESCRIPTION:
URL:https://polarridgeseniorliving.com/event-calendar/11-social-visits-96/
LOCATION:Memory Care
CATEGORIES:Memory Care
END:VEVENT
BEGIN:VEVENT
DTSTART;TZID=America/Chicago:20260113T130000
DTEND;TZID=America/Chicago:20260113T140000
DTSTAMP:20260422T032636
CREATED:20251216T022915Z
LAST-MODIFIED:20260113T052858Z
UID:10002880-1768309200-1768312800@polarridgeseniorliving.com
SUMMARY:Bingo
DESCRIPTION:
URL:https://polarridgeseniorliving.com/event-calendar/bingo-70/
LOCATION:Memory Care
CATEGORIES:Memory Care
END:VEVENT
BEGIN:VEVENT
DTSTART;TZID=America/Chicago:20260113T103000
DTEND;TZID=America/Chicago:20260113T113000
DTSTAMP:20260422T032636
CREATED:20251216T022915Z
LAST-MODIFIED:20260113T052858Z
UID:10002878-1768300200-1768303800@polarridgeseniorliving.com
SUMMARY:Coffee Social/Daily Chronicle
DESCRIPTION:
URL:https://polarridgeseniorliving.com/event-calendar/coffee-social-daily-chronicle-155/
LOCATION:Memory Care
CATEGORIES:Memory Care
END:VEVENT
BEGIN:VEVENT
DTSTART;TZID=America/Chicago:20260112T190000
DTEND;TZID=America/Chicago:20260112T200000
DTSTAMP:20260422T032636
CREATED:20251215T022942Z
LAST-MODIFIED:20260112T051410Z
UID:10002869-1768244400-1768248000@polarridgeseniorliving.com
SUMMARY:Rest & Relaxation
DESCRIPTION:
URL:https://polarridgeseniorliving.com/event-calendar/rest-relaxation-235/
LOCATION:Memory Care
CATEGORIES:Memory Care
END:VEVENT
BEGIN:VEVENT
DTSTART;TZID=America/Chicago:20260112T150000
DTEND;TZID=America/Chicago:20260112T160000
DTSTAMP:20260422T032636
CREATED:20251215T022942Z
LAST-MODIFIED:20260112T051359Z
UID:10002866-1768230000-1768233600@polarridgeseniorliving.com
SUMMARY:1:1 Social Visits
DESCRIPTION:
URL:https://polarridgeseniorliving.com/event-calendar/11-social-visits-95/
LOCATION:Memory Care
CATEGORIES:Memory Care
END:VEVENT
BEGIN:VEVENT
DTSTART;TZID=America/Chicago:20260112T140000
DTEND;TZID=America/Chicago:20260112T143000
DTSTAMP:20260422T032636
CREATED:20251215T022942Z
LAST-MODIFIED:20260112T051359Z
UID:10002865-1768226400-1768228200@polarridgeseniorliving.com
SUMMARY:Story Time with Maria
DESCRIPTION:
URL:https://polarridgeseniorliving.com/event-calendar/story-time-with-maria-31/
LOCATION:Memory Care
CATEGORIES:Memory Care
END:VEVENT
BEGIN:VEVENT
DTSTART;TZID=America/Chicago:20260112T130000
DTEND;TZID=America/Chicago:20260112T140000
DTSTAMP:20260422T032636
CREATED:20251215T022942Z
LAST-MODIFIED:20260112T051359Z
UID:10002863-1768222800-1768226400@polarridgeseniorliving.com
SUMMARY:Storytelling & Reminiscing
DESCRIPTION:
URL:https://polarridgeseniorliving.com/event-calendar/storytelling-reminiscing-11/
LOCATION:Memory Care
CATEGORIES:Memory Care
END:VEVENT
BEGIN:VEVENT
DTSTART;TZID=America/Chicago:20260112T130000
DTEND;TZID=America/Chicago:20260112T140000
DTSTAMP:20260422T032636
CREATED:20251215T022942Z
LAST-MODIFIED:20260105T044357Z
UID:10002864-1768222800-1768226400@polarridgeseniorliving.com
SUMMARY:Arts & Crafts
DESCRIPTION:
URL:https://polarridgeseniorliving.com/event-calendar/arts-crafts-46/
LOCATION:Memory Care
CATEGORIES:Memory Care
END:VEVENT
BEGIN:VEVENT
DTSTART;TZID=America/Chicago:20260112T103000
DTEND;TZID=America/Chicago:20260112T113000
DTSTAMP:20260422T032636
CREATED:20251214T022922Z
LAST-MODIFIED:20260112T051359Z
UID:10002855-1768213800-1768217400@polarridgeseniorliving.com
SUMMARY:Coffee Social/Daily Chronicle
DESCRIPTION:
URL:https://polarridgeseniorliving.com/event-calendar/coffee-social-daily-chronicle-154/
LOCATION:Memory Care
CATEGORIES:Memory Care
END:VEVENT
BEGIN:VEVENT
DTSTART;TZID=America/Chicago:20260111T190000
DTEND;TZID=America/Chicago:20260111T200000
DTSTAMP:20260422T032636
CREATED:20251214T022922Z
LAST-MODIFIED:20260111T045923Z
UID:10002851-1768158000-1768161600@polarridgeseniorliving.com
SUMMARY:Rest & Relaxation
DESCRIPTION:
URL:https://polarridgeseniorliving.com/event-calendar/rest-relaxation-234/
LOCATION:Memory Care
CATEGORIES:Memory Care
END:VEVENT
BEGIN:VEVENT
DTSTART;TZID=America/Chicago:20260111T103000
DTEND;TZID=America/Chicago:20260111T113000
DTSTAMP:20260422T032636
CREATED:20251214T022922Z
LAST-MODIFIED:20260111T045923Z
UID:10002848-1768127400-1768131000@polarridgeseniorliving.com
SUMMARY:Coffee Social/Daily Chronicle
DESCRIPTION:
URL:https://polarridgeseniorliving.com/event-calendar/coffee-social-daily-chronicle-153/
LOCATION:Memory Care
CATEGORIES:Memory Care
END:VEVENT
BEGIN:VEVENT
DTSTART;TZID=America/Chicago:20260110T190000
DTEND;TZID=America/Chicago:20260110T200000
DTSTAMP:20260422T032636
CREATED:20251213T021414Z
LAST-MODIFIED:20260110T045858Z
UID:10002839-1768071600-1768075200@polarridgeseniorliving.com
SUMMARY:Rest & Relaxation
DESCRIPTION:
URL:https://polarridgeseniorliving.com/event-calendar/rest-relaxation-233/
LOCATION:Memory Care
CATEGORIES:Memory Care
END:VEVENT
BEGIN:VEVENT
DTSTART;TZID=America/Chicago:20260110T103000
DTEND;TZID=America/Chicago:20260110T113000
DTSTAMP:20260422T032636
CREATED:20251213T021414Z
LAST-MODIFIED:20260110T045858Z
UID:10002833-1768041000-1768044600@polarridgeseniorliving.com
SUMMARY:Coffee Social/Daily Chronicle
DESCRIPTION:
URL:https://polarridgeseniorliving.com/event-calendar/coffee-social-daily-chronicle-152/
LOCATION:Memory Care
CATEGORIES:Memory Care
END:VEVENT
BEGIN:VEVENT
DTSTART;TZID=America/Chicago:20260109T190000
DTEND;TZID=America/Chicago:20260109T200000
DTSTAMP:20260422T032636
CREATED:20251213T021413Z
LAST-MODIFIED:20260109T045856Z
UID:10002830-1767985200-1767988800@polarridgeseniorliving.com
SUMMARY:Rest & Relaxation
DESCRIPTION:
URL:https://polarridgeseniorliving.com/event-calendar/rest-relaxation-232/
LOCATION:Memory Care
CATEGORIES:Memory Care
END:VEVENT
BEGIN:VEVENT
DTSTART;TZID=America/Chicago:20260109T173000
DTEND;TZID=America/Chicago:20260109T183000
DTSTAMP:20260422T032636
CREATED:20251212T021412Z
LAST-MODIFIED:20260109T045856Z
UID:10002827-1767979800-1767983400@polarridgeseniorliving.com
SUMMARY:Music Appreciation
DESCRIPTION:
URL:https://polarridgeseniorliving.com/event-calendar/music-appreciation-147/
LOCATION:Memory Care
CATEGORIES:Memory Care
END:VEVENT
BEGIN:VEVENT
DTSTART;TZID=America/Chicago:20260109T150000
DTEND;TZID=America/Chicago:20260109T160000
DTSTAMP:20260422T032636
CREATED:20251212T021412Z
LAST-MODIFIED:20260109T045856Z
UID:10002825-1767970800-1767974400@polarridgeseniorliving.com
SUMMARY:1:1 Social Visits
DESCRIPTION:
URL:https://polarridgeseniorliving.com/event-calendar/11-social-visits-94/
LOCATION:Memory Care
CATEGORIES:Memory Care
END:VEVENT
BEGIN:VEVENT
DTSTART;TZID=America/Chicago:20260109T103000
DTEND;TZID=America/Chicago:20260109T113000
DTSTAMP:20260422T032636
CREATED:20251212T021412Z
LAST-MODIFIED:20260109T045856Z
UID:10002822-1767954600-1767958200@polarridgeseniorliving.com
SUMMARY:Coffee Social/Daily Chronicle
DESCRIPTION:
URL:https://polarridgeseniorliving.com/event-calendar/coffee-social-daily-chronicle-151/
LOCATION:Memory Care
CATEGORIES:Memory Care
END:VEVENT
BEGIN:VEVENT
DTSTART;TZID=America/Chicago:20260108T190000
DTEND;TZID=America/Chicago:20260108T200000
DTSTAMP:20260422T032636
CREATED:20251212T021412Z
LAST-MODIFIED:20260108T044356Z
UID:10002819-1767898800-1767902400@polarridgeseniorliving.com
SUMMARY:Rest & Relaxation
DESCRIPTION:
URL:https://polarridgeseniorliving.com/event-calendar/rest-relaxation-231/
LOCATION:Memory Care
CATEGORIES:Memory Care
END:VEVENT
BEGIN:VEVENT
DTSTART;TZID=America/Chicago:20260108T173000
DTEND;TZID=America/Chicago:20260108T183000
DTSTAMP:20260422T032636
CREATED:20251212T021412Z
LAST-MODIFIED:20260108T044358Z
UID:10002818-1767893400-1767897000@polarridgeseniorliving.com
SUMMARY:Music Appreciation
DESCRIPTION:
URL:https://polarridgeseniorliving.com/event-calendar/music-appreciation-146/
LOCATION:Memory Care
CATEGORIES:Memory Care
END:VEVENT
BEGIN:VEVENT
DTSTART;TZID=America/Chicago:20260108T150000
DTEND;TZID=America/Chicago:20260108T160000
DTSTAMP:20260422T032636
CREATED:20251212T021412Z
LAST-MODIFIED:20260108T044357Z
UID:10002816-1767884400-1767888000@polarridgeseniorliving.com
SUMMARY:1:1 Social Visits
DESCRIPTION:
URL:https://polarridgeseniorliving.com/event-calendar/11-social-visits-93/
LOCATION:Memory Care
CATEGORIES:Memory Care
END:VEVENT
BEGIN:VEVENT
DTSTART;TZID=America/Chicago:20260108T130000
DTEND;TZID=America/Chicago:20260108T140000
DTSTAMP:20260422T032636
CREATED:20251211T015915Z
LAST-MODIFIED:20260108T044357Z
UID:10002811-1767877200-1767880800@polarridgeseniorliving.com
SUMMARY:Bingo
DESCRIPTION:
URL:https://polarridgeseniorliving.com/event-calendar/bingo-69/
LOCATION:Memory Care
CATEGORIES:Memory Care
END:VEVENT
BEGIN:VEVENT
DTSTART;TZID=America/Chicago:20260108T103000
DTEND;TZID=America/Chicago:20260108T113000
DTSTAMP:20260422T032636
CREATED:20251211T015915Z
LAST-MODIFIED:20260108T044357Z
UID:10002809-1767868200-1767871800@polarridgeseniorliving.com
SUMMARY:Coffee Social/Daily Chronicle
DESCRIPTION:
URL:https://polarridgeseniorliving.com/event-calendar/coffee-social-daily-chronicle-150/
LOCATION:Memory Care
CATEGORIES:Memory Care
END:VEVENT
BEGIN:VEVENT
DTSTART;TZID=America/Chicago:20260107T190000
DTEND;TZID=America/Chicago:20260107T200000
DTSTAMP:20260422T032636
CREATED:20251211T015915Z
LAST-MODIFIED:20260107T044415Z
UID:10002806-1767812400-1767816000@polarridgeseniorliving.com
SUMMARY:Rest & Relaxation
DESCRIPTION:
URL:https://polarridgeseniorliving.com/event-calendar/rest-relaxation-230/
LOCATION:Memory Care
CATEGORIES:Memory Care
END:VEVENT
BEGIN:VEVENT
DTSTART;TZID=America/Chicago:20260107T173000
DTEND;TZID=America/Chicago:20260107T183000
DTSTAMP:20260422T032636
CREATED:20251211T015915Z
LAST-MODIFIED:20260107T044415Z
UID:10002805-1767807000-1767810600@polarridgeseniorliving.com
SUMMARY:Music Appreciation
DESCRIPTION:
URL:https://polarridgeseniorliving.com/event-calendar/music-appreciation-145/
LOCATION:Memory Care
CATEGORIES:Memory Care
END:VEVENT
END:VCALENDAR