BEGIN:VCALENDAR
VERSION:2.0
PRODID:-//Polar Ridge Senior Living - ECPv6.11.2.1//NONSGML v1.0//EN
CALSCALE:GREGORIAN
METHOD:PUBLISH
X-WR-CALNAME:Polar Ridge Senior Living
X-ORIGINAL-URL:https://polarridgeseniorliving.com
X-WR-CALDESC:Events for Polar Ridge Senior Living
REFRESH-INTERVAL;VALUE=DURATION:PT1H
X-Robots-Tag:noindex
X-PUBLISHED-TTL:PT1H
BEGIN:VTIMEZONE
TZID:America/Chicago
BEGIN:DAYLIGHT
TZOFFSETFROM:-0600
TZOFFSETTO:-0500
TZNAME:CDT
DTSTART:20250309T080000
END:DAYLIGHT
BEGIN:STANDARD
TZOFFSETFROM:-0500
TZOFFSETTO:-0600
TZNAME:CST
DTSTART:20251102T070000
END:STANDARD
BEGIN:DAYLIGHT
TZOFFSETFROM:-0600
TZOFFSETTO:-0500
TZNAME:CDT
DTSTART:20260308T080000
END:DAYLIGHT
BEGIN:STANDARD
TZOFFSETFROM:-0500
TZOFFSETTO:-0600
TZNAME:CST
DTSTART:20261101T070000
END:STANDARD
END:VTIMEZONE
BEGIN:VEVENT
DTSTART;TZID=America/Chicago:20260107T150000
DTEND;TZID=America/Chicago:20260107T160000
DTSTAMP:20260422T074802
CREATED:20251211T015915Z
LAST-MODIFIED:20260107T044416Z
UID:10002803-1767798000-1767801600@polarridgeseniorliving.com
SUMMARY:1:1 Social Visits
DESCRIPTION:
URL:https://polarridgeseniorliving.com/event-calendar/11-social-visits-92/
LOCATION:Memory Care
CATEGORIES:Memory Care
END:VEVENT
BEGIN:VEVENT
DTSTART;TZID=America/Chicago:20260107T133000
DTEND;TZID=America/Chicago:20260107T143000
DTSTAMP:20260422T074802
CREATED:20251211T015915Z
LAST-MODIFIED:20260107T044416Z
UID:10002801-1767792600-1767796200@polarridgeseniorliving.com
SUMMARY:Ladies Club: Fancy Fingers
DESCRIPTION:
URL:https://polarridgeseniorliving.com/event-calendar/ladies-club-fancy-fingers-15/
LOCATION:Memory Care
CATEGORIES:Memory Care
END:VEVENT
BEGIN:VEVENT
DTSTART;TZID=America/Chicago:20260107T103000
DTEND;TZID=America/Chicago:20260107T113000
DTSTAMP:20260422T074802
CREATED:20251210T014408Z
LAST-MODIFIED:20260107T044416Z
UID:10002794-1767781800-1767785400@polarridgeseniorliving.com
SUMMARY:Coffee Social/Daily Chronicle
DESCRIPTION:
URL:https://polarridgeseniorliving.com/event-calendar/coffee-social-daily-chronicle-149/
LOCATION:Memory Care
CATEGORIES:Memory Care
END:VEVENT
BEGIN:VEVENT
DTSTART;TZID=America/Chicago:20260106T190000
DTEND;TZID=America/Chicago:20260106T200000
DTSTAMP:20260422T074802
CREATED:20251210T014408Z
LAST-MODIFIED:20260106T044406Z
UID:10002791-1767726000-1767729600@polarridgeseniorliving.com
SUMMARY:Rest & Relaxation
DESCRIPTION:
URL:https://polarridgeseniorliving.com/event-calendar/rest-relaxation-229/
LOCATION:Memory Care
CATEGORIES:Memory Care
END:VEVENT
BEGIN:VEVENT
DTSTART;TZID=America/Chicago:20260106T173000
DTEND;TZID=America/Chicago:20260106T183000
DTSTAMP:20260422T074802
CREATED:20251210T014408Z
LAST-MODIFIED:20260106T044406Z
UID:10002790-1767720600-1767724200@polarridgeseniorliving.com
SUMMARY:Music Appreciation
DESCRIPTION:
URL:https://polarridgeseniorliving.com/event-calendar/music-appreciation-144/
LOCATION:Memory Care
CATEGORIES:Memory Care
END:VEVENT
BEGIN:VEVENT
DTSTART;TZID=America/Chicago:20260106T150000
DTEND;TZID=America/Chicago:20260106T160000
DTSTAMP:20260422T074802
CREATED:20251210T014408Z
LAST-MODIFIED:20260106T044406Z
UID:10002788-1767711600-1767715200@polarridgeseniorliving.com
SUMMARY:1:1 Social Visits
DESCRIPTION:
URL:https://polarridgeseniorliving.com/event-calendar/11-social-visits-91/
LOCATION:Memory Care
CATEGORIES:Memory Care
END:VEVENT
BEGIN:VEVENT
DTSTART;TZID=America/Chicago:20260106T130000
DTEND;TZID=America/Chicago:20260106T140000
DTSTAMP:20260422T074802
CREATED:20251210T014408Z
LAST-MODIFIED:20260106T044406Z
UID:10002786-1767704400-1767708000@polarridgeseniorliving.com
SUMMARY:Bingo
DESCRIPTION:
URL:https://polarridgeseniorliving.com/event-calendar/bingo-68/
LOCATION:Memory Care
CATEGORIES:Memory Care
END:VEVENT
BEGIN:VEVENT
DTSTART;TZID=America/Chicago:20260106T103000
DTEND;TZID=America/Chicago:20260106T113000
DTSTAMP:20260422T074802
CREATED:20251210T014407Z
LAST-MODIFIED:20260106T044406Z
UID:10002784-1767695400-1767699000@polarridgeseniorliving.com
SUMMARY:Coffee Social/Daily Chronicle
DESCRIPTION:
URL:https://polarridgeseniorliving.com/event-calendar/coffee-social-daily-chronicle-148/
LOCATION:Memory Care
CATEGORIES:Memory Care
END:VEVENT
BEGIN:VEVENT
DTSTART;TZID=America/Chicago:20260105T190000
DTEND;TZID=America/Chicago:20260105T200000
DTSTAMP:20260422T074802
CREATED:20251209T014417Z
LAST-MODIFIED:20260105T044407Z
UID:10002775-1767639600-1767643200@polarridgeseniorliving.com
SUMMARY:Rest & Relaxation
DESCRIPTION:
URL:https://polarridgeseniorliving.com/event-calendar/rest-relaxation-228/
LOCATION:Memory Care
CATEGORIES:Memory Care
END:VEVENT
BEGIN:VEVENT
DTSTART;TZID=America/Chicago:20260105T150000
DTEND;TZID=America/Chicago:20260105T160000
DTSTAMP:20260422T074802
CREATED:20251209T014417Z
LAST-MODIFIED:20260105T044356Z
UID:10002772-1767625200-1767628800@polarridgeseniorliving.com
SUMMARY:1:1 Social Visits
DESCRIPTION:
URL:https://polarridgeseniorliving.com/event-calendar/11-social-visits-90/
LOCATION:Memory Care
CATEGORIES:Memory Care
END:VEVENT
BEGIN:VEVENT
DTSTART;TZID=America/Chicago:20260105T140000
DTEND;TZID=America/Chicago:20260105T143000
DTSTAMP:20260422T074802
CREATED:20251209T014417Z
LAST-MODIFIED:20260105T044356Z
UID:10002771-1767621600-1767623400@polarridgeseniorliving.com
SUMMARY:Story Time with Maria
DESCRIPTION:
URL:https://polarridgeseniorliving.com/event-calendar/story-time-with-maria-30/
LOCATION:Memory Care
CATEGORIES:Memory Care
END:VEVENT
BEGIN:VEVENT
DTSTART;TZID=America/Chicago:20260105T130000
DTEND;TZID=America/Chicago:20260105T140000
DTSTAMP:20260422T074802
CREATED:20251209T014417Z
LAST-MODIFIED:20260105T044356Z
UID:10002769-1767618000-1767621600@polarridgeseniorliving.com
SUMMARY:Storytelling & Reminiscing
DESCRIPTION:
URL:https://polarridgeseniorliving.com/event-calendar/storytelling-reminiscing-10/
LOCATION:Memory Care
CATEGORIES:Memory Care
END:VEVENT
BEGIN:VEVENT
DTSTART;TZID=America/Chicago:20260105T130000
DTEND;TZID=America/Chicago:20260105T140000
DTSTAMP:20260422T074802
CREATED:20251209T014417Z
LAST-MODIFIED:20260105T044356Z
UID:10002770-1767618000-1767621600@polarridgeseniorliving.com
SUMMARY:Arts & Crafts
DESCRIPTION:
URL:https://polarridgeseniorliving.com/event-calendar/arts-crafts-44/
LOCATION:Memory Care
CATEGORIES:Memory Care
END:VEVENT
BEGIN:VEVENT
DTSTART;TZID=America/Chicago:20260105T103000
DTEND;TZID=America/Chicago:20260105T113000
DTSTAMP:20260422T074802
CREATED:20251209T014417Z
LAST-MODIFIED:20260105T044356Z
UID:10002767-1767609000-1767612600@polarridgeseniorliving.com
SUMMARY:Coffee Social/Daily Chronicle
DESCRIPTION:
URL:https://polarridgeseniorliving.com/event-calendar/coffee-social-daily-chronicle-147/
LOCATION:Memory Care
CATEGORIES:Memory Care
END:VEVENT
BEGIN:VEVENT
DTSTART;TZID=America/Chicago:20260104T190000
DTEND;TZID=America/Chicago:20260104T200000
DTSTAMP:20260422T074802
CREATED:20251208T014406Z
LAST-MODIFIED:20260104T044357Z
UID:10002758-1767553200-1767556800@polarridgeseniorliving.com
SUMMARY:Rest & Relaxation
DESCRIPTION:
URL:https://polarridgeseniorliving.com/event-calendar/rest-relaxation-227/
LOCATION:Memory Care
CATEGORIES:Memory Care
END:VEVENT
BEGIN:VEVENT
DTSTART;TZID=America/Chicago:20260104T103000
DTEND;TZID=America/Chicago:20260104T113000
DTSTAMP:20260422T074802
CREATED:20251208T014406Z
LAST-MODIFIED:20260104T044357Z
UID:10002755-1767522600-1767526200@polarridgeseniorliving.com
SUMMARY:Coffee Social/Daily Chronicle
DESCRIPTION:
URL:https://polarridgeseniorliving.com/event-calendar/coffee-social-daily-chronicle-146/
LOCATION:Memory Care
CATEGORIES:Memory Care
END:VEVENT
BEGIN:VEVENT
DTSTART;TZID=America/Chicago:20260103T190000
DTEND;TZID=America/Chicago:20260103T200000
DTSTAMP:20260422T074802
CREATED:20251207T012908Z
LAST-MODIFIED:20260103T044356Z
UID:10002745-1767466800-1767470400@polarridgeseniorliving.com
SUMMARY:Rest & Relaxation
DESCRIPTION:
URL:https://polarridgeseniorliving.com/event-calendar/rest-relaxation-226/
LOCATION:Memory Care
CATEGORIES:Memory Care
END:VEVENT
BEGIN:VEVENT
DTSTART;TZID=America/Chicago:20260103T103000
DTEND;TZID=America/Chicago:20260103T113000
DTSTAMP:20260422T074802
CREATED:20251207T012907Z
LAST-MODIFIED:20260103T044356Z
UID:10002739-1767436200-1767439800@polarridgeseniorliving.com
SUMMARY:Coffee Social/Daily Chronicle
DESCRIPTION:
URL:https://polarridgeseniorliving.com/event-calendar/coffee-social-daily-chronicle-145/
LOCATION:Memory Care
CATEGORIES:Memory Care
END:VEVENT
BEGIN:VEVENT
DTSTART;TZID=America/Chicago:20260102T190000
DTEND;TZID=America/Chicago:20260102T200000
DTSTAMP:20260422T074802
CREATED:20251206T012936Z
LAST-MODIFIED:20260102T044357Z
UID:10002730-1767380400-1767384000@polarridgeseniorliving.com
SUMMARY:Rest & Relaxation
DESCRIPTION:
URL:https://polarridgeseniorliving.com/event-calendar/rest-relaxation-225/
LOCATION:Memory Care
CATEGORIES:Memory Care
END:VEVENT
BEGIN:VEVENT
DTSTART;TZID=America/Chicago:20260102T173000
DTEND;TZID=America/Chicago:20260102T183000
DTSTAMP:20260422T074802
CREATED:20251206T012936Z
LAST-MODIFIED:20260102T044357Z
UID:10002729-1767375000-1767378600@polarridgeseniorliving.com
SUMMARY:Music Appreciation
DESCRIPTION:
URL:https://polarridgeseniorliving.com/event-calendar/music-appreciation-143/
LOCATION:Memory Care
CATEGORIES:Memory Care
END:VEVENT
BEGIN:VEVENT
DTSTART;TZID=America/Chicago:20260102T150000
DTEND;TZID=America/Chicago:20260102T160000
DTSTAMP:20260422T074802
CREATED:20251206T012936Z
LAST-MODIFIED:20260102T044357Z
UID:10002727-1767366000-1767369600@polarridgeseniorliving.com
SUMMARY:1:1 Social Visits
DESCRIPTION:
URL:https://polarridgeseniorliving.com/event-calendar/11-social-visits-89/
LOCATION:Memory Care
CATEGORIES:Memory Care
END:VEVENT
BEGIN:VEVENT
DTSTART;TZID=America/Chicago:20260102T103000
DTEND;TZID=America/Chicago:20260102T113000
DTSTAMP:20260422T074802
CREATED:20251206T012936Z
LAST-MODIFIED:20260102T044356Z
UID:10002724-1767349800-1767353400@polarridgeseniorliving.com
SUMMARY:Coffee Social/Daily Chronicle
DESCRIPTION:
URL:https://polarridgeseniorliving.com/event-calendar/coffee-social-daily-chronicle-144/
LOCATION:Memory Care
CATEGORIES:Memory Care
END:VEVENT
BEGIN:VEVENT
DTSTART;TZID=America/Chicago:20260101T190000
DTEND;TZID=America/Chicago:20260101T200000
DTSTAMP:20260422T074802
CREATED:20251206T012936Z
LAST-MODIFIED:20260101T042900Z
UID:10002721-1767294000-1767297600@polarridgeseniorliving.com
SUMMARY:Rest & Relaxation
DESCRIPTION:
URL:https://polarridgeseniorliving.com/event-calendar/rest-relaxation-224/
LOCATION:Memory Care
CATEGORIES:Memory Care
END:VEVENT
BEGIN:VEVENT
DTSTART;TZID=America/Chicago:20260101T173000
DTEND;TZID=America/Chicago:20260101T183000
DTSTAMP:20260422T074802
CREATED:20251205T011415Z
LAST-MODIFIED:20260101T042900Z
UID:10002717-1767288600-1767292200@polarridgeseniorliving.com
SUMMARY:Music Appreciation
DESCRIPTION:
URL:https://polarridgeseniorliving.com/event-calendar/music-appreciation-142/
LOCATION:Memory Care
CATEGORIES:Memory Care
END:VEVENT
BEGIN:VEVENT
DTSTART;TZID=America/Chicago:20260101T150000
DTEND;TZID=America/Chicago:20260101T160000
DTSTAMP:20260422T074802
CREATED:20251205T011415Z
LAST-MODIFIED:20260101T042900Z
UID:10002716-1767279600-1767283200@polarridgeseniorliving.com
SUMMARY:1:1 Social Visits
DESCRIPTION:
URL:https://polarridgeseniorliving.com/event-calendar/11-social-visits-88/
LOCATION:Memory Care
CATEGORIES:Memory Care
END:VEVENT
BEGIN:VEVENT
DTSTART;TZID=America/Chicago:20260101T130000
DTEND;TZID=America/Chicago:20260101T140000
DTSTAMP:20260422T074802
CREATED:20251205T011415Z
LAST-MODIFIED:20260101T042900Z
UID:10002714-1767272400-1767276000@polarridgeseniorliving.com
SUMMARY:Bingo
DESCRIPTION:
URL:https://polarridgeseniorliving.com/event-calendar/bingo-67/
LOCATION:Memory Care
CATEGORIES:Memory Care
END:VEVENT
BEGIN:VEVENT
DTSTART;TZID=America/Chicago:20260101T103000
DTEND;TZID=America/Chicago:20260101T113000
DTSTAMP:20260422T074802
CREATED:20251205T011415Z
LAST-MODIFIED:20260101T042900Z
UID:10002712-1767263400-1767267000@polarridgeseniorliving.com
SUMMARY:Coffee Social/Daily Chronicle
DESCRIPTION:
URL:https://polarridgeseniorliving.com/event-calendar/coffee-social-daily-chronicle-143/
LOCATION:Memory Care
CATEGORIES:Memory Care
END:VEVENT
BEGIN:VEVENT
DTSTART;TZID=America/Chicago:20251231T190000
DTEND;TZID=America/Chicago:20251231T200000
DTSTAMP:20260422T074802
CREATED:20251205T011414Z
LAST-MODIFIED:20251231T041442Z
UID:10002709-1767207600-1767211200@polarridgeseniorliving.com
SUMMARY:Rest & Relaxation
DESCRIPTION:
URL:https://polarridgeseniorliving.com/event-calendar/rest-relaxation-223/
LOCATION:Memory Care
CATEGORIES:Memory Care
END:VEVENT
BEGIN:VEVENT
DTSTART;TZID=America/Chicago:20251231T173000
DTEND;TZID=America/Chicago:20251231T183000
DTSTAMP:20260422T074802
CREATED:20251205T011414Z
LAST-MODIFIED:20251231T041430Z
UID:10002707-1767202200-1767205800@polarridgeseniorliving.com
SUMMARY:Music Appreciation
DESCRIPTION:
URL:https://polarridgeseniorliving.com/event-calendar/music-appreciation-141/
LOCATION:Memory Care
CATEGORIES:Memory Care
END:VEVENT
BEGIN:VEVENT
DTSTART;TZID=America/Chicago:20251231T150000
DTEND;TZID=America/Chicago:20251231T160000
DTSTAMP:20260422T074802
CREATED:20251205T011414Z
LAST-MODIFIED:20251231T041430Z
UID:10002706-1767193200-1767196800@polarridgeseniorliving.com
SUMMARY:1:1 Social Visits
DESCRIPTION:
URL:https://polarridgeseniorliving.com/event-calendar/11-social-visits-87/
LOCATION:Memory Care
CATEGORIES:Memory Care
END:VEVENT
END:VCALENDAR