BEGIN:VCALENDAR
VERSION:2.0
PRODID:-//Polar Ridge Senior Living - ECPv6.11.2.1//NONSGML v1.0//EN
CALSCALE:GREGORIAN
METHOD:PUBLISH
X-WR-CALNAME:Polar Ridge Senior Living
X-ORIGINAL-URL:https://polarridgeseniorliving.com
X-WR-CALDESC:Events for Polar Ridge Senior Living
REFRESH-INTERVAL;VALUE=DURATION:PT1H
X-Robots-Tag:noindex
X-PUBLISHED-TTL:PT1H
BEGIN:VTIMEZONE
TZID:America/Chicago
BEGIN:DAYLIGHT
TZOFFSETFROM:-0600
TZOFFSETTO:-0500
TZNAME:CDT
DTSTART:20250309T080000
END:DAYLIGHT
BEGIN:STANDARD
TZOFFSETFROM:-0500
TZOFFSETTO:-0600
TZNAME:CST
DTSTART:20251102T070000
END:STANDARD
END:VTIMEZONE
BEGIN:VEVENT
DTSTART;TZID=America/Chicago:20251229T150000
DTEND;TZID=America/Chicago:20251229T160000
DTSTAMP:20260422T142931
CREATED:20251130T003235Z
LAST-MODIFIED:20251229T035900Z
UID:10002498-1767020400-1767024000@polarridgeseniorliving.com
SUMMARY:1:1 Social Visits
DESCRIPTION:
URL:https://polarridgeseniorliving.com/event-calendar/11-social-visits-85/
LOCATION:Memory Care
CATEGORIES:Memory Care
END:VEVENT
BEGIN:VEVENT
DTSTART;TZID=America/Chicago:20251229T140000
DTEND;TZID=America/Chicago:20251229T143000
DTSTAMP:20260422T142931
CREATED:20251130T003235Z
LAST-MODIFIED:20251229T035900Z
UID:10002497-1767016800-1767018600@polarridgeseniorliving.com
SUMMARY:Story Time with Maria
DESCRIPTION:
URL:https://polarridgeseniorliving.com/event-calendar/story-time-with-maria-29/
LOCATION:Memory Care
CATEGORIES:Memory Care
END:VEVENT
BEGIN:VEVENT
DTSTART;TZID=America/Chicago:20251229T130000
DTEND;TZID=America/Chicago:20251229T140000
DTSTAMP:20260422T142931
CREATED:20251130T003235Z
LAST-MODIFIED:20251229T035900Z
UID:10002496-1767013200-1767016800@polarridgeseniorliving.com
SUMMARY:Arts & Crafts
DESCRIPTION:
URL:https://polarridgeseniorliving.com/event-calendar/arts-crafts-42/
LOCATION:Memory Care
CATEGORIES:Memory Care
END:VEVENT
BEGIN:VEVENT
DTSTART;TZID=America/Chicago:20251229T130000
DTEND;TZID=America/Chicago:20251229T140000
DTSTAMP:20260422T142931
CREATED:20251130T003224Z
LAST-MODIFIED:20251130T004535Z
UID:10002495-1767013200-1767016800@polarridgeseniorliving.com
SUMMARY:Storytelling & Reminiscing
DESCRIPTION:
URL:https://polarridgeseniorliving.com/event-calendar/storytelling-reminiscing-9/
LOCATION:Memory Care
CATEGORIES:Memory Care
END:VEVENT
BEGIN:VEVENT
DTSTART;TZID=America/Chicago:20251229T103000
DTEND;TZID=America/Chicago:20251229T113000
DTSTAMP:20260422T142932
CREATED:20251130T003224Z
LAST-MODIFIED:20251229T035859Z
UID:10002494-1767004200-1767007800@polarridgeseniorliving.com
SUMMARY:Coffee Social/Daily Chronicle
DESCRIPTION:
URL:https://polarridgeseniorliving.com/event-calendar/coffee-social-daily-chronicle-132/
LOCATION:Memory Care
CATEGORIES:Memory Care
END:VEVENT
BEGIN:VEVENT
DTSTART;TZID=America/Chicago:20251229T100000
DTEND;TZID=America/Chicago:20251229T103000
DTSTAMP:20260422T142932
CREATED:20251130T003224Z
LAST-MODIFIED:20251229T035859Z
UID:10002493-1767002400-1767004200@polarridgeseniorliving.com
SUMMARY:Seated Exercises
DESCRIPTION:
URL:https://polarridgeseniorliving.com/event-calendar/seated-exercises-229/
LOCATION:Memory Care
CATEGORIES:Memory Care
END:VEVENT
BEGIN:VEVENT
DTSTART;TZID=America/Chicago:20251228T190000
DTEND;TZID=America/Chicago:20251228T200000
DTSTAMP:20260422T142932
CREATED:20251202T005906Z
LAST-MODIFIED:20251228T035857Z
UID:10002671-1766948400-1766952000@polarridgeseniorliving.com
SUMMARY:Rest & Relaxation
DESCRIPTION:
URL:https://polarridgeseniorliving.com/event-calendar/rest-relaxation-220/
LOCATION:Memory Care
CATEGORIES:Memory Care
END:VEVENT
BEGIN:VEVENT
DTSTART;TZID=America/Chicago:20251228T103000
DTEND;TZID=America/Chicago:20251228T113000
DTSTAMP:20260422T142932
CREATED:20251202T005906Z
LAST-MODIFIED:20251228T035856Z
UID:10002668-1766917800-1766921400@polarridgeseniorliving.com
SUMMARY:Coffee Social/Daily Chronicle
DESCRIPTION:
URL:https://polarridgeseniorliving.com/event-calendar/coffee-social-daily-chronicle-140/
LOCATION:Memory Care
CATEGORIES:Memory Care
END:VEVENT
BEGIN:VEVENT
DTSTART;TZID=America/Chicago:20251228T100000
DTEND;TZID=America/Chicago:20251228T103000
DTSTAMP:20260422T142932
CREATED:20251130T003224Z
LAST-MODIFIED:20251228T035856Z
UID:10002492-1766916000-1766917800@polarridgeseniorliving.com
SUMMARY:Seated Exercises
DESCRIPTION:
URL:https://polarridgeseniorliving.com/event-calendar/seated-exercises-228/
LOCATION:Memory Care
CATEGORIES:Memory Care
END:VEVENT
BEGIN:VEVENT
DTSTART;TZID=America/Chicago:20251227T190000
DTEND;TZID=America/Chicago:20251227T200000
DTSTAMP:20260422T142932
CREATED:20251201T004408Z
LAST-MODIFIED:20251227T034429Z
UID:10002659-1766862000-1766865600@polarridgeseniorliving.com
SUMMARY:Rest & Relaxation
DESCRIPTION:
URL:https://polarridgeseniorliving.com/event-calendar/rest-relaxation-219/
LOCATION:Memory Care
CATEGORIES:Memory Care
END:VEVENT
BEGIN:VEVENT
DTSTART;TZID=America/Chicago:20251227T190000
DTEND;TZID=America/Chicago:20251227T200000
DTSTAMP:20260422T142932
CREATED:20251128T082910Z
LAST-MODIFIED:20251130T004535Z
UID:10002478-1766862000-1766865600@polarridgeseniorliving.com
SUMMARY:Rest & Relaxation
DESCRIPTION:
URL:https://polarridgeseniorliving.com/event-calendar/rest-relaxation-196/
LOCATION:Memory Care
CATEGORIES:Memory Care
END:VEVENT
BEGIN:VEVENT
DTSTART;TZID=America/Chicago:20251227T103000
DTEND;TZID=America/Chicago:20251227T113000
DTSTAMP:20260422T142932
CREATED:20251201T004408Z
LAST-MODIFIED:20251227T034417Z
UID:10002656-1766831400-1766835000@polarridgeseniorliving.com
SUMMARY:Coffee Social/Daily Chronicle
DESCRIPTION:
URL:https://polarridgeseniorliving.com/event-calendar/coffee-social-daily-chronicle-139/
LOCATION:Memory Care
CATEGORIES:Memory Care
END:VEVENT
BEGIN:VEVENT
DTSTART;TZID=America/Chicago:20251227T100000
DTEND;TZID=America/Chicago:20251227T103000
DTSTAMP:20260422T142932
CREATED:20251128T082909Z
LAST-MODIFIED:20251227T034417Z
UID:10002474-1766829600-1766831400@polarridgeseniorliving.com
SUMMARY:Seated Exercises
DESCRIPTION:
URL:https://polarridgeseniorliving.com/event-calendar/seated-exercises-227/
LOCATION:Memory Care
CATEGORIES:Memory Care
END:VEVENT
BEGIN:VEVENT
DTSTART;TZID=America/Chicago:20251226T190000
DTEND;TZID=America/Chicago:20251226T200000
DTSTAMP:20260422T142932
CREATED:20251201T004408Z
LAST-MODIFIED:20251226T034409Z
UID:10002653-1766775600-1766779200@polarridgeseniorliving.com
SUMMARY:Rest & Relaxation
DESCRIPTION:
URL:https://polarridgeseniorliving.com/event-calendar/rest-relaxation-218/
LOCATION:Memory Care
CATEGORIES:Memory Care
END:VEVENT
BEGIN:VEVENT
DTSTART;TZID=America/Chicago:20251226T190000
DTEND;TZID=America/Chicago:20251226T200000
DTSTAMP:20260422T142932
CREATED:20251127T081408Z
LAST-MODIFIED:20251130T004535Z
UID:10002418-1766775600-1766779200@polarridgeseniorliving.com
SUMMARY:Rest & Relaxation
DESCRIPTION:
URL:https://polarridgeseniorliving.com/event-calendar/rest-relaxation-191/
LOCATION:Memory Care
CATEGORIES:Memory Care
END:VEVENT
BEGIN:VEVENT
DTSTART;TZID=America/Chicago:20251226T173000
DTEND;TZID=America/Chicago:20251226T183000
DTSTAMP:20260422T142932
CREATED:20251127T081408Z
LAST-MODIFIED:20251226T034357Z
UID:10002417-1766770200-1766773800@polarridgeseniorliving.com
SUMMARY:Music Appreciation
DESCRIPTION:
URL:https://polarridgeseniorliving.com/event-calendar/music-appreciation-139/
LOCATION:Memory Care
CATEGORIES:Memory Care
END:VEVENT
BEGIN:VEVENT
DTSTART;TZID=America/Chicago:20251226T150000
DTEND;TZID=America/Chicago:20251226T160000
DTSTAMP:20260422T142932
CREATED:20251128T082909Z
LAST-MODIFIED:20251226T034357Z
UID:10002473-1766761200-1766764800@polarridgeseniorliving.com
SUMMARY:1:1 Social Visits
DESCRIPTION:
URL:https://polarridgeseniorliving.com/event-calendar/11-social-visits-84/
LOCATION:Memory Care
CATEGORIES:Memory Care
END:VEVENT
BEGIN:VEVENT
DTSTART;TZID=America/Chicago:20251226T140000
DTEND;TZID=America/Chicago:20251226T150000
DTSTAMP:20260422T142932
CREATED:20251127T081408Z
LAST-MODIFIED:20251226T034357Z
UID:10002416-1766757600-1766761200@polarridgeseniorliving.com
SUMMARY:Book reading/Trivia & Spelling Bee
DESCRIPTION:
URL:https://polarridgeseniorliving.com/event-calendar/book-reading-trivia-spelling-bee-33/
LOCATION:Memory Care
CATEGORIES:Memory Care
END:VEVENT
BEGIN:VEVENT
DTSTART;TZID=America/Chicago:20251226T103000
DTEND;TZID=America/Chicago:20251226T113000
DTSTAMP:20260422T142932
CREATED:20251127T081407Z
LAST-MODIFIED:20251226T034357Z
UID:10002414-1766745000-1766748600@polarridgeseniorliving.com
SUMMARY:Coffee Social/Daily Chronicle
DESCRIPTION:
URL:https://polarridgeseniorliving.com/event-calendar/coffee-social-daily-chronicle-131/
LOCATION:Memory Care
CATEGORIES:Memory Care
END:VEVENT
BEGIN:VEVENT
DTSTART;TZID=America/Chicago:20251226T100000
DTEND;TZID=America/Chicago:20251226T103000
DTSTAMP:20260422T142932
CREATED:20251127T081407Z
LAST-MODIFIED:20251226T034357Z
UID:10002413-1766743200-1766745000@polarridgeseniorliving.com
SUMMARY:Seated Exercises
DESCRIPTION:
URL:https://polarridgeseniorliving.com/event-calendar/seated-exercises-226/
LOCATION:Memory Care
CATEGORIES:Memory Care
END:VEVENT
BEGIN:VEVENT
DTSTART;TZID=America/Chicago:20251225T190000
DTEND;TZID=America/Chicago:20251225T200000
DTSTAMP:20260422T142932
CREATED:20251201T004407Z
LAST-MODIFIED:20251225T032904Z
UID:10002648-1766689200-1766692800@polarridgeseniorliving.com
SUMMARY:Rest & Relaxation
DESCRIPTION:
URL:https://polarridgeseniorliving.com/event-calendar/rest-relaxation-217/
LOCATION:Memory Care
CATEGORIES:Memory Care
END:VEVENT
BEGIN:VEVENT
DTSTART;TZID=America/Chicago:20251225T190000
DTEND;TZID=America/Chicago:20251225T200000
DTSTAMP:20260422T142932
CREATED:20251126T081358Z
LAST-MODIFIED:20251130T004535Z
UID:10002393-1766689200-1766692800@polarridgeseniorliving.com
SUMMARY:Rest & Relaxation
DESCRIPTION:
URL:https://polarridgeseniorliving.com/event-calendar/rest-relaxation-190/
LOCATION:Memory Care
CATEGORIES:Memory Care
END:VEVENT
BEGIN:VEVENT
DTSTART;TZID=America/Chicago:20251225T173000
DTEND;TZID=America/Chicago:20251225T183000
DTSTAMP:20260422T142932
CREATED:20251126T081358Z
LAST-MODIFIED:20251225T032904Z
UID:10002392-1766683800-1766687400@polarridgeseniorliving.com
SUMMARY:Music Appreciation
DESCRIPTION:
URL:https://polarridgeseniorliving.com/event-calendar/music-appreciation-138/
LOCATION:Memory Care
CATEGORIES:Memory Care
END:VEVENT
BEGIN:VEVENT
DTSTART;TZID=America/Chicago:20251225T150000
DTEND;TZID=America/Chicago:20251225T160000
DTSTAMP:20260422T142932
CREATED:20251128T082909Z
LAST-MODIFIED:20251225T032904Z
UID:10002472-1766674800-1766678400@polarridgeseniorliving.com
SUMMARY:1:1 Social Visits
DESCRIPTION:
URL:https://polarridgeseniorliving.com/event-calendar/11-social-visits-83/
LOCATION:Memory Care
CATEGORIES:Memory Care
END:VEVENT
BEGIN:VEVENT
DTSTART;TZID=America/Chicago:20251225T130000
DTEND;TZID=America/Chicago:20251225T140000
DTSTAMP:20260422T142932
CREATED:20251126T081358Z
LAST-MODIFIED:20251201T004902Z
UID:10002391-1766667600-1766671200@polarridgeseniorliving.com
SUMMARY:Bingo
DESCRIPTION:
URL:https://polarridgeseniorliving.com/event-calendar/bingo-65/
LOCATION:Memory Care
CATEGORIES:Memory Care
END:VEVENT
BEGIN:VEVENT
DTSTART;TZID=America/Chicago:20251225T103000
DTEND;TZID=America/Chicago:20251225T113000
DTSTAMP:20260422T142932
CREATED:20251126T081358Z
LAST-MODIFIED:20251225T032903Z
UID:10002390-1766658600-1766662200@polarridgeseniorliving.com
SUMMARY:Coffee Social/Daily Chronicle
DESCRIPTION:
URL:https://polarridgeseniorliving.com/event-calendar/coffee-social-daily-chronicle-130/
LOCATION:Memory Care
CATEGORIES:Memory Care
END:VEVENT
BEGIN:VEVENT
DTSTART;TZID=America/Chicago:20251225T100000
DTEND;TZID=America/Chicago:20251225T103000
DTSTAMP:20260422T142932
CREATED:20251126T081358Z
LAST-MODIFIED:20251201T004851Z
UID:10002389-1766656800-1766658600@polarridgeseniorliving.com
SUMMARY:Seated Exercises
DESCRIPTION:
URL:https://polarridgeseniorliving.com/event-calendar/seated-exercises-225/
LOCATION:Memory Care
CATEGORIES:Memory Care
END:VEVENT
BEGIN:VEVENT
DTSTART;TZID=America/Chicago:20251224T190000
DTEND;TZID=America/Chicago:20251224T200000
DTSTAMP:20260422T142932
CREATED:20251201T004407Z
LAST-MODIFIED:20251224T031418Z
UID:10002642-1766602800-1766606400@polarridgeseniorliving.com
SUMMARY:Rest & Relaxation
DESCRIPTION:
URL:https://polarridgeseniorliving.com/event-calendar/rest-relaxation-216/
LOCATION:Memory Care
CATEGORIES:Memory Care
END:VEVENT
BEGIN:VEVENT
DTSTART;TZID=America/Chicago:20251224T190000
DTEND;TZID=America/Chicago:20251224T200000
DTSTAMP:20260422T142932
CREATED:20251125T081359Z
LAST-MODIFIED:20251130T004534Z
UID:10002380-1766602800-1766606400@polarridgeseniorliving.com
SUMMARY:Rest & Relaxation
DESCRIPTION:
URL:https://polarridgeseniorliving.com/event-calendar/rest-relaxation-189/
LOCATION:Memory Care
CATEGORIES:Memory Care
END:VEVENT
BEGIN:VEVENT
DTSTART;TZID=America/Chicago:20251224T173000
DTEND;TZID=America/Chicago:20251224T183000
DTSTAMP:20260422T142932
CREATED:20251125T081359Z
LAST-MODIFIED:20251224T031407Z
UID:10002379-1766597400-1766601000@polarridgeseniorliving.com
SUMMARY:Music Appreciation
DESCRIPTION:
URL:https://polarridgeseniorliving.com/event-calendar/music-appreciation-137/
LOCATION:Memory Care
CATEGORIES:Memory Care
END:VEVENT
END:VCALENDAR