BEGIN:VCALENDAR
VERSION:2.0
PRODID:-//Polar Ridge Senior Living - ECPv6.11.2.1//NONSGML v1.0//EN
CALSCALE:GREGORIAN
METHOD:PUBLISH
X-ORIGINAL-URL:https://polarridgeseniorliving.com
X-WR-CALDESC:Events for Polar Ridge Senior Living
REFRESH-INTERVAL;VALUE=DURATION:PT1H
X-Robots-Tag:noindex
X-PUBLISHED-TTL:PT1H
BEGIN:VTIMEZONE
TZID:America/Chicago
BEGIN:DAYLIGHT
TZOFFSETFROM:-0600
TZOFFSETTO:-0500
TZNAME:CDT
DTSTART:20250309T080000
END:DAYLIGHT
BEGIN:STANDARD
TZOFFSETFROM:-0500
TZOFFSETTO:-0600
TZNAME:CST
DTSTART:20251102T070000
END:STANDARD
END:VTIMEZONE
BEGIN:VEVENT
DTSTART;TZID=America/Chicago:20251208T150000
DTEND;TZID=America/Chicago:20251208T160000
DTSTAMP:20260423T104639
CREATED:20251128T082904Z
LAST-MODIFIED:20251208T014357Z
UID:10002443-1765206000-1765209600@polarridgeseniorliving.com
SUMMARY:1:1 Social Visits
DESCRIPTION:
URL:https://polarridgeseniorliving.com/event-calendar/11-social-visits-70/
LOCATION:Memory Care
CATEGORIES:Memory Care
END:VEVENT
BEGIN:VEVENT
DTSTART;TZID=America/Chicago:20251208T140000
DTEND;TZID=America/Chicago:20251208T143000
DTSTAMP:20260423T104639
CREATED:20251128T082904Z
LAST-MODIFIED:20251208T014357Z
UID:10002441-1765202400-1765204200@polarridgeseniorliving.com
SUMMARY:Story Time with Maria
DESCRIPTION:
URL:https://polarridgeseniorliving.com/event-calendar/story-time-with-maria-26/
LOCATION:Memory Care
CATEGORIES:Memory Care
END:VEVENT
BEGIN:VEVENT
DTSTART;TZID=America/Chicago:20251208T130000
DTEND;TZID=America/Chicago:20251208T140000
DTSTAMP:20260423T104639
CREATED:20251128T082904Z
LAST-MODIFIED:20251208T014357Z
UID:10002442-1765198800-1765202400@polarridgeseniorliving.com
SUMMARY:Arts & Crafts
DESCRIPTION:
URL:https://polarridgeseniorliving.com/event-calendar/arts-crafts-39/
LOCATION:Memory Care
CATEGORIES:Memory Care
END:VEVENT
BEGIN:VEVENT
DTSTART;TZID=America/Chicago:20251208T130000
DTEND;TZID=America/Chicago:20251208T140000
DTSTAMP:20260423T104639
CREATED:20251109T075900Z
LAST-MODIFIED:20251130T004531Z
UID:10002221-1765198800-1765202400@polarridgeseniorliving.com
SUMMARY:Storytelling & Reminiscing
DESCRIPTION:
URL:https://polarridgeseniorliving.com/event-calendar/storytelling-reminiscing-6/
LOCATION:Memory Care
CATEGORIES:Memory Care
END:VEVENT
BEGIN:VEVENT
DTSTART;TZID=America/Chicago:20251208T103000
DTEND;TZID=America/Chicago:20251208T113000
DTSTAMP:20260423T104639
CREATED:20251109T075900Z
LAST-MODIFIED:20251208T014356Z
UID:10002220-1765189800-1765193400@polarridgeseniorliving.com
SUMMARY:Coffee Social/Daily Chronicle
DESCRIPTION:
URL:https://polarridgeseniorliving.com/event-calendar/coffee-social-daily-chronicle-117/
LOCATION:Memory Care
CATEGORIES:Memory Care
END:VEVENT
BEGIN:VEVENT
DTSTART;TZID=America/Chicago:20251208T100000
DTEND;TZID=America/Chicago:20251208T103000
DTSTAMP:20260423T104639
CREATED:20251109T075859Z
LAST-MODIFIED:20251208T014356Z
UID:10002219-1765188000-1765189800@polarridgeseniorliving.com
SUMMARY:Seated Exercises
DESCRIPTION:
URL:https://polarridgeseniorliving.com/event-calendar/seated-exercises-208/
LOCATION:Memory Care
CATEGORIES:Memory Care
END:VEVENT
BEGIN:VEVENT
DTSTART;TZID=America/Chicago:20251207T190000
DTEND;TZID=America/Chicago:20251207T200000
DTSTAMP:20260423T104639
CREATED:20251201T004358Z
LAST-MODIFIED:20251208T014356Z
UID:10002546-1765134000-1765137600@polarridgeseniorliving.com
SUMMARY:Rest & Relaxation
DESCRIPTION:
URL:https://polarridgeseniorliving.com/event-calendar/rest-relaxation-202/
LOCATION:Memory Care
CATEGORIES:Memory Care
END:VEVENT
BEGIN:VEVENT
DTSTART;TZID=America/Chicago:20251207T103000
DTEND;TZID=America/Chicago:20251207T113000
DTSTAMP:20260423T104639
CREATED:20251201T004358Z
LAST-MODIFIED:20251207T012856Z
UID:10002544-1765103400-1765107000@polarridgeseniorliving.com
SUMMARY:Coffee Social/Daily Chronicle
DESCRIPTION:
URL:https://polarridgeseniorliving.com/event-calendar/coffee-social-daily-chronicle-134/
LOCATION:Memory Care
CATEGORIES:Memory Care
END:VEVENT
BEGIN:VEVENT
DTSTART;TZID=America/Chicago:20251207T100000
DTEND;TZID=America/Chicago:20251207T103000
DTSTAMP:20260423T104639
CREATED:20251108T075900Z
LAST-MODIFIED:20251207T012856Z
UID:10002211-1765101600-1765103400@polarridgeseniorliving.com
SUMMARY:Seated Exercises
DESCRIPTION:
URL:https://polarridgeseniorliving.com/event-calendar/seated-exercises-207/
LOCATION:Memory Care
CATEGORIES:Memory Care
END:VEVENT
BEGIN:VEVENT
DTSTART;TZID=America/Chicago:20251206T190000
DTEND;TZID=America/Chicago:20251206T200000
DTSTAMP:20260423T104639
CREATED:20251201T004358Z
LAST-MODIFIED:20251207T012856Z
UID:10002540-1765047600-1765051200@polarridgeseniorliving.com
SUMMARY:Rest & Relaxation
DESCRIPTION:
URL:https://polarridgeseniorliving.com/event-calendar/rest-relaxation-201/
LOCATION:Memory Care
CATEGORIES:Memory Care
END:VEVENT
BEGIN:VEVENT
DTSTART;TZID=America/Chicago:20251206T190000
DTEND;TZID=America/Chicago:20251206T200000
DTSTAMP:20260423T104639
CREATED:20251107T075919Z
LAST-MODIFIED:20251130T004531Z
UID:10002208-1765047600-1765051200@polarridgeseniorliving.com
SUMMARY:Rest & Relaxation
DESCRIPTION:
URL:https://polarridgeseniorliving.com/event-calendar/rest-relaxation-177/
LOCATION:Memory Care
CATEGORIES:Memory Care
END:VEVENT
BEGIN:VEVENT
DTSTART;TZID=America/Chicago:20251206T103000
DTEND;TZID=America/Chicago:20251206T113000
DTSTAMP:20260423T104639
CREATED:20251201T004358Z
LAST-MODIFIED:20251206T012925Z
UID:10002536-1765017000-1765020600@polarridgeseniorliving.com
SUMMARY:Coffee Social/Daily Chronicle
DESCRIPTION:
URL:https://polarridgeseniorliving.com/event-calendar/coffee-social-daily-chronicle-133/
LOCATION:Memory Care
CATEGORIES:Memory Care
END:VEVENT
BEGIN:VEVENT
DTSTART;TZID=America/Chicago:20251206T100000
DTEND;TZID=America/Chicago:20251206T103000
DTSTAMP:20260423T104639
CREATED:20251107T075919Z
LAST-MODIFIED:20251206T012925Z
UID:10002206-1765015200-1765017000@polarridgeseniorliving.com
SUMMARY:Seated Exercises
DESCRIPTION:
URL:https://polarridgeseniorliving.com/event-calendar/seated-exercises-206/
LOCATION:Memory Care
CATEGORIES:Memory Care
END:VEVENT
BEGIN:VEVENT
DTSTART;TZID=America/Chicago:20251205T190000
DTEND;TZID=America/Chicago:20251205T200000
DTSTAMP:20260423T104639
CREATED:20251201T004357Z
LAST-MODIFIED:20251206T012925Z
UID:10002534-1764961200-1764964800@polarridgeseniorliving.com
SUMMARY:Rest & Relaxation
DESCRIPTION:
URL:https://polarridgeseniorliving.com/event-calendar/rest-relaxation-200/
LOCATION:Memory Care
CATEGORIES:Memory Care
END:VEVENT
BEGIN:VEVENT
DTSTART;TZID=America/Chicago:20251205T190000
DTEND;TZID=America/Chicago:20251205T200000
DTSTAMP:20260423T104639
CREATED:20251106T075900Z
LAST-MODIFIED:20251130T004530Z
UID:10002202-1764961200-1764964800@polarridgeseniorliving.com
SUMMARY:Rest & Relaxation
DESCRIPTION:
URL:https://polarridgeseniorliving.com/event-calendar/rest-relaxation-176/
LOCATION:Memory Care
CATEGORIES:Memory Care
END:VEVENT
BEGIN:VEVENT
DTSTART;TZID=America/Chicago:20251205T173000
DTEND;TZID=America/Chicago:20251205T183000
DTSTAMP:20260423T104639
CREATED:20251106T075900Z
LAST-MODIFIED:20251205T011403Z
UID:10002201-1764955800-1764959400@polarridgeseniorliving.com
SUMMARY:Music Appreciation
DESCRIPTION:
URL:https://polarridgeseniorliving.com/event-calendar/music-appreciation-127/
LOCATION:Memory Care
CATEGORIES:Memory Care
END:VEVENT
BEGIN:VEVENT
DTSTART;TZID=America/Chicago:20251205T150000
DTEND;TZID=America/Chicago:20251205T160000
DTSTAMP:20260423T104639
CREATED:20251128T082904Z
LAST-MODIFIED:20251205T011404Z
UID:10002438-1764946800-1764950400@polarridgeseniorliving.com
SUMMARY:1:1 Social Visits
DESCRIPTION:
URL:https://polarridgeseniorliving.com/event-calendar/11-social-visits-69/
LOCATION:Memory Care
CATEGORIES:Memory Care
END:VEVENT
BEGIN:VEVENT
DTSTART;TZID=America/Chicago:20251205T140000
DTEND;TZID=America/Chicago:20251205T150000
DTSTAMP:20260423T104639
CREATED:20251106T075900Z
LAST-MODIFIED:20251130T004530Z
UID:10002200-1764943200-1764946800@polarridgeseniorliving.com
SUMMARY:Book reading/Trivia & Spelling Bee
DESCRIPTION:
URL:https://polarridgeseniorliving.com/event-calendar/book-reading-trivia-spelling-bee-30/
LOCATION:Memory Care
CATEGORIES:Memory Care
END:VEVENT
BEGIN:VEVENT
DTSTART;TZID=America/Chicago:20251205T103000
DTEND;TZID=America/Chicago:20251205T113000
DTSTAMP:20260423T104639
CREATED:20251106T075900Z
LAST-MODIFIED:20251205T011404Z
UID:10002198-1764930600-1764934200@polarridgeseniorliving.com
SUMMARY:Coffee Social/Daily Chronicle
DESCRIPTION:
URL:https://polarridgeseniorliving.com/event-calendar/coffee-social-daily-chronicle-116/
LOCATION:Memory Care
CATEGORIES:Memory Care
END:VEVENT
BEGIN:VEVENT
DTSTART;TZID=America/Chicago:20251205T100000
DTEND;TZID=America/Chicago:20251205T103000
DTSTAMP:20260423T104639
CREATED:20251106T075900Z
LAST-MODIFIED:20251205T011404Z
UID:10002197-1764928800-1764930600@polarridgeseniorliving.com
SUMMARY:Seated Exercises
DESCRIPTION:
URL:https://polarridgeseniorliving.com/event-calendar/seated-exercises-205/
LOCATION:Memory Care
CATEGORIES:Memory Care
END:VEVENT
BEGIN:VEVENT
DTSTART;TZID=America/Chicago:20251204T190000
DTEND;TZID=America/Chicago:20251204T200000
DTSTAMP:20260423T104639
CREATED:20251201T004357Z
LAST-MODIFIED:20251205T011404Z
UID:10002529-1764874800-1764878400@polarridgeseniorliving.com
SUMMARY:Rest & Relaxation
DESCRIPTION:
URL:https://polarridgeseniorliving.com/event-calendar/rest-relaxation-199/
LOCATION:Memory Care
CATEGORIES:Memory Care
END:VEVENT
BEGIN:VEVENT
DTSTART;TZID=America/Chicago:20251204T190000
DTEND;TZID=America/Chicago:20251204T200000
DTSTAMP:20260423T104639
CREATED:20251105T075859Z
LAST-MODIFIED:20251130T004530Z
UID:10002190-1764874800-1764878400@polarridgeseniorliving.com
SUMMARY:Rest & Relaxation
DESCRIPTION:
URL:https://polarridgeseniorliving.com/event-calendar/rest-relaxation-175/
LOCATION:Memory Care
CATEGORIES:Memory Care
END:VEVENT
BEGIN:VEVENT
DTSTART;TZID=America/Chicago:20251204T173000
DTEND;TZID=America/Chicago:20251204T183000
DTSTAMP:20260423T104639
CREATED:20251105T075859Z
LAST-MODIFIED:20251204T011425Z
UID:10002189-1764869400-1764873000@polarridgeseniorliving.com
SUMMARY:Music Appreciation
DESCRIPTION:
URL:https://polarridgeseniorliving.com/event-calendar/music-appreciation-126/
LOCATION:Memory Care
CATEGORIES:Memory Care
END:VEVENT
BEGIN:VEVENT
DTSTART;TZID=America/Chicago:20251204T150000
DTEND;TZID=America/Chicago:20251204T160000
DTSTAMP:20260423T104639
CREATED:20251128T082903Z
LAST-MODIFIED:20251204T011426Z
UID:10002437-1764860400-1764864000@polarridgeseniorliving.com
SUMMARY:1:1 Social Visits
DESCRIPTION:
URL:https://polarridgeseniorliving.com/event-calendar/11-social-visits-68/
LOCATION:Memory Care
CATEGORIES:Memory Care
END:VEVENT
BEGIN:VEVENT
DTSTART;TZID=America/Chicago:20251204T130000
DTEND;TZID=America/Chicago:20251204T140000
DTSTAMP:20260423T104639
CREATED:20251105T075859Z
LAST-MODIFIED:20251204T011426Z
UID:10002188-1764853200-1764856800@polarridgeseniorliving.com
SUMMARY:Bingo
DESCRIPTION:
URL:https://polarridgeseniorliving.com/event-calendar/bingo-59/
LOCATION:Memory Care
CATEGORIES:Memory Care
END:VEVENT
BEGIN:VEVENT
DTSTART;TZID=America/Chicago:20251204T103000
DTEND;TZID=America/Chicago:20251204T113000
DTSTAMP:20260423T104639
CREATED:20251105T075859Z
LAST-MODIFIED:20251204T011426Z
UID:10002187-1764844200-1764847800@polarridgeseniorliving.com
SUMMARY:Coffee Social/Daily Chronicle
DESCRIPTION:
URL:https://polarridgeseniorliving.com/event-calendar/coffee-social-daily-chronicle-115/
LOCATION:Memory Care
CATEGORIES:Memory Care
END:VEVENT
BEGIN:VEVENT
DTSTART;TZID=America/Chicago:20251204T100000
DTEND;TZID=America/Chicago:20251204T103000
DTSTAMP:20260423T104639
CREATED:20251105T075859Z
LAST-MODIFIED:20251204T011426Z
UID:10002186-1764842400-1764844200@polarridgeseniorliving.com
SUMMARY:Seated Exercises
DESCRIPTION:
URL:https://polarridgeseniorliving.com/event-calendar/seated-exercises-204/
LOCATION:Memory Care
CATEGORIES:Memory Care
END:VEVENT
BEGIN:VEVENT
DTSTART;TZID=America/Chicago:20251203T190000
DTEND;TZID=America/Chicago:20251203T200000
DTSTAMP:20260423T104639
CREATED:20251201T004357Z
LAST-MODIFIED:20251204T011426Z
UID:10002523-1764788400-1764792000@polarridgeseniorliving.com
SUMMARY:Rest & Relaxation
DESCRIPTION:
URL:https://polarridgeseniorliving.com/event-calendar/rest-relaxation-198/
LOCATION:Memory Care
CATEGORIES:Memory Care
END:VEVENT
BEGIN:VEVENT
DTSTART;TZID=America/Chicago:20251203T190000
DTEND;TZID=America/Chicago:20251203T200000
DTSTAMP:20260423T104639
CREATED:20251104T075900Z
LAST-MODIFIED:20251130T004530Z
UID:10002177-1764788400-1764792000@polarridgeseniorliving.com
SUMMARY:Rest & Relaxation
DESCRIPTION:
URL:https://polarridgeseniorliving.com/event-calendar/rest-relaxation-174/
LOCATION:Memory Care
CATEGORIES:Memory Care
END:VEVENT
BEGIN:VEVENT
DTSTART;TZID=America/Chicago:20251203T173000
DTEND;TZID=America/Chicago:20251203T183000
DTSTAMP:20260423T104639
CREATED:20251104T075900Z
LAST-MODIFIED:20251203T005856Z
UID:10002176-1764783000-1764786600@polarridgeseniorliving.com
SUMMARY:Music Appreciation
DESCRIPTION:
URL:https://polarridgeseniorliving.com/event-calendar/music-appreciation-125/
LOCATION:Memory Care
CATEGORIES:Memory Care
END:VEVENT
END:VCALENDAR