BEGIN:VCALENDAR
VERSION:2.0
PRODID:-//Polar Ridge Senior Living - ECPv6.11.2.1//NONSGML v1.0//EN
CALSCALE:GREGORIAN
METHOD:PUBLISH
X-WR-CALNAME:Polar Ridge Senior Living
X-ORIGINAL-URL:https://polarridgeseniorliving.com
X-WR-CALDESC:Events for Polar Ridge Senior Living
REFRESH-INTERVAL;VALUE=DURATION:PT1H
X-Robots-Tag:noindex
X-PUBLISHED-TTL:PT1H
BEGIN:VTIMEZONE
TZID:America/Chicago
BEGIN:DAYLIGHT
TZOFFSETFROM:-0600
TZOFFSETTO:-0500
TZNAME:CDT
DTSTART:20250309T080000
END:DAYLIGHT
BEGIN:STANDARD
TZOFFSETFROM:-0500
TZOFFSETTO:-0600
TZNAME:CST
DTSTART:20251102T070000
END:STANDARD
END:VTIMEZONE
BEGIN:VEVENT
DTSTART;TZID=America/Chicago:20251112T103000
DTEND;TZID=America/Chicago:20251112T113000
DTSTAMP:20260424T033757
CREATED:20251014T070459Z
LAST-MODIFIED:20251112T075857Z
UID:10001946-1762943400-1762947000@polarridgeseniorliving.com
SUMMARY:Coffee Social/Daily Chronicle
DESCRIPTION:
URL:https://polarridgeseniorliving.com/event-calendar/coffee-social-daily-chronicle-99/
LOCATION:Memory Care
CATEGORIES:Memory Care
END:VEVENT
BEGIN:VEVENT
DTSTART;TZID=America/Chicago:20251112T100000
DTEND;TZID=America/Chicago:20251112T103000
DTSTAMP:20260424T033757
CREATED:20251014T070459Z
LAST-MODIFIED:20251112T075857Z
UID:10001945-1762941600-1762943400@polarridgeseniorliving.com
SUMMARY:Seated Exercises
DESCRIPTION:
URL:https://polarridgeseniorliving.com/event-calendar/seated-exercises-182/
LOCATION:Memory Care
CATEGORIES:Memory Care
END:VEVENT
BEGIN:VEVENT
DTSTART;TZID=America/Chicago:20251111T190000
DTEND;TZID=America/Chicago:20251111T200000
DTSTAMP:20260424T033757
CREATED:20251013T065858Z
LAST-MODIFIED:20251111T075854Z
UID:10001938-1762887600-1762891200@polarridgeseniorliving.com
SUMMARY:Rest & Relaxation
DESCRIPTION:
URL:https://polarridgeseniorliving.com/event-calendar/rest-relaxation-156/
LOCATION:Memory Care
CATEGORIES:Memory Care
END:VEVENT
BEGIN:VEVENT
DTSTART;TZID=America/Chicago:20251111T173000
DTEND;TZID=America/Chicago:20251111T183000
DTSTAMP:20260424T033757
CREATED:20251013T065858Z
LAST-MODIFIED:20251111T075854Z
UID:10001937-1762882200-1762885800@polarridgeseniorliving.com
SUMMARY:Music Appreciation
DESCRIPTION:
URL:https://polarridgeseniorliving.com/event-calendar/music-appreciation-112/
LOCATION:Memory Care
CATEGORIES:Memory Care
END:VEVENT
BEGIN:VEVENT
DTSTART;TZID=America/Chicago:20251111T130000
DTEND;TZID=America/Chicago:20251111T140000
DTSTAMP:20260424T033757
CREATED:20251013T065858Z
LAST-MODIFIED:20251111T075854Z
UID:10001936-1762866000-1762869600@polarridgeseniorliving.com
SUMMARY:Bingo
DESCRIPTION:
URL:https://polarridgeseniorliving.com/event-calendar/bingo-52/
LOCATION:Memory Care
CATEGORIES:Memory Care
END:VEVENT
BEGIN:VEVENT
DTSTART;TZID=America/Chicago:20251111T103000
DTEND;TZID=America/Chicago:20251111T113000
DTSTAMP:20260424T033757
CREATED:20251013T065858Z
LAST-MODIFIED:20251111T075854Z
UID:10001935-1762857000-1762860600@polarridgeseniorliving.com
SUMMARY:Coffee Social/Daily Chronicle
DESCRIPTION:
URL:https://polarridgeseniorliving.com/event-calendar/coffee-social-daily-chronicle-98/
LOCATION:Memory Care
CATEGORIES:Memory Care
END:VEVENT
BEGIN:VEVENT
DTSTART;TZID=America/Chicago:20251111T100000
DTEND;TZID=America/Chicago:20251111T103000
DTSTAMP:20260424T033757
CREATED:20251013T065858Z
LAST-MODIFIED:20251111T075854Z
UID:10001934-1762855200-1762857000@polarridgeseniorliving.com
SUMMARY:Seated Exercises
DESCRIPTION:
URL:https://polarridgeseniorliving.com/event-calendar/seated-exercises-181/
LOCATION:Memory Care
CATEGORIES:Memory Care
END:VEVENT
BEGIN:VEVENT
DTSTART;TZID=America/Chicago:20251110T190000
DTEND;TZID=America/Chicago:20251110T200000
DTSTAMP:20260424T033757
CREATED:20251012T064400Z
LAST-MODIFIED:20251110T075856Z
UID:10001926-1762801200-1762804800@polarridgeseniorliving.com
SUMMARY:Rest & Relaxation
DESCRIPTION:
URL:https://polarridgeseniorliving.com/event-calendar/rest-relaxation-155/
LOCATION:Memory Care
CATEGORIES:Memory Care
END:VEVENT
BEGIN:VEVENT
DTSTART;TZID=America/Chicago:20251110T130000
DTEND;TZID=America/Chicago:20251110T140000
DTSTAMP:20260424T033757
CREATED:20251012T064359Z
LAST-MODIFIED:20251110T075856Z
UID:10001925-1762779600-1762783200@polarridgeseniorliving.com
SUMMARY:Storytelling & Reminiscing
DESCRIPTION:
URL:https://polarridgeseniorliving.com/event-calendar/storytelling-reminiscing-2/
LOCATION:Memory Care
CATEGORIES:Memory Care
END:VEVENT
BEGIN:VEVENT
DTSTART;TZID=America/Chicago:20251110T103000
DTEND;TZID=America/Chicago:20251110T113000
DTSTAMP:20260424T033757
CREATED:20251012T064359Z
LAST-MODIFIED:20251110T075856Z
UID:10001924-1762770600-1762774200@polarridgeseniorliving.com
SUMMARY:Coffee Social/Daily Chronicle
DESCRIPTION:
URL:https://polarridgeseniorliving.com/event-calendar/coffee-social-daily-chronicle-97/
LOCATION:Memory Care
CATEGORIES:Memory Care
END:VEVENT
BEGIN:VEVENT
DTSTART;TZID=America/Chicago:20251110T100000
DTEND;TZID=America/Chicago:20251110T103000
DTSTAMP:20260424T033757
CREATED:20251012T064359Z
LAST-MODIFIED:20251110T075856Z
UID:10001923-1762768800-1762770600@polarridgeseniorliving.com
SUMMARY:Seated Exercises
DESCRIPTION:
URL:https://polarridgeseniorliving.com/event-calendar/seated-exercises-180/
LOCATION:Memory Care
CATEGORIES:Memory Care
END:VEVENT
BEGIN:VEVENT
DTSTART;TZID=America/Chicago:20251109T100000
DTEND;TZID=America/Chicago:20251109T103000
DTSTAMP:20260424T033757
CREATED:20251011T064358Z
LAST-MODIFIED:20251109T075855Z
UID:10001915-1762682400-1762684200@polarridgeseniorliving.com
SUMMARY:Seated Exercises
DESCRIPTION:
URL:https://polarridgeseniorliving.com/event-calendar/seated-exercises-179/
LOCATION:Memory Care
CATEGORIES:Memory Care
END:VEVENT
BEGIN:VEVENT
DTSTART;TZID=America/Chicago:20251108T190000
DTEND;TZID=America/Chicago:20251108T200000
DTSTAMP:20260424T033757
CREATED:20251010T064400Z
LAST-MODIFIED:20251108T075855Z
UID:10001912-1762628400-1762632000@polarridgeseniorliving.com
SUMMARY:Rest & Relaxation
DESCRIPTION:
URL:https://polarridgeseniorliving.com/event-calendar/rest-relaxation-154/
LOCATION:Memory Care
CATEGORIES:Memory Care
END:VEVENT
BEGIN:VEVENT
DTSTART;TZID=America/Chicago:20251108T100000
DTEND;TZID=America/Chicago:20251108T103000
DTSTAMP:20260424T033757
CREATED:20251010T064400Z
LAST-MODIFIED:20251108T075855Z
UID:10001910-1762596000-1762597800@polarridgeseniorliving.com
SUMMARY:Seated Exercises
DESCRIPTION:
URL:https://polarridgeseniorliving.com/event-calendar/seated-exercises-178/
LOCATION:Memory Care
CATEGORIES:Memory Care
END:VEVENT
BEGIN:VEVENT
DTSTART;TZID=America/Chicago:20251107T190000
DTEND;TZID=America/Chicago:20251107T200000
DTSTAMP:20260424T033757
CREATED:20251009T064401Z
LAST-MODIFIED:20251107T075913Z
UID:10001906-1762542000-1762545600@polarridgeseniorliving.com
SUMMARY:Rest & Relaxation
DESCRIPTION:
URL:https://polarridgeseniorliving.com/event-calendar/rest-relaxation-153/
LOCATION:Memory Care
CATEGORIES:Memory Care
END:VEVENT
BEGIN:VEVENT
DTSTART;TZID=America/Chicago:20251107T173000
DTEND;TZID=America/Chicago:20251107T183000
DTSTAMP:20260424T033757
CREATED:20251009T064400Z
LAST-MODIFIED:20251107T075913Z
UID:10001905-1762536600-1762540200@polarridgeseniorliving.com
SUMMARY:Music Appreciation
DESCRIPTION:
URL:https://polarridgeseniorliving.com/event-calendar/music-appreciation-111/
LOCATION:Memory Care
CATEGORIES:Memory Care
END:VEVENT
BEGIN:VEVENT
DTSTART;TZID=America/Chicago:20251107T140000
DTEND;TZID=America/Chicago:20251107T150000
DTSTAMP:20260424T033757
CREATED:20251009T064400Z
LAST-MODIFIED:20251107T075913Z
UID:10001904-1762524000-1762527600@polarridgeseniorliving.com
SUMMARY:Book reading/Trivia & Spelling Bee
DESCRIPTION:
URL:https://polarridgeseniorliving.com/event-calendar/book-reading-trivia-spelling-bee-26/
LOCATION:Memory Care
CATEGORIES:Memory Care
END:VEVENT
BEGIN:VEVENT
DTSTART;TZID=America/Chicago:20251107T103000
DTEND;TZID=America/Chicago:20251107T113000
DTSTAMP:20260424T033757
CREATED:20251009T064400Z
LAST-MODIFIED:20251107T075913Z
UID:10001902-1762511400-1762515000@polarridgeseniorliving.com
SUMMARY:Coffee Social/Daily Chronicle
DESCRIPTION:
URL:https://polarridgeseniorliving.com/event-calendar/coffee-social-daily-chronicle-96/
LOCATION:Memory Care
CATEGORIES:Memory Care
END:VEVENT
BEGIN:VEVENT
DTSTART;TZID=America/Chicago:20251107T100000
DTEND;TZID=America/Chicago:20251107T103000
DTSTAMP:20260424T033757
CREATED:20251009T064400Z
LAST-MODIFIED:20251107T075913Z
UID:10001901-1762509600-1762511400@polarridgeseniorliving.com
SUMMARY:Seated Exercises
DESCRIPTION:
URL:https://polarridgeseniorliving.com/event-calendar/seated-exercises-177/
LOCATION:Memory Care
CATEGORIES:Memory Care
END:VEVENT
BEGIN:VEVENT
DTSTART;TZID=America/Chicago:20251106T190000
DTEND;TZID=America/Chicago:20251106T200000
DTSTAMP:20260424T033757
CREATED:20251008T062920Z
LAST-MODIFIED:20251106T075856Z
UID:10001894-1762455600-1762459200@polarridgeseniorliving.com
SUMMARY:Rest & Relaxation
DESCRIPTION:
URL:https://polarridgeseniorliving.com/event-calendar/rest-relaxation-152/
LOCATION:Memory Care
CATEGORIES:Memory Care
END:VEVENT
BEGIN:VEVENT
DTSTART;TZID=America/Chicago:20251106T173000
DTEND;TZID=America/Chicago:20251106T183000
DTSTAMP:20260424T033757
CREATED:20251008T062920Z
LAST-MODIFIED:20251106T075856Z
UID:10001893-1762450200-1762453800@polarridgeseniorliving.com
SUMMARY:Music Appreciation
DESCRIPTION:
URL:https://polarridgeseniorliving.com/event-calendar/music-appreciation-110/
LOCATION:Memory Care
CATEGORIES:Memory Care
END:VEVENT
BEGIN:VEVENT
DTSTART;TZID=America/Chicago:20251106T130000
DTEND;TZID=America/Chicago:20251106T140000
DTSTAMP:20260424T033757
CREATED:20251008T062920Z
LAST-MODIFIED:20251106T075856Z
UID:10001892-1762434000-1762437600@polarridgeseniorliving.com
SUMMARY:Bingo
DESCRIPTION:
URL:https://polarridgeseniorliving.com/event-calendar/bingo-51/
LOCATION:Memory Care
CATEGORIES:Memory Care
END:VEVENT
BEGIN:VEVENT
DTSTART;TZID=America/Chicago:20251106T103000
DTEND;TZID=America/Chicago:20251106T113000
DTSTAMP:20260424T033757
CREATED:20251008T062920Z
LAST-MODIFIED:20251106T075856Z
UID:10001891-1762425000-1762428600@polarridgeseniorliving.com
SUMMARY:Coffee Social/Daily Chronicle
DESCRIPTION:
URL:https://polarridgeseniorliving.com/event-calendar/coffee-social-daily-chronicle-95/
LOCATION:Memory Care
CATEGORIES:Memory Care
END:VEVENT
BEGIN:VEVENT
DTSTART;TZID=America/Chicago:20251106T100000
DTEND;TZID=America/Chicago:20251106T103000
DTSTAMP:20260424T033757
CREATED:20251008T062920Z
LAST-MODIFIED:20251106T075856Z
UID:10001890-1762423200-1762425000@polarridgeseniorliving.com
SUMMARY:Seated Exercises
DESCRIPTION:
URL:https://polarridgeseniorliving.com/event-calendar/seated-exercises-176/
LOCATION:Memory Care
CATEGORIES:Memory Care
END:VEVENT
BEGIN:VEVENT
DTSTART;TZID=America/Chicago:20251105T190000
DTEND;TZID=America/Chicago:20251105T200000
DTSTAMP:20260424T033757
CREATED:20251007T062858Z
LAST-MODIFIED:20251105T075855Z
UID:10001882-1762369200-1762372800@polarridgeseniorliving.com
SUMMARY:Rest & Relaxation
DESCRIPTION:
URL:https://polarridgeseniorliving.com/event-calendar/rest-relaxation-151/
LOCATION:Memory Care
CATEGORIES:Memory Care
END:VEVENT
BEGIN:VEVENT
DTSTART;TZID=America/Chicago:20251105T173000
DTEND;TZID=America/Chicago:20251105T183000
DTSTAMP:20260424T033757
CREATED:20251007T062858Z
LAST-MODIFIED:20251105T075855Z
UID:10001881-1762363800-1762367400@polarridgeseniorliving.com
SUMMARY:Music Appreciation
DESCRIPTION:
URL:https://polarridgeseniorliving.com/event-calendar/music-appreciation-109/
LOCATION:Memory Care
CATEGORIES:Memory Care
END:VEVENT
BEGIN:VEVENT
DTSTART;TZID=America/Chicago:20251105T103000
DTEND;TZID=America/Chicago:20251105T113000
DTSTAMP:20260424T033757
CREATED:20251007T062858Z
LAST-MODIFIED:20251105T075855Z
UID:10001880-1762338600-1762342200@polarridgeseniorliving.com
SUMMARY:Coffee Social/Daily Chronicle
DESCRIPTION:
URL:https://polarridgeseniorliving.com/event-calendar/coffee-social-daily-chronicle-94/
LOCATION:Memory Care
CATEGORIES:Memory Care
END:VEVENT
BEGIN:VEVENT
DTSTART;TZID=America/Chicago:20251105T100000
DTEND;TZID=America/Chicago:20251105T103000
DTSTAMP:20260424T033757
CREATED:20251007T062858Z
LAST-MODIFIED:20251105T075855Z
UID:10001879-1762336800-1762338600@polarridgeseniorliving.com
SUMMARY:Seated Exercises
DESCRIPTION:
URL:https://polarridgeseniorliving.com/event-calendar/seated-exercises-175/
LOCATION:Memory Care
CATEGORIES:Memory Care
END:VEVENT
BEGIN:VEVENT
DTSTART;TZID=America/Chicago:20251104T190000
DTEND;TZID=America/Chicago:20251104T200000
DTSTAMP:20260424T033757
CREATED:20251006T062914Z
LAST-MODIFIED:20251104T075856Z
UID:10001873-1762282800-1762286400@polarridgeseniorliving.com
SUMMARY:Rest & Relaxation
DESCRIPTION:
URL:https://polarridgeseniorliving.com/event-calendar/rest-relaxation-150/
LOCATION:Memory Care
CATEGORIES:Memory Care
END:VEVENT
BEGIN:VEVENT
DTSTART;TZID=America/Chicago:20251104T173000
DTEND;TZID=America/Chicago:20251104T183000
DTSTAMP:20260424T033757
CREATED:20251006T062914Z
LAST-MODIFIED:20251104T075855Z
UID:10001872-1762277400-1762281000@polarridgeseniorliving.com
SUMMARY:Music Appreciation
DESCRIPTION:
URL:https://polarridgeseniorliving.com/event-calendar/music-appreciation-108/
LOCATION:Memory Care
CATEGORIES:Memory Care
END:VEVENT
END:VCALENDAR