BEGIN:VCALENDAR
VERSION:2.0
PRODID:-//Polar Ridge Senior Living - ECPv6.11.2.1//NONSGML v1.0//EN
CALSCALE:GREGORIAN
METHOD:PUBLISH
X-ORIGINAL-URL:https://polarridgeseniorliving.com
X-WR-CALDESC:Events for Polar Ridge Senior Living
REFRESH-INTERVAL;VALUE=DURATION:PT1H
X-Robots-Tag:noindex
X-PUBLISHED-TTL:PT1H
BEGIN:VTIMEZONE
TZID:America/Chicago
BEGIN:DAYLIGHT
TZOFFSETFROM:-0600
TZOFFSETTO:-0500
TZNAME:CDT
DTSTART:20250309T080000
END:DAYLIGHT
BEGIN:STANDARD
TZOFFSETFROM:-0500
TZOFFSETTO:-0600
TZNAME:CST
DTSTART:20251102T070000
END:STANDARD
END:VTIMEZONE
BEGIN:VEVENT
DTSTART;TZID=America/Chicago:20251031T190000
DTEND;TZID=America/Chicago:20251031T200000
DTSTAMP:20260424T091109
CREATED:20251002T062918Z
LAST-MODIFIED:20251031T074356Z
UID:10001840-1761937200-1761940800@polarridgeseniorliving.com
SUMMARY:Rest & Relaxation
DESCRIPTION:
URL:https://polarridgeseniorliving.com/event-calendar/rest-relaxation-147/
LOCATION:Memory Care
CATEGORIES:Memory Care
END:VEVENT
BEGIN:VEVENT
DTSTART;TZID=America/Chicago:20251031T173000
DTEND;TZID=America/Chicago:20251031T183000
DTSTAMP:20260424T091109
CREATED:20251002T062918Z
LAST-MODIFIED:20251031T074356Z
UID:10001839-1761931800-1761935400@polarridgeseniorliving.com
SUMMARY:Music Appreciation
DESCRIPTION:
URL:https://polarridgeseniorliving.com/event-calendar/music-appreciation-107/
LOCATION:Memory Care
CATEGORIES:Memory Care
END:VEVENT
BEGIN:VEVENT
DTSTART;TZID=America/Chicago:20251031T140000
DTEND;TZID=America/Chicago:20251031T150000
DTSTAMP:20260424T091109
CREATED:20251002T062918Z
LAST-MODIFIED:20251031T074356Z
UID:10001838-1761919200-1761922800@polarridgeseniorliving.com
SUMMARY:Book reading/Trivia & Spelling Bee
DESCRIPTION:
URL:https://polarridgeseniorliving.com/event-calendar/book-reading-trivia-spelling-bee-25/
LOCATION:Memory Care
CATEGORIES:Memory Care
END:VEVENT
BEGIN:VEVENT
DTSTART;TZID=America/Chicago:20251031T103000
DTEND;TZID=America/Chicago:20251031T113000
DTSTAMP:20260424T091109
CREATED:20251002T062918Z
LAST-MODIFIED:20251031T074356Z
UID:10001836-1761906600-1761910200@polarridgeseniorliving.com
SUMMARY:Coffee Social/Daily Chronicle
DESCRIPTION:
URL:https://polarridgeseniorliving.com/event-calendar/coffee-social-daily-chronicle-91/
LOCATION:Memory Care
CATEGORIES:Memory Care
END:VEVENT
BEGIN:VEVENT
DTSTART;TZID=America/Chicago:20251031T100000
DTEND;TZID=America/Chicago:20251031T103000
DTSTAMP:20260424T091109
CREATED:20251002T062918Z
LAST-MODIFIED:20251031T074356Z
UID:10001835-1761904800-1761906600@polarridgeseniorliving.com
SUMMARY:Seated Exercises
DESCRIPTION:
URL:https://polarridgeseniorliving.com/event-calendar/seated-exercises-170/
LOCATION:Memory Care
CATEGORIES:Memory Care
END:VEVENT
BEGIN:VEVENT
DTSTART;TZID=America/Chicago:20251030T190000
DTEND;TZID=America/Chicago:20251030T200000
DTSTAMP:20260424T091109
CREATED:20251001T062905Z
LAST-MODIFIED:20251030T074356Z
UID:10001826-1761850800-1761854400@polarridgeseniorliving.com
SUMMARY:Rest & Relaxation
DESCRIPTION:
URL:https://polarridgeseniorliving.com/event-calendar/rest-relaxation-146/
LOCATION:Memory Care
CATEGORIES:Memory Care
END:VEVENT
BEGIN:VEVENT
DTSTART;TZID=America/Chicago:20251030T173000
DTEND;TZID=America/Chicago:20251030T183000
DTSTAMP:20260424T091109
CREATED:20251001T062905Z
LAST-MODIFIED:20251030T074356Z
UID:10001825-1761845400-1761849000@polarridgeseniorliving.com
SUMMARY:Music Appreciation
DESCRIPTION:
URL:https://polarridgeseniorliving.com/event-calendar/music-appreciation-106/
LOCATION:Memory Care
CATEGORIES:Memory Care
END:VEVENT
BEGIN:VEVENT
DTSTART;TZID=America/Chicago:20251030T130000
DTEND;TZID=America/Chicago:20251030T140000
DTSTAMP:20260424T091109
CREATED:20251001T062905Z
LAST-MODIFIED:20251030T074356Z
UID:10001824-1761829200-1761832800@polarridgeseniorliving.com
SUMMARY:Bingo
DESCRIPTION:
URL:https://polarridgeseniorliving.com/event-calendar/bingo-49/
LOCATION:Memory Care
CATEGORIES:Memory Care
END:VEVENT
BEGIN:VEVENT
DTSTART;TZID=America/Chicago:20251030T103000
DTEND;TZID=America/Chicago:20251030T113000
DTSTAMP:20260424T091109
CREATED:20251001T062904Z
LAST-MODIFIED:20251030T074356Z
UID:10001823-1761820200-1761823800@polarridgeseniorliving.com
SUMMARY:Coffee Social/Daily Chronicle
DESCRIPTION:
URL:https://polarridgeseniorliving.com/event-calendar/coffee-social-daily-chronicle-90/
LOCATION:Memory Care
CATEGORIES:Memory Care
END:VEVENT
BEGIN:VEVENT
DTSTART;TZID=America/Chicago:20251030T100000
DTEND;TZID=America/Chicago:20251030T103000
DTSTAMP:20260424T091109
CREATED:20251001T062904Z
LAST-MODIFIED:20251030T074356Z
UID:10001822-1761818400-1761820200@polarridgeseniorliving.com
SUMMARY:Seated Exercises
DESCRIPTION:
URL:https://polarridgeseniorliving.com/event-calendar/seated-exercises-169/
LOCATION:Memory Care
CATEGORIES:Memory Care
END:VEVENT
BEGIN:VEVENT
DTSTART;TZID=America/Chicago:20251029T190000
DTEND;TZID=America/Chicago:20251029T200000
DTSTAMP:20260424T091109
CREATED:20250930T062913Z
LAST-MODIFIED:20251029T074355Z
UID:10001735-1761764400-1761768000@polarridgeseniorliving.com
SUMMARY:Rest & Relaxation
DESCRIPTION:
URL:https://polarridgeseniorliving.com/event-calendar/rest-relaxation-145/
LOCATION:Memory Care
CATEGORIES:Memory Care
END:VEVENT
BEGIN:VEVENT
DTSTART;TZID=America/Chicago:20251029T173000
DTEND;TZID=America/Chicago:20251029T183000
DTSTAMP:20260424T091109
CREATED:20250930T062913Z
LAST-MODIFIED:20251029T074355Z
UID:10001734-1761759000-1761762600@polarridgeseniorliving.com
SUMMARY:Music Appreciation
DESCRIPTION:
URL:https://polarridgeseniorliving.com/event-calendar/music-appreciation-105/
LOCATION:Memory Care
CATEGORIES:Memory Care
END:VEVENT
BEGIN:VEVENT
DTSTART;TZID=America/Chicago:20251029T103000
DTEND;TZID=America/Chicago:20251029T113000
DTSTAMP:20260424T091109
CREATED:20251001T062904Z
LAST-MODIFIED:20251029T074355Z
UID:10001821-1761733800-1761737400@polarridgeseniorliving.com
SUMMARY:Coffee Social/Daily Chronicle
DESCRIPTION:
URL:https://polarridgeseniorliving.com/event-calendar/coffee-social-daily-chronicle-89/
LOCATION:Memory Care
CATEGORIES:Memory Care
END:VEVENT
BEGIN:VEVENT
DTSTART;TZID=America/Chicago:20251029T100000
DTEND;TZID=America/Chicago:20251029T103000
DTSTAMP:20260424T091109
CREATED:20250930T062913Z
LAST-MODIFIED:20251029T074355Z
UID:10001733-1761732000-1761733800@polarridgeseniorliving.com
SUMMARY:Seated Exercises
DESCRIPTION:
URL:https://polarridgeseniorliving.com/event-calendar/seated-exercises-168/
LOCATION:Memory Care
CATEGORIES:Memory Care
END:VEVENT
BEGIN:VEVENT
DTSTART;TZID=America/Chicago:20251028T190000
DTEND;TZID=America/Chicago:20251028T200000
DTSTAMP:20260424T091109
CREATED:20250929T062858Z
LAST-MODIFIED:20251028T074358Z
UID:10001727-1761678000-1761681600@polarridgeseniorliving.com
SUMMARY:Rest & Relaxation
DESCRIPTION:
URL:https://polarridgeseniorliving.com/event-calendar/rest-relaxation-144/
LOCATION:Memory Care
CATEGORIES:Memory Care
END:VEVENT
BEGIN:VEVENT
DTSTART;TZID=America/Chicago:20251028T173000
DTEND;TZID=America/Chicago:20251028T183000
DTSTAMP:20260424T091109
CREATED:20250929T062858Z
LAST-MODIFIED:20251028T074358Z
UID:10001726-1761672600-1761676200@polarridgeseniorliving.com
SUMMARY:Music Appreciation
DESCRIPTION:
URL:https://polarridgeseniorliving.com/event-calendar/music-appreciation-104/
LOCATION:Memory Care
CATEGORIES:Memory Care
END:VEVENT
BEGIN:VEVENT
DTSTART;TZID=America/Chicago:20251028T130000
DTEND;TZID=America/Chicago:20251028T140000
DTSTAMP:20260424T091109
CREATED:20251001T062904Z
LAST-MODIFIED:20251028T074358Z
UID:10001820-1761656400-1761660000@polarridgeseniorliving.com
SUMMARY:Bingo
DESCRIPTION:
URL:https://polarridgeseniorliving.com/event-calendar/bingo-48/
LOCATION:Memory Care
CATEGORIES:Memory Care
END:VEVENT
BEGIN:VEVENT
DTSTART;TZID=America/Chicago:20251028T103000
DTEND;TZID=America/Chicago:20251028T113000
DTSTAMP:20260424T091109
CREATED:20251001T062904Z
LAST-MODIFIED:20251028T074358Z
UID:10001819-1761647400-1761651000@polarridgeseniorliving.com
SUMMARY:Coffee Social/Daily Chronicle
DESCRIPTION:
URL:https://polarridgeseniorliving.com/event-calendar/coffee-social-daily-chronicle-88/
LOCATION:Memory Care
CATEGORIES:Memory Care
END:VEVENT
BEGIN:VEVENT
DTSTART;TZID=America/Chicago:20251028T100000
DTEND;TZID=America/Chicago:20251028T103000
DTSTAMP:20260424T091109
CREATED:20250929T062858Z
LAST-MODIFIED:20251028T074358Z
UID:10001725-1761645600-1761647400@polarridgeseniorliving.com
SUMMARY:Seated Exercises
DESCRIPTION:
URL:https://polarridgeseniorliving.com/event-calendar/seated-exercises-167/
LOCATION:Memory Care
CATEGORIES:Memory Care
END:VEVENT
BEGIN:VEVENT
DTSTART;TZID=America/Chicago:20251027T190000
DTEND;TZID=America/Chicago:20251027T200000
DTSTAMP:20260424T091109
CREATED:20250928T062910Z
LAST-MODIFIED:20251027T074359Z
UID:10001718-1761591600-1761595200@polarridgeseniorliving.com
SUMMARY:Rest & Relaxation
DESCRIPTION:
URL:https://polarridgeseniorliving.com/event-calendar/rest-relaxation-143/
LOCATION:Memory Care
CATEGORIES:Memory Care
END:VEVENT
BEGIN:VEVENT
DTSTART;TZID=America/Chicago:20251027T140000
DTEND;TZID=America/Chicago:20251027T143000
DTSTAMP:20260424T091109
CREATED:20250928T062910Z
LAST-MODIFIED:20251027T074359Z
UID:10001717-1761573600-1761575400@polarridgeseniorliving.com
SUMMARY:Game Time with Maria
DESCRIPTION:
URL:https://polarridgeseniorliving.com/event-calendar/story-time-with-maria-24/
LOCATION:Memory Care
CATEGORIES:Memory Care
END:VEVENT
BEGIN:VEVENT
DTSTART;TZID=America/Chicago:20251027T130000
DTEND;TZID=America/Chicago:20251027T140000
DTSTAMP:20260424T091109
CREATED:20251001T062904Z
LAST-MODIFIED:20251027T074359Z
UID:10001818-1761570000-1761573600@polarridgeseniorliving.com
SUMMARY:Storytelling & Reminiscing
DESCRIPTION:
URL:https://polarridgeseniorliving.com/event-calendar/arts-crafts-28/
LOCATION:Memory Care
CATEGORIES:Memory Care
END:VEVENT
BEGIN:VEVENT
DTSTART;TZID=America/Chicago:20251027T103000
DTEND;TZID=America/Chicago:20251027T113000
DTSTAMP:20260424T091109
CREATED:20251001T062904Z
LAST-MODIFIED:20251027T074359Z
UID:10001817-1761561000-1761564600@polarridgeseniorliving.com
SUMMARY:Coffee Social/Daily Chronicle
DESCRIPTION:
URL:https://polarridgeseniorliving.com/event-calendar/coffee-social-daily-chronicle-87/
LOCATION:Memory Care
CATEGORIES:Memory Care
END:VEVENT
BEGIN:VEVENT
DTSTART;TZID=America/Chicago:20251027T100000
DTEND;TZID=America/Chicago:20251027T103000
DTSTAMP:20260424T091109
CREATED:20250928T062910Z
LAST-MODIFIED:20251027T074359Z
UID:10001716-1761559200-1761561000@polarridgeseniorliving.com
SUMMARY:Seated Exercises
DESCRIPTION:
URL:https://polarridgeseniorliving.com/event-calendar/seated-exercises-166/
LOCATION:Memory Care
CATEGORIES:Memory Care
END:VEVENT
BEGIN:VEVENT
DTSTART;TZID=America/Chicago:20251026T100000
DTEND;TZID=America/Chicago:20251026T103000
DTSTAMP:20260424T091109
CREATED:20250927T062858Z
LAST-MODIFIED:20251026T074357Z
UID:10001708-1761472800-1761474600@polarridgeseniorliving.com
SUMMARY:Seated Exercises
DESCRIPTION:
URL:https://polarridgeseniorliving.com/event-calendar/seated-exercises-165/
LOCATION:Memory Care
CATEGORIES:Memory Care
END:VEVENT
BEGIN:VEVENT
DTSTART;TZID=America/Chicago:20251025T190000
DTEND;TZID=America/Chicago:20251025T200000
DTSTAMP:20260424T091109
CREATED:20250926T062857Z
LAST-MODIFIED:20251025T074359Z
UID:10001705-1761418800-1761422400@polarridgeseniorliving.com
SUMMARY:Rest & Relaxation
DESCRIPTION:
URL:https://polarridgeseniorliving.com/event-calendar/rest-relaxation-142/
LOCATION:Memory Care
CATEGORIES:Memory Care
END:VEVENT
BEGIN:VEVENT
DTSTART;TZID=America/Chicago:20251025T100000
DTEND;TZID=America/Chicago:20251025T103000
DTSTAMP:20260424T091109
CREATED:20250926T062857Z
LAST-MODIFIED:20251025T074358Z
UID:10001703-1761386400-1761388200@polarridgeseniorliving.com
SUMMARY:Seated Exercises
DESCRIPTION:
URL:https://polarridgeseniorliving.com/event-calendar/seated-exercises-164/
LOCATION:Memory Care
CATEGORIES:Memory Care
END:VEVENT
BEGIN:VEVENT
DTSTART;TZID=America/Chicago:20251024T190000
DTEND;TZID=America/Chicago:20251024T200000
DTSTAMP:20260424T091109
CREATED:20250925T061358Z
LAST-MODIFIED:20251024T074356Z
UID:10001699-1761332400-1761336000@polarridgeseniorliving.com
SUMMARY:Rest & Relaxation
DESCRIPTION:
URL:https://polarridgeseniorliving.com/event-calendar/rest-relaxation-141/
LOCATION:Memory Care
CATEGORIES:Memory Care
END:VEVENT
BEGIN:VEVENT
DTSTART;TZID=America/Chicago:20251024T173000
DTEND;TZID=America/Chicago:20251024T183000
DTSTAMP:20260424T091109
CREATED:20250925T061358Z
LAST-MODIFIED:20251024T074356Z
UID:10001698-1761327000-1761330600@polarridgeseniorliving.com
SUMMARY:Music Appreciation
DESCRIPTION:
URL:https://polarridgeseniorliving.com/event-calendar/music-appreciation-103/
LOCATION:Memory Care
CATEGORIES:Memory Care
END:VEVENT
BEGIN:VEVENT
DTSTART;TZID=America/Chicago:20251024T140000
DTEND;TZID=America/Chicago:20251024T150000
DTSTAMP:20260424T091109
CREATED:20250925T061358Z
LAST-MODIFIED:20251024T074356Z
UID:10001697-1761314400-1761318000@polarridgeseniorliving.com
SUMMARY:Book reading/Trivia & Spelling Bee
DESCRIPTION:
URL:https://polarridgeseniorliving.com/event-calendar/book-reading-trivia-spelling-bee-24/
LOCATION:Memory Care
CATEGORIES:Memory Care
END:VEVENT
END:VCALENDAR