BEGIN:VCALENDAR
VERSION:2.0
PRODID:-//Polar Ridge Senior Living - ECPv6.11.2.1//NONSGML v1.0//EN
CALSCALE:GREGORIAN
METHOD:PUBLISH
X-WR-CALNAME:Polar Ridge Senior Living
X-ORIGINAL-URL:https://polarridgeseniorliving.com
X-WR-CALDESC:Events for Polar Ridge Senior Living
REFRESH-INTERVAL;VALUE=DURATION:PT1H
X-Robots-Tag:noindex
X-PUBLISHED-TTL:PT1H
BEGIN:VTIMEZONE
TZID:America/Chicago
BEGIN:DAYLIGHT
TZOFFSETFROM:-0600
TZOFFSETTO:-0500
TZNAME:CDT
DTSTART:20250309T080000
END:DAYLIGHT
BEGIN:STANDARD
TZOFFSETFROM:-0500
TZOFFSETTO:-0600
TZNAME:CST
DTSTART:20251102T070000
END:STANDARD
END:VTIMEZONE
BEGIN:VEVENT
DTSTART;TZID=America/Chicago:20250929T130000
DTEND;TZID=America/Chicago:20250929T140000
DTSTAMP:20260425T083850
CREATED:20250831T044625Z
LAST-MODIFIED:20250929T062856Z
UID:10001492-1759150800-1759154400@polarridgeseniorliving.com
SUMMARY:Arts & Crafts
DESCRIPTION:
URL:https://polarridgeseniorliving.com/event-calendar/arts-crafts-20/
LOCATION:Memory Care
CATEGORIES:Memory Care
END:VEVENT
BEGIN:VEVENT
DTSTART;TZID=America/Chicago:20250929T103000
DTEND;TZID=America/Chicago:20250929T113000
DTSTAMP:20260425T083850
CREATED:20250831T044625Z
LAST-MODIFIED:20250929T062856Z
UID:10001491-1759141800-1759145400@polarridgeseniorliving.com
SUMMARY:Coffee Social/Daily Chronicle
DESCRIPTION:
URL:https://polarridgeseniorliving.com/event-calendar/coffee-social-daily-chronicle-67/
LOCATION:Memory Care
CATEGORIES:Memory Care
END:VEVENT
BEGIN:VEVENT
DTSTART;TZID=America/Chicago:20250929T100000
DTEND;TZID=America/Chicago:20250929T103000
DTSTAMP:20260425T083850
CREATED:20250831T044625Z
LAST-MODIFIED:20250929T062856Z
UID:10001490-1759140000-1759141800@polarridgeseniorliving.com
SUMMARY:Seated Exercises
DESCRIPTION:
URL:https://polarridgeseniorliving.com/event-calendar/seated-exercises-138/
LOCATION:Memory Care
CATEGORIES:Memory Care
END:VEVENT
BEGIN:VEVENT
DTSTART;TZID=America/Chicago:20250928T100000
DTEND;TZID=America/Chicago:20250928T103000
DTSTAMP:20260425T083850
CREATED:20250830T044400Z
LAST-MODIFIED:20250928T062909Z
UID:10001482-1759053600-1759055400@polarridgeseniorliving.com
SUMMARY:Seated Exercises
DESCRIPTION:
URL:https://polarridgeseniorliving.com/event-calendar/seated-exercises-137/
LOCATION:Memory Care
CATEGORIES:Memory Care
END:VEVENT
BEGIN:VEVENT
DTSTART;TZID=America/Chicago:20250927T190000
DTEND;TZID=America/Chicago:20250927T200000
DTSTAMP:20260425T083850
CREATED:20250829T044433Z
LAST-MODIFIED:20250927T062855Z
UID:10001479-1758999600-1759003200@polarridgeseniorliving.com
SUMMARY:Rest & Relaxation
DESCRIPTION:
URL:https://polarridgeseniorliving.com/event-calendar/rest-relaxation-118/
LOCATION:Memory Care
CATEGORIES:Memory Care
END:VEVENT
BEGIN:VEVENT
DTSTART;TZID=America/Chicago:20250927T100000
DTEND;TZID=America/Chicago:20250927T103000
DTSTAMP:20260425T083850
CREATED:20250829T044433Z
LAST-MODIFIED:20250927T062855Z
UID:10001477-1758967200-1758969000@polarridgeseniorliving.com
SUMMARY:Seated Exercises
DESCRIPTION:
URL:https://polarridgeseniorliving.com/event-calendar/seated-exercises-136/
LOCATION:Memory Care
CATEGORIES:Memory Care
END:VEVENT
BEGIN:VEVENT
DTSTART;TZID=America/Chicago:20250926T190000
DTEND;TZID=America/Chicago:20250926T200000
DTSTAMP:20260425T083850
CREATED:20250828T044409Z
LAST-MODIFIED:20250926T062855Z
UID:10001465-1758913200-1758916800@polarridgeseniorliving.com
SUMMARY:Rest & Relaxation
DESCRIPTION:
URL:https://polarridgeseniorliving.com/event-calendar/rest-relaxation-117/
LOCATION:Memory Care
CATEGORIES:Memory Care
END:VEVENT
BEGIN:VEVENT
DTSTART;TZID=America/Chicago:20250926T173000
DTEND;TZID=America/Chicago:20250926T183000
DTSTAMP:20260425T083850
CREATED:20250828T044409Z
LAST-MODIFIED:20250926T062855Z
UID:10001464-1758907800-1758911400@polarridgeseniorliving.com
SUMMARY:Music Appreciation
DESCRIPTION:
URL:https://polarridgeseniorliving.com/event-calendar/music-appreciation-87/
LOCATION:Memory Care
CATEGORIES:Memory Care
END:VEVENT
BEGIN:VEVENT
DTSTART;TZID=America/Chicago:20250926T140000
DTEND;TZID=America/Chicago:20250926T150000
DTSTAMP:20260425T083850
CREATED:20250828T044409Z
LAST-MODIFIED:20250926T062855Z
UID:10001463-1758895200-1758898800@polarridgeseniorliving.com
SUMMARY:Book reading/Trivia & Spelling Bee
DESCRIPTION:
URL:https://polarridgeseniorliving.com/event-calendar/book-reading-trivia-spelling-bee-20/
LOCATION:Memory Care
CATEGORIES:Memory Care
END:VEVENT
BEGIN:VEVENT
DTSTART;TZID=America/Chicago:20250926T103000
DTEND;TZID=America/Chicago:20250926T113000
DTSTAMP:20260425T083850
CREATED:20250828T044409Z
LAST-MODIFIED:20250926T062855Z
UID:10001462-1758882600-1758886200@polarridgeseniorliving.com
SUMMARY:Coffee Social/Daily Chronicle
DESCRIPTION:
URL:https://polarridgeseniorliving.com/event-calendar/coffee-social-daily-chronicle-66/
LOCATION:Memory Care
CATEGORIES:Memory Care
END:VEVENT
BEGIN:VEVENT
DTSTART;TZID=America/Chicago:20250926T100000
DTEND;TZID=America/Chicago:20250926T103000
DTSTAMP:20260425T083850
CREATED:20250828T044409Z
LAST-MODIFIED:20250926T062855Z
UID:10001461-1758880800-1758882600@polarridgeseniorliving.com
SUMMARY:Seated Exercises
DESCRIPTION:
URL:https://polarridgeseniorliving.com/event-calendar/seated-exercises-135/
LOCATION:Memory Care
CATEGORIES:Memory Care
END:VEVENT
BEGIN:VEVENT
DTSTART;TZID=America/Chicago:20250925T190000
DTEND;TZID=America/Chicago:20250925T200000
DTSTAMP:20260425T083850
CREATED:20250827T044359Z
LAST-MODIFIED:20250925T061355Z
UID:10001440-1758826800-1758830400@polarridgeseniorliving.com
SUMMARY:Rest & Relaxation
DESCRIPTION:
URL:https://polarridgeseniorliving.com/event-calendar/rest-relaxation-116/
LOCATION:Memory Care
CATEGORIES:Memory Care
END:VEVENT
BEGIN:VEVENT
DTSTART;TZID=America/Chicago:20250925T173000
DTEND;TZID=America/Chicago:20250925T183000
DTSTAMP:20260425T083850
CREATED:20250827T044359Z
LAST-MODIFIED:20250925T061355Z
UID:10001439-1758821400-1758825000@polarridgeseniorliving.com
SUMMARY:Music Appreciation
DESCRIPTION:
URL:https://polarridgeseniorliving.com/event-calendar/music-appreciation-86/
LOCATION:Memory Care
CATEGORIES:Memory Care
END:VEVENT
BEGIN:VEVENT
DTSTART;TZID=America/Chicago:20250925T130000
DTEND;TZID=America/Chicago:20250925T140000
DTSTAMP:20260425T083850
CREATED:20250827T044359Z
LAST-MODIFIED:20250925T061355Z
UID:10001438-1758805200-1758808800@polarridgeseniorliving.com
SUMMARY:Bingo
DESCRIPTION:
URL:https://polarridgeseniorliving.com/event-calendar/bingo-39/
LOCATION:Memory Care
CATEGORIES:Memory Care
END:VEVENT
BEGIN:VEVENT
DTSTART;TZID=America/Chicago:20250925T103000
DTEND;TZID=America/Chicago:20250925T113000
DTSTAMP:20260425T083850
CREATED:20250827T044359Z
LAST-MODIFIED:20250925T061355Z
UID:10001437-1758796200-1758799800@polarridgeseniorliving.com
SUMMARY:Coffee Social/Daily Chronicle
DESCRIPTION:
URL:https://polarridgeseniorliving.com/event-calendar/coffee-social-daily-chronicle-65/
LOCATION:Memory Care
CATEGORIES:Memory Care
END:VEVENT
BEGIN:VEVENT
DTSTART;TZID=America/Chicago:20250925T100000
DTEND;TZID=America/Chicago:20250925T103000
DTSTAMP:20260425T083850
CREATED:20250827T044359Z
LAST-MODIFIED:20250925T061355Z
UID:10001436-1758794400-1758796200@polarridgeseniorliving.com
SUMMARY:Seated Exercises
DESCRIPTION:
URL:https://polarridgeseniorliving.com/event-calendar/seated-exercises-134/
LOCATION:Memory Care
CATEGORIES:Memory Care
END:VEVENT
BEGIN:VEVENT
DTSTART;TZID=America/Chicago:20250924T190000
DTEND;TZID=America/Chicago:20250924T200000
DTSTAMP:20260425T083850
CREATED:20250826T042900Z
LAST-MODIFIED:20250924T061359Z
UID:10001429-1758740400-1758744000@polarridgeseniorliving.com
SUMMARY:Rest & Relaxation
DESCRIPTION:
URL:https://polarridgeseniorliving.com/event-calendar/rest-relaxation-115/
LOCATION:Memory Care
CATEGORIES:Memory Care
END:VEVENT
BEGIN:VEVENT
DTSTART;TZID=America/Chicago:20250924T173000
DTEND;TZID=America/Chicago:20250924T183000
DTSTAMP:20260425T083850
CREATED:20250826T042900Z
LAST-MODIFIED:20250924T061359Z
UID:10001428-1758735000-1758738600@polarridgeseniorliving.com
SUMMARY:Music Appreciation
DESCRIPTION:
URL:https://polarridgeseniorliving.com/event-calendar/music-appreciation-85/
LOCATION:Memory Care
CATEGORIES:Memory Care
END:VEVENT
BEGIN:VEVENT
DTSTART;TZID=America/Chicago:20250924T103000
DTEND;TZID=America/Chicago:20250924T113000
DTSTAMP:20260425T083850
CREATED:20250826T042900Z
LAST-MODIFIED:20250924T061359Z
UID:10001427-1758709800-1758713400@polarridgeseniorliving.com
SUMMARY:Coffee Social/Daily Chronicle
DESCRIPTION:
URL:https://polarridgeseniorliving.com/event-calendar/coffee-social-daily-chronicle-64/
LOCATION:Memory Care
CATEGORIES:Memory Care
END:VEVENT
BEGIN:VEVENT
DTSTART;TZID=America/Chicago:20250924T100000
DTEND;TZID=America/Chicago:20250924T103000
DTSTAMP:20260425T083850
CREATED:20250826T042900Z
LAST-MODIFIED:20250924T061359Z
UID:10001426-1758708000-1758709800@polarridgeseniorliving.com
SUMMARY:Seated Exercises
DESCRIPTION:
URL:https://polarridgeseniorliving.com/event-calendar/seated-exercises-133/
LOCATION:Memory Care
CATEGORIES:Memory Care
END:VEVENT
BEGIN:VEVENT
DTSTART;TZID=America/Chicago:20250923T190000
DTEND;TZID=America/Chicago:20250923T200000
DTSTAMP:20260425T083850
CREATED:20250825T042921Z
LAST-MODIFIED:20250923T060117Z
UID:10001419-1758654000-1758657600@polarridgeseniorliving.com
SUMMARY:Rest & Relaxation
DESCRIPTION:
URL:https://polarridgeseniorliving.com/event-calendar/rest-relaxation-114/
LOCATION:Memory Care
CATEGORIES:Memory Care
END:VEVENT
BEGIN:VEVENT
DTSTART;TZID=America/Chicago:20250923T173000
DTEND;TZID=America/Chicago:20250923T183000
DTSTAMP:20260425T083850
CREATED:20250825T042921Z
LAST-MODIFIED:20250923T060117Z
UID:10001418-1758648600-1758652200@polarridgeseniorliving.com
SUMMARY:Music Appreciation
DESCRIPTION:
URL:https://polarridgeseniorliving.com/event-calendar/music-appreciation-84/
LOCATION:Memory Care
CATEGORIES:Memory Care
END:VEVENT
BEGIN:VEVENT
DTSTART;TZID=America/Chicago:20250923T130000
DTEND;TZID=America/Chicago:20250923T140000
DTSTAMP:20260425T083850
CREATED:20250825T042921Z
LAST-MODIFIED:20250923T060117Z
UID:10001417-1758632400-1758636000@polarridgeseniorliving.com
SUMMARY:Bingo
DESCRIPTION:
URL:https://polarridgeseniorliving.com/event-calendar/bingo-38/
LOCATION:Memory Care
CATEGORIES:Memory Care
END:VEVENT
BEGIN:VEVENT
DTSTART;TZID=America/Chicago:20250923T103000
DTEND;TZID=America/Chicago:20250923T113000
DTSTAMP:20260425T083850
CREATED:20250825T042921Z
LAST-MODIFIED:20250923T060117Z
UID:10001416-1758623400-1758627000@polarridgeseniorliving.com
SUMMARY:Coffee Social/Daily Chronicle
DESCRIPTION:
URL:https://polarridgeseniorliving.com/event-calendar/coffee-social-daily-chronicle-63/
LOCATION:Memory Care
CATEGORIES:Memory Care
END:VEVENT
BEGIN:VEVENT
DTSTART;TZID=America/Chicago:20250923T100000
DTEND;TZID=America/Chicago:20250923T103000
DTSTAMP:20260425T083850
CREATED:20250825T042921Z
LAST-MODIFIED:20250923T060117Z
UID:10001415-1758621600-1758623400@polarridgeseniorliving.com
SUMMARY:Seated Exercises
DESCRIPTION:
URL:https://polarridgeseniorliving.com/event-calendar/seated-exercises-132/
LOCATION:Memory Care
CATEGORIES:Memory Care
END:VEVENT
BEGIN:VEVENT
DTSTART;TZID=America/Chicago:20250922T190000
DTEND;TZID=America/Chicago:20250922T200000
DTSTAMP:20260425T083850
CREATED:20250824T042917Z
LAST-MODIFIED:20250922T055856Z
UID:10001408-1758567600-1758571200@polarridgeseniorliving.com
SUMMARY:Rest & Relaxation
DESCRIPTION:
URL:https://polarridgeseniorliving.com/event-calendar/rest-relaxation-113/
LOCATION:Memory Care
CATEGORIES:Memory Care
END:VEVENT
BEGIN:VEVENT
DTSTART;TZID=America/Chicago:20250922T140000
DTEND;TZID=America/Chicago:20250922T143000
DTSTAMP:20260425T083850
CREATED:20250824T042917Z
LAST-MODIFIED:20250922T055856Z
UID:10001407-1758549600-1758551400@polarridgeseniorliving.com
SUMMARY:Story Time with Maria
DESCRIPTION:
URL:https://polarridgeseniorliving.com/event-calendar/story-time-with-maria-19/
LOCATION:Memory Care
CATEGORIES:Memory Care
END:VEVENT
BEGIN:VEVENT
DTSTART;TZID=America/Chicago:20250922T130000
DTEND;TZID=America/Chicago:20250922T140000
DTSTAMP:20260425T083850
CREATED:20250824T042917Z
LAST-MODIFIED:20250922T055856Z
UID:10001406-1758546000-1758549600@polarridgeseniorliving.com
SUMMARY:Arts & Crafts
DESCRIPTION:
URL:https://polarridgeseniorliving.com/event-calendar/arts-crafts-19/
LOCATION:Memory Care
CATEGORIES:Memory Care
END:VEVENT
BEGIN:VEVENT
DTSTART;TZID=America/Chicago:20250922T103000
DTEND;TZID=America/Chicago:20250922T113000
DTSTAMP:20260425T083850
CREATED:20250824T042916Z
LAST-MODIFIED:20250922T055856Z
UID:10001405-1758537000-1758540600@polarridgeseniorliving.com
SUMMARY:Coffee Social/Daily Chronicle
DESCRIPTION:
URL:https://polarridgeseniorliving.com/event-calendar/coffee-social-daily-chronicle-62/
LOCATION:Memory Care
CATEGORIES:Memory Care
END:VEVENT
BEGIN:VEVENT
DTSTART;TZID=America/Chicago:20250922T100000
DTEND;TZID=America/Chicago:20250922T103000
DTSTAMP:20260425T083850
CREATED:20250824T042916Z
LAST-MODIFIED:20250922T055856Z
UID:10001404-1758535200-1758537000@polarridgeseniorliving.com
SUMMARY:Seated Exercises
DESCRIPTION:
URL:https://polarridgeseniorliving.com/event-calendar/seated-exercises-131/
LOCATION:Memory Care
CATEGORIES:Memory Care
END:VEVENT
END:VCALENDAR