BEGIN:VCALENDAR
VERSION:2.0
PRODID:-//Polar Ridge Senior Living - ECPv6.11.2.1//NONSGML v1.0//EN
CALSCALE:GREGORIAN
METHOD:PUBLISH
X-ORIGINAL-URL:https://polarridgeseniorliving.com
X-WR-CALDESC:Events for Polar Ridge Senior Living
REFRESH-INTERVAL;VALUE=DURATION:PT1H
X-Robots-Tag:noindex
X-PUBLISHED-TTL:PT1H
BEGIN:VTIMEZONE
TZID:America/Chicago
BEGIN:DAYLIGHT
TZOFFSETFROM:-0600
TZOFFSETTO:-0500
TZNAME:CDT
DTSTART:20250309T080000
END:DAYLIGHT
BEGIN:STANDARD
TZOFFSETFROM:-0500
TZOFFSETTO:-0600
TZNAME:CST
DTSTART:20251102T070000
END:STANDARD
END:VTIMEZONE
BEGIN:VEVENT
DTSTART;TZID=America/Chicago:20250921T100000
DTEND;TZID=America/Chicago:20250921T103000
DTSTAMP:20260425T133405
CREATED:20250823T042902Z
LAST-MODIFIED:20250921T055924Z
UID:10001396-1758448800-1758450600@polarridgeseniorliving.com
SUMMARY:Seated Exercises
DESCRIPTION:
URL:https://polarridgeseniorliving.com/event-calendar/seated-exercises-130/
LOCATION:Memory Care
CATEGORIES:Memory Care
END:VEVENT
BEGIN:VEVENT
DTSTART;TZID=America/Chicago:20250920T190000
DTEND;TZID=America/Chicago:20250920T200000
DTSTAMP:20260425T133405
CREATED:20250822T042859Z
LAST-MODIFIED:20250920T055913Z
UID:10001393-1758394800-1758398400@polarridgeseniorliving.com
SUMMARY:Rest & Relaxation
DESCRIPTION:
URL:https://polarridgeseniorliving.com/event-calendar/rest-relaxation-112/
LOCATION:Memory Care
CATEGORIES:Memory Care
END:VEVENT
BEGIN:VEVENT
DTSTART;TZID=America/Chicago:20250920T100000
DTEND;TZID=America/Chicago:20250920T103000
DTSTAMP:20260425T133405
CREATED:20250822T042859Z
LAST-MODIFIED:20250920T055913Z
UID:10001391-1758362400-1758364200@polarridgeseniorliving.com
SUMMARY:Seated Exercises
DESCRIPTION:
URL:https://polarridgeseniorliving.com/event-calendar/seated-exercises-129/
LOCATION:Memory Care
CATEGORIES:Memory Care
END:VEVENT
BEGIN:VEVENT
DTSTART;TZID=America/Chicago:20250919T190000
DTEND;TZID=America/Chicago:20250919T200000
DTSTAMP:20260425T133406
CREATED:20250821T042858Z
LAST-MODIFIED:20250919T055859Z
UID:10001387-1758308400-1758312000@polarridgeseniorliving.com
SUMMARY:Rest & Relaxation
DESCRIPTION:
URL:https://polarridgeseniorliving.com/event-calendar/rest-relaxation-111/
LOCATION:Memory Care
CATEGORIES:Memory Care
END:VEVENT
BEGIN:VEVENT
DTSTART;TZID=America/Chicago:20250919T173000
DTEND;TZID=America/Chicago:20250919T183000
DTSTAMP:20260425T133406
CREATED:20250821T042858Z
LAST-MODIFIED:20250919T055859Z
UID:10001386-1758303000-1758306600@polarridgeseniorliving.com
SUMMARY:Music Appreciation
DESCRIPTION:
URL:https://polarridgeseniorliving.com/event-calendar/music-appreciation-83/
LOCATION:Memory Care
CATEGORIES:Memory Care
END:VEVENT
BEGIN:VEVENT
DTSTART;TZID=America/Chicago:20250919T140000
DTEND;TZID=America/Chicago:20250919T150000
DTSTAMP:20260425T133406
CREATED:20250821T042858Z
LAST-MODIFIED:20250919T055859Z
UID:10001385-1758290400-1758294000@polarridgeseniorliving.com
SUMMARY:Book reading/Trivia & Spelling Bee
DESCRIPTION:
URL:https://polarridgeseniorliving.com/event-calendar/book-reading-trivia-spelling-bee-19/
LOCATION:Memory Care
CATEGORIES:Memory Care
END:VEVENT
BEGIN:VEVENT
DTSTART;TZID=America/Chicago:20250919T103000
DTEND;TZID=America/Chicago:20250919T113000
DTSTAMP:20260425T133406
CREATED:20250821T042858Z
LAST-MODIFIED:20250919T055859Z
UID:10001384-1758277800-1758281400@polarridgeseniorliving.com
SUMMARY:Coffee Social/Daily Chronicle
DESCRIPTION:
URL:https://polarridgeseniorliving.com/event-calendar/coffee-social-daily-chronicle-61/
LOCATION:Memory Care
CATEGORIES:Memory Care
END:VEVENT
BEGIN:VEVENT
DTSTART;TZID=America/Chicago:20250919T100000
DTEND;TZID=America/Chicago:20250919T103000
DTSTAMP:20260425T133406
CREATED:20250821T042858Z
LAST-MODIFIED:20250919T055859Z
UID:10001383-1758276000-1758277800@polarridgeseniorliving.com
SUMMARY:Seated Exercises
DESCRIPTION:
URL:https://polarridgeseniorliving.com/event-calendar/seated-exercises-128/
LOCATION:Memory Care
CATEGORIES:Memory Care
END:VEVENT
BEGIN:VEVENT
DTSTART;TZID=America/Chicago:20250918T190000
DTEND;TZID=America/Chicago:20250918T200000
DTSTAMP:20260425T133406
CREATED:20250820T042915Z
LAST-MODIFIED:20250918T055856Z
UID:10001377-1758222000-1758225600@polarridgeseniorliving.com
SUMMARY:Rest & Relaxation
DESCRIPTION:
URL:https://polarridgeseniorliving.com/event-calendar/rest-relaxation-110/
LOCATION:Memory Care
CATEGORIES:Memory Care
END:VEVENT
BEGIN:VEVENT
DTSTART;TZID=America/Chicago:20250918T173000
DTEND;TZID=America/Chicago:20250918T183000
DTSTAMP:20260425T133406
CREATED:20250820T042915Z
LAST-MODIFIED:20250918T055856Z
UID:10001376-1758216600-1758220200@polarridgeseniorliving.com
SUMMARY:Music Appreciation
DESCRIPTION:
URL:https://polarridgeseniorliving.com/event-calendar/music-appreciation-82/
LOCATION:Memory Care
CATEGORIES:Memory Care
END:VEVENT
BEGIN:VEVENT
DTSTART;TZID=America/Chicago:20250918T130000
DTEND;TZID=America/Chicago:20250918T140000
DTSTAMP:20260425T133406
CREATED:20250820T042915Z
LAST-MODIFIED:20250918T055856Z
UID:10001375-1758200400-1758204000@polarridgeseniorliving.com
SUMMARY:Bingo
DESCRIPTION:
URL:https://polarridgeseniorliving.com/event-calendar/bingo-37/
LOCATION:Memory Care
CATEGORIES:Memory Care
END:VEVENT
BEGIN:VEVENT
DTSTART;TZID=America/Chicago:20250918T103000
DTEND;TZID=America/Chicago:20250918T113000
DTSTAMP:20260425T133406
CREATED:20250820T042915Z
LAST-MODIFIED:20250918T055856Z
UID:10001374-1758191400-1758195000@polarridgeseniorliving.com
SUMMARY:Coffee Social/Daily Chronicle
DESCRIPTION:
URL:https://polarridgeseniorliving.com/event-calendar/coffee-social-daily-chronicle-60/
LOCATION:Memory Care
CATEGORIES:Memory Care
END:VEVENT
BEGIN:VEVENT
DTSTART;TZID=America/Chicago:20250918T100000
DTEND;TZID=America/Chicago:20250918T103000
DTSTAMP:20260425T133406
CREATED:20250820T042915Z
LAST-MODIFIED:20250918T055856Z
UID:10001373-1758189600-1758191400@polarridgeseniorliving.com
SUMMARY:Seated Exercises
DESCRIPTION:
URL:https://polarridgeseniorliving.com/event-calendar/seated-exercises-127/
LOCATION:Memory Care
CATEGORIES:Memory Care
END:VEVENT
BEGIN:VEVENT
DTSTART;TZID=America/Chicago:20250917T190000
DTEND;TZID=America/Chicago:20250917T200000
DTSTAMP:20260425T133406
CREATED:20250819T041429Z
LAST-MODIFIED:20250917T055900Z
UID:10001366-1758135600-1758139200@polarridgeseniorliving.com
SUMMARY:Rest & Relaxation
DESCRIPTION:
URL:https://polarridgeseniorliving.com/event-calendar/rest-relaxation-109/
LOCATION:Memory Care
CATEGORIES:Memory Care
END:VEVENT
BEGIN:VEVENT
DTSTART;TZID=America/Chicago:20250917T173000
DTEND;TZID=America/Chicago:20250917T183000
DTSTAMP:20260425T133406
CREATED:20250819T041429Z
LAST-MODIFIED:20250917T055900Z
UID:10001365-1758130200-1758133800@polarridgeseniorliving.com
SUMMARY:Music Appreciation
DESCRIPTION:
URL:https://polarridgeseniorliving.com/event-calendar/music-appreciation-81/
LOCATION:Memory Care
CATEGORIES:Memory Care
END:VEVENT
BEGIN:VEVENT
DTSTART;TZID=America/Chicago:20250917T103000
DTEND;TZID=America/Chicago:20250917T113000
DTSTAMP:20260425T133406
CREATED:20250819T041429Z
LAST-MODIFIED:20250917T055900Z
UID:10001364-1758105000-1758108600@polarridgeseniorliving.com
SUMMARY:Coffee Social/Daily Chronicle
DESCRIPTION:
URL:https://polarridgeseniorliving.com/event-calendar/coffee-social-daily-chronicle-59/
LOCATION:Memory Care
CATEGORIES:Memory Care
END:VEVENT
BEGIN:VEVENT
DTSTART;TZID=America/Chicago:20250917T100000
DTEND;TZID=America/Chicago:20250917T103000
DTSTAMP:20260425T133406
CREATED:20250819T041429Z
LAST-MODIFIED:20250917T055900Z
UID:10001363-1758103200-1758105000@polarridgeseniorliving.com
SUMMARY:Seated Exercises
DESCRIPTION:
URL:https://polarridgeseniorliving.com/event-calendar/seated-exercises-126/
LOCATION:Memory Care
CATEGORIES:Memory Care
END:VEVENT
BEGIN:VEVENT
DTSTART;TZID=America/Chicago:20250916T190000
DTEND;TZID=America/Chicago:20250916T200000
DTSTAMP:20260425T133406
CREATED:20250818T041402Z
LAST-MODIFIED:20250916T055859Z
UID:10001355-1758049200-1758052800@polarridgeseniorliving.com
SUMMARY:Rest & Relaxation
DESCRIPTION:
URL:https://polarridgeseniorliving.com/event-calendar/rest-relaxation-108/
LOCATION:Memory Care
CATEGORIES:Memory Care
END:VEVENT
BEGIN:VEVENT
DTSTART;TZID=America/Chicago:20250916T173000
DTEND;TZID=America/Chicago:20250916T183000
DTSTAMP:20260425T133406
CREATED:20250818T041402Z
LAST-MODIFIED:20250916T055859Z
UID:10001354-1758043800-1758047400@polarridgeseniorliving.com
SUMMARY:Music Appreciation
DESCRIPTION:
URL:https://polarridgeseniorliving.com/event-calendar/music-appreciation-80/
LOCATION:Memory Care
CATEGORIES:Memory Care
END:VEVENT
BEGIN:VEVENT
DTSTART;TZID=America/Chicago:20250916T130000
DTEND;TZID=America/Chicago:20250916T140000
DTSTAMP:20260425T133406
CREATED:20250818T041402Z
LAST-MODIFIED:20250916T055859Z
UID:10001353-1758027600-1758031200@polarridgeseniorliving.com
SUMMARY:Bingo
DESCRIPTION:
URL:https://polarridgeseniorliving.com/event-calendar/bingo-36/
LOCATION:Memory Care
CATEGORIES:Memory Care
END:VEVENT
BEGIN:VEVENT
DTSTART;TZID=America/Chicago:20250916T103000
DTEND;TZID=America/Chicago:20250916T113000
DTSTAMP:20260425T133406
CREATED:20250818T041402Z
LAST-MODIFIED:20250916T055859Z
UID:10001352-1758018600-1758022200@polarridgeseniorliving.com
SUMMARY:Coffee Social/Daily Chronicle
DESCRIPTION:
URL:https://polarridgeseniorliving.com/event-calendar/coffee-social-daily-chronicle-58/
LOCATION:Memory Care
CATEGORIES:Memory Care
END:VEVENT
BEGIN:VEVENT
DTSTART;TZID=America/Chicago:20250916T100000
DTEND;TZID=America/Chicago:20250916T103000
DTSTAMP:20260425T133406
CREATED:20250818T041402Z
LAST-MODIFIED:20250916T055859Z
UID:10001351-1758016800-1758018600@polarridgeseniorliving.com
SUMMARY:Seated Exercises
DESCRIPTION:
URL:https://polarridgeseniorliving.com/event-calendar/seated-exercises-125/
LOCATION:Memory Care
CATEGORIES:Memory Care
END:VEVENT
BEGIN:VEVENT
DTSTART;TZID=America/Chicago:20250915T190000
DTEND;TZID=America/Chicago:20250915T200000
DTSTAMP:20260425T133406
CREATED:20250817T041412Z
LAST-MODIFIED:20250915T055858Z
UID:10001344-1757962800-1757966400@polarridgeseniorliving.com
SUMMARY:Rest & Relaxation
DESCRIPTION:
URL:https://polarridgeseniorliving.com/event-calendar/rest-relaxation-107/
LOCATION:Memory Care
CATEGORIES:Memory Care
END:VEVENT
BEGIN:VEVENT
DTSTART;TZID=America/Chicago:20250915T140000
DTEND;TZID=America/Chicago:20250915T143000
DTSTAMP:20260425T133406
CREATED:20250817T041412Z
LAST-MODIFIED:20250915T055858Z
UID:10001343-1757944800-1757946600@polarridgeseniorliving.com
SUMMARY:Story Time with Maria
DESCRIPTION:
URL:https://polarridgeseniorliving.com/event-calendar/story-time-with-maria-18/
LOCATION:Memory Care
CATEGORIES:Memory Care
END:VEVENT
BEGIN:VEVENT
DTSTART;TZID=America/Chicago:20250915T130000
DTEND;TZID=America/Chicago:20250915T140000
DTSTAMP:20260425T133406
CREATED:20250817T041412Z
LAST-MODIFIED:20250915T055857Z
UID:10001342-1757941200-1757944800@polarridgeseniorliving.com
SUMMARY:Arts & Crafts
DESCRIPTION:
URL:https://polarridgeseniorliving.com/event-calendar/arts-crafts-18/
LOCATION:Memory Care
CATEGORIES:Memory Care
END:VEVENT
BEGIN:VEVENT
DTSTART;TZID=America/Chicago:20250915T103000
DTEND;TZID=America/Chicago:20250915T113000
DTSTAMP:20260425T133406
CREATED:20250817T041412Z
LAST-MODIFIED:20250915T055857Z
UID:10001341-1757932200-1757935800@polarridgeseniorliving.com
SUMMARY:Coffee Social/Daily Chronicle
DESCRIPTION:
URL:https://polarridgeseniorliving.com/event-calendar/coffee-social-daily-chronicle-57/
LOCATION:Memory Care
CATEGORIES:Memory Care
END:VEVENT
BEGIN:VEVENT
DTSTART;TZID=America/Chicago:20250915T100000
DTEND;TZID=America/Chicago:20250915T103000
DTSTAMP:20260425T133406
CREATED:20250817T041412Z
LAST-MODIFIED:20250915T055857Z
UID:10001340-1757930400-1757932200@polarridgeseniorliving.com
SUMMARY:Seated Exercises
DESCRIPTION:
URL:https://polarridgeseniorliving.com/event-calendar/seated-exercises-124/
LOCATION:Memory Care
CATEGORIES:Memory Care
END:VEVENT
BEGIN:VEVENT
DTSTART;TZID=America/Chicago:20250915T093000
DTEND;TZID=America/Chicago:20250915T100000
DTSTAMP:20260425T133406
CREATED:20250817T041412Z
LAST-MODIFIED:20250915T055857Z
UID:10001339-1757928600-1757930400@polarridgeseniorliving.com
SUMMARY:Praise & Worship with Chaplin Kent
DESCRIPTION:
URL:https://polarridgeseniorliving.com/event-calendar/praise-worship-with-chaplin-kent-4/
LOCATION:Memory Care
CATEGORIES:Memory Care
END:VEVENT
BEGIN:VEVENT
DTSTART;TZID=America/Chicago:20250914T100000
DTEND;TZID=America/Chicago:20250914T103000
DTSTAMP:20260425T133406
CREATED:20250816T035907Z
LAST-MODIFIED:20250914T054412Z
UID:10001331-1757844000-1757845800@polarridgeseniorliving.com
SUMMARY:Seated Exercises
DESCRIPTION:
URL:https://polarridgeseniorliving.com/event-calendar/seated-exercises-123/
LOCATION:Memory Care
CATEGORIES:Memory Care
END:VEVENT
BEGIN:VEVENT
DTSTART;TZID=America/Chicago:20250913T190000
DTEND;TZID=America/Chicago:20250913T200000
DTSTAMP:20260425T133406
CREATED:20250815T034450Z
LAST-MODIFIED:20250913T052904Z
UID:10001328-1757790000-1757793600@polarridgeseniorliving.com
SUMMARY:Rest & Relaxation
DESCRIPTION:
URL:https://polarridgeseniorliving.com/event-calendar/rest-relaxation-106/
LOCATION:Memory Care
CATEGORIES:Memory Care
END:VEVENT
END:VCALENDAR