BEGIN:VCALENDAR
VERSION:2.0
PRODID:-//Polar Ridge Senior Living - ECPv6.11.2.1//NONSGML v1.0//EN
CALSCALE:GREGORIAN
METHOD:PUBLISH
X-WR-CALNAME:Polar Ridge Senior Living
X-ORIGINAL-URL:https://polarridgeseniorliving.com
X-WR-CALDESC:Events for Polar Ridge Senior Living
REFRESH-INTERVAL;VALUE=DURATION:PT1H
X-Robots-Tag:noindex
X-PUBLISHED-TTL:PT1H
BEGIN:VTIMEZONE
TZID:America/Chicago
BEGIN:DAYLIGHT
TZOFFSETFROM:-0600
TZOFFSETTO:-0500
TZNAME:CDT
DTSTART:20250309T080000
END:DAYLIGHT
BEGIN:STANDARD
TZOFFSETFROM:-0500
TZOFFSETTO:-0600
TZNAME:CST
DTSTART:20251102T070000
END:STANDARD
END:VTIMEZONE
BEGIN:VEVENT
DTSTART;TZID=America/Chicago:20250911T100000
DTEND;TZID=America/Chicago:20250911T103000
DTSTAMP:20260425T192947
CREATED:20250813T034402Z
LAST-MODIFIED:20250911T052856Z
UID:10001308-1757584800-1757586600@polarridgeseniorliving.com
SUMMARY:Seated Exercises
DESCRIPTION:
URL:https://polarridgeseniorliving.com/event-calendar/seated-exercises-120/
LOCATION:Memory Care
CATEGORIES:Memory Care
END:VEVENT
BEGIN:VEVENT
DTSTART;TZID=America/Chicago:20250910T190000
DTEND;TZID=America/Chicago:20250910T200000
DTSTAMP:20260425T192947
CREATED:20250812T034401Z
LAST-MODIFIED:20250910T052855Z
UID:10001301-1757530800-1757534400@polarridgeseniorliving.com
SUMMARY:Rest & Relaxation
DESCRIPTION:
URL:https://polarridgeseniorliving.com/event-calendar/rest-relaxation-103/
LOCATION:Memory Care
CATEGORIES:Memory Care
END:VEVENT
BEGIN:VEVENT
DTSTART;TZID=America/Chicago:20250910T173000
DTEND;TZID=America/Chicago:20250910T183000
DTSTAMP:20260425T192947
CREATED:20250812T034401Z
LAST-MODIFIED:20250910T052855Z
UID:10001300-1757525400-1757529000@polarridgeseniorliving.com
SUMMARY:Music Appreciation
DESCRIPTION:
URL:https://polarridgeseniorliving.com/event-calendar/music-appreciation-77/
LOCATION:Memory Care
CATEGORIES:Memory Care
END:VEVENT
BEGIN:VEVENT
DTSTART;TZID=America/Chicago:20250910T103000
DTEND;TZID=America/Chicago:20250910T113000
DTSTAMP:20260425T192947
CREATED:20250812T034401Z
LAST-MODIFIED:20250910T052855Z
UID:10001299-1757500200-1757503800@polarridgeseniorliving.com
SUMMARY:Coffee Social/Daily Chronicle
DESCRIPTION:
URL:https://polarridgeseniorliving.com/event-calendar/coffee-social-daily-chronicle-54/
LOCATION:Memory Care
CATEGORIES:Memory Care
END:VEVENT
BEGIN:VEVENT
DTSTART;TZID=America/Chicago:20250910T100000
DTEND;TZID=America/Chicago:20250910T103000
DTSTAMP:20260425T192947
CREATED:20250812T034400Z
LAST-MODIFIED:20250910T052855Z
UID:10001298-1757498400-1757500200@polarridgeseniorliving.com
SUMMARY:Seated Exercises
DESCRIPTION:
URL:https://polarridgeseniorliving.com/event-calendar/seated-exercises-119/
LOCATION:Memory Care
CATEGORIES:Memory Care
END:VEVENT
BEGIN:VEVENT
DTSTART;TZID=America/Chicago:20250909T190000
DTEND;TZID=America/Chicago:20250909T200000
DTSTAMP:20260425T192947
CREATED:20250811T034400Z
LAST-MODIFIED:20250909T052857Z
UID:10001291-1757444400-1757448000@polarridgeseniorliving.com
SUMMARY:Rest & Relaxation
DESCRIPTION:
URL:https://polarridgeseniorliving.com/event-calendar/rest-relaxation-102/
LOCATION:Memory Care
CATEGORIES:Memory Care
END:VEVENT
BEGIN:VEVENT
DTSTART;TZID=America/Chicago:20250909T173000
DTEND;TZID=America/Chicago:20250909T183000
DTSTAMP:20260425T192947
CREATED:20250811T034400Z
LAST-MODIFIED:20250909T052856Z
UID:10001290-1757439000-1757442600@polarridgeseniorliving.com
SUMMARY:Music Appreciation
DESCRIPTION:
URL:https://polarridgeseniorliving.com/event-calendar/music-appreciation-76/
LOCATION:Memory Care
CATEGORIES:Memory Care
END:VEVENT
BEGIN:VEVENT
DTSTART;TZID=America/Chicago:20250909T130000
DTEND;TZID=America/Chicago:20250909T140000
DTSTAMP:20260425T192947
CREATED:20250811T034359Z
LAST-MODIFIED:20250909T052856Z
UID:10001289-1757422800-1757426400@polarridgeseniorliving.com
SUMMARY:Bingo
DESCRIPTION:
URL:https://polarridgeseniorliving.com/event-calendar/bingo-34/
LOCATION:Memory Care
CATEGORIES:Memory Care
END:VEVENT
BEGIN:VEVENT
DTSTART;TZID=America/Chicago:20250909T103000
DTEND;TZID=America/Chicago:20250909T113000
DTSTAMP:20260425T192947
CREATED:20250811T034359Z
LAST-MODIFIED:20250909T052856Z
UID:10001288-1757413800-1757417400@polarridgeseniorliving.com
SUMMARY:Coffee Social/Daily Chronicle
DESCRIPTION:
URL:https://polarridgeseniorliving.com/event-calendar/coffee-social-daily-chronicle-53/
LOCATION:Memory Care
CATEGORIES:Memory Care
END:VEVENT
BEGIN:VEVENT
DTSTART;TZID=America/Chicago:20250909T100000
DTEND;TZID=America/Chicago:20250909T103000
DTSTAMP:20260425T192947
CREATED:20250811T034359Z
LAST-MODIFIED:20250909T052856Z
UID:10001287-1757412000-1757413800@polarridgeseniorliving.com
SUMMARY:Seated Exercises
DESCRIPTION:
URL:https://polarridgeseniorliving.com/event-calendar/seated-exercises-118/
LOCATION:Memory Care
CATEGORIES:Memory Care
END:VEVENT
BEGIN:VEVENT
DTSTART;TZID=America/Chicago:20250908T190000
DTEND;TZID=America/Chicago:20250908T200000
DTSTAMP:20260425T192947
CREATED:20250810T032910Z
LAST-MODIFIED:20250908T051413Z
UID:10001279-1757358000-1757361600@polarridgeseniorliving.com
SUMMARY:Rest & Relaxation
DESCRIPTION:
URL:https://polarridgeseniorliving.com/event-calendar/rest-relaxation-101/
LOCATION:Memory Care
CATEGORIES:Memory Care
END:VEVENT
BEGIN:VEVENT
DTSTART;TZID=America/Chicago:20250908T140000
DTEND;TZID=America/Chicago:20250908T143000
DTSTAMP:20260425T192947
CREATED:20250810T032910Z
LAST-MODIFIED:20250908T051412Z
UID:10001278-1757340000-1757341800@polarridgeseniorliving.com
SUMMARY:Story Time with Maria
DESCRIPTION:
URL:https://polarridgeseniorliving.com/event-calendar/story-time-with-maria-17/
LOCATION:Memory Care
CATEGORIES:Memory Care
END:VEVENT
BEGIN:VEVENT
DTSTART;TZID=America/Chicago:20250908T130000
DTEND;TZID=America/Chicago:20250908T140000
DTSTAMP:20260425T192947
CREATED:20250810T032910Z
LAST-MODIFIED:20250908T051412Z
UID:10001277-1757336400-1757340000@polarridgeseniorliving.com
SUMMARY:Arts & Crafts
DESCRIPTION:
URL:https://polarridgeseniorliving.com/event-calendar/arts-crafts-17/
LOCATION:Memory Care
CATEGORIES:Memory Care
END:VEVENT
BEGIN:VEVENT
DTSTART;TZID=America/Chicago:20250908T103000
DTEND;TZID=America/Chicago:20250908T113000
DTSTAMP:20260425T192947
CREATED:20250810T032910Z
LAST-MODIFIED:20250908T051412Z
UID:10001276-1757327400-1757331000@polarridgeseniorliving.com
SUMMARY:Coffee Social/Daily Chronicle
DESCRIPTION:
URL:https://polarridgeseniorliving.com/event-calendar/coffee-social-daily-chronicle-52/
LOCATION:Memory Care
CATEGORIES:Memory Care
END:VEVENT
BEGIN:VEVENT
DTSTART;TZID=America/Chicago:20250908T100000
DTEND;TZID=America/Chicago:20250908T103000
DTSTAMP:20260425T192947
CREATED:20250810T032910Z
LAST-MODIFIED:20250908T051412Z
UID:10001275-1757325600-1757327400@polarridgeseniorliving.com
SUMMARY:Seated Exercises
DESCRIPTION:
URL:https://polarridgeseniorliving.com/event-calendar/seated-exercises-117/
LOCATION:Memory Care
CATEGORIES:Memory Care
END:VEVENT
BEGIN:VEVENT
DTSTART;TZID=America/Chicago:20250907T100000
DTEND;TZID=America/Chicago:20250907T103000
DTSTAMP:20260425T192947
CREATED:20250809T032900Z
LAST-MODIFIED:20250907T051358Z
UID:10001267-1757239200-1757241000@polarridgeseniorliving.com
SUMMARY:Seated Exercises
DESCRIPTION:
URL:https://polarridgeseniorliving.com/event-calendar/seated-exercises-116/
LOCATION:Memory Care
CATEGORIES:Memory Care
END:VEVENT
BEGIN:VEVENT
DTSTART;TZID=America/Chicago:20250906T190000
DTEND;TZID=America/Chicago:20250906T200000
DTSTAMP:20260425T192947
CREATED:20250808T031409Z
LAST-MODIFIED:20250906T045903Z
UID:10001264-1757185200-1757188800@polarridgeseniorliving.com
SUMMARY:Rest & Relaxation
DESCRIPTION:
URL:https://polarridgeseniorliving.com/event-calendar/rest-relaxation-100/
LOCATION:Memory Care
CATEGORIES:Memory Care
END:VEVENT
BEGIN:VEVENT
DTSTART;TZID=America/Chicago:20250906T100000
DTEND;TZID=America/Chicago:20250906T103000
DTSTAMP:20260425T192947
CREATED:20250808T031408Z
LAST-MODIFIED:20250906T045903Z
UID:10001262-1757152800-1757154600@polarridgeseniorliving.com
SUMMARY:Seated Exercises
DESCRIPTION:
URL:https://polarridgeseniorliving.com/event-calendar/seated-exercises-115/
LOCATION:Memory Care
CATEGORIES:Memory Care
END:VEVENT
BEGIN:VEVENT
DTSTART;TZID=America/Chicago:20250905T190000
DTEND;TZID=America/Chicago:20250905T200000
DTSTAMP:20260425T192947
CREATED:20250807T031409Z
LAST-MODIFIED:20250905T045857Z
UID:10001258-1757098800-1757102400@polarridgeseniorliving.com
SUMMARY:Rest & Relaxation
DESCRIPTION:
URL:https://polarridgeseniorliving.com/event-calendar/rest-relaxation-99/
LOCATION:Memory Care
CATEGORIES:Memory Care
END:VEVENT
BEGIN:VEVENT
DTSTART;TZID=America/Chicago:20250905T173000
DTEND;TZID=America/Chicago:20250905T183000
DTSTAMP:20260425T192947
CREATED:20250807T031409Z
LAST-MODIFIED:20250905T045857Z
UID:10001257-1757093400-1757097000@polarridgeseniorliving.com
SUMMARY:Music Appreciation
DESCRIPTION:
URL:https://polarridgeseniorliving.com/event-calendar/music-appreciation-75/
LOCATION:Memory Care
CATEGORIES:Memory Care
END:VEVENT
BEGIN:VEVENT
DTSTART;TZID=America/Chicago:20250905T140000
DTEND;TZID=America/Chicago:20250905T150000
DTSTAMP:20260425T192947
CREATED:20250807T031409Z
LAST-MODIFIED:20250905T045857Z
UID:10001256-1757080800-1757084400@polarridgeseniorliving.com
SUMMARY:Book reading/Trivia & Spelling Bee
DESCRIPTION:
URL:https://polarridgeseniorliving.com/event-calendar/book-reading-trivia-spelling-bee-17/
LOCATION:Memory Care
CATEGORIES:Memory Care
END:VEVENT
BEGIN:VEVENT
DTSTART;TZID=America/Chicago:20250905T103000
DTEND;TZID=America/Chicago:20250905T113000
DTSTAMP:20260425T192947
CREATED:20250807T031409Z
LAST-MODIFIED:20250905T045857Z
UID:10001255-1757068200-1757071800@polarridgeseniorliving.com
SUMMARY:Coffee Social/Daily Chronicle
DESCRIPTION:
URL:https://polarridgeseniorliving.com/event-calendar/coffee-social-daily-chronicle-51/
LOCATION:Memory Care
CATEGORIES:Memory Care
END:VEVENT
BEGIN:VEVENT
DTSTART;TZID=America/Chicago:20250905T100000
DTEND;TZID=America/Chicago:20250905T103000
DTSTAMP:20260425T192947
CREATED:20250807T031409Z
LAST-MODIFIED:20250905T045857Z
UID:10001254-1757066400-1757068200@polarridgeseniorliving.com
SUMMARY:Seated Exercises
DESCRIPTION:
URL:https://polarridgeseniorliving.com/event-calendar/seated-exercises-114/
LOCATION:Memory Care
CATEGORIES:Memory Care
END:VEVENT
BEGIN:VEVENT
DTSTART;TZID=America/Chicago:20250904T190000
DTEND;TZID=America/Chicago:20250904T200000
DTSTAMP:20260425T192947
CREATED:20250806T031409Z
LAST-MODIFIED:20250904T045857Z
UID:10001246-1757012400-1757016000@polarridgeseniorliving.com
SUMMARY:Rest & Relaxation
DESCRIPTION:
URL:https://polarridgeseniorliving.com/event-calendar/rest-relaxation-98/
LOCATION:Memory Care
CATEGORIES:Memory Care
END:VEVENT
BEGIN:VEVENT
DTSTART;TZID=America/Chicago:20250904T173000
DTEND;TZID=America/Chicago:20250904T183000
DTSTAMP:20260425T192947
CREATED:20250806T031409Z
LAST-MODIFIED:20250904T045857Z
UID:10001245-1757007000-1757010600@polarridgeseniorliving.com
SUMMARY:Music Appreciation
DESCRIPTION:
URL:https://polarridgeseniorliving.com/event-calendar/music-appreciation-74/
LOCATION:Memory Care
CATEGORIES:Memory Care
END:VEVENT
BEGIN:VEVENT
DTSTART;TZID=America/Chicago:20250904T130000
DTEND;TZID=America/Chicago:20250904T140000
DTSTAMP:20260425T192947
CREATED:20250806T031409Z
LAST-MODIFIED:20250904T045857Z
UID:10001244-1756990800-1756994400@polarridgeseniorliving.com
SUMMARY:Bingo
DESCRIPTION:
URL:https://polarridgeseniorliving.com/event-calendar/bingo-33/
LOCATION:Memory Care
CATEGORIES:Memory Care
END:VEVENT
BEGIN:VEVENT
DTSTART;TZID=America/Chicago:20250904T103000
DTEND;TZID=America/Chicago:20250904T113000
DTSTAMP:20260425T192947
CREATED:20250806T031409Z
LAST-MODIFIED:20250904T045857Z
UID:10001243-1756981800-1756985400@polarridgeseniorliving.com
SUMMARY:Coffee Social/Daily Chronicle
DESCRIPTION:
URL:https://polarridgeseniorliving.com/event-calendar/coffee-social-daily-chronicle-50/
LOCATION:Memory Care
CATEGORIES:Memory Care
END:VEVENT
BEGIN:VEVENT
DTSTART;TZID=America/Chicago:20250904T100000
DTEND;TZID=America/Chicago:20250904T103000
DTSTAMP:20260425T192947
CREATED:20250806T031409Z
LAST-MODIFIED:20250904T045857Z
UID:10001242-1756980000-1756981800@polarridgeseniorliving.com
SUMMARY:Seated Exercises
DESCRIPTION:
URL:https://polarridgeseniorliving.com/event-calendar/seated-exercises-113/
LOCATION:Memory Care
CATEGORIES:Memory Care
END:VEVENT
BEGIN:VEVENT
DTSTART;TZID=America/Chicago:20250903T190000
DTEND;TZID=America/Chicago:20250903T200000
DTSTAMP:20260425T192947
CREATED:20250805T031359Z
LAST-MODIFIED:20250903T045855Z
UID:10001235-1756926000-1756929600@polarridgeseniorliving.com
SUMMARY:Rest & Relaxation
DESCRIPTION:
URL:https://polarridgeseniorliving.com/event-calendar/rest-relaxation-97/
LOCATION:Memory Care
CATEGORIES:Memory Care
END:VEVENT
BEGIN:VEVENT
DTSTART;TZID=America/Chicago:20250903T173000
DTEND;TZID=America/Chicago:20250903T183000
DTSTAMP:20260425T192947
CREATED:20250805T031359Z
LAST-MODIFIED:20250903T045855Z
UID:10001234-1756920600-1756924200@polarridgeseniorliving.com
SUMMARY:Music Appreciation
DESCRIPTION:
URL:https://polarridgeseniorliving.com/event-calendar/music-appreciation-73/
LOCATION:Memory Care
CATEGORIES:Memory Care
END:VEVENT
END:VCALENDAR