BEGIN:VCALENDAR
VERSION:2.0
PRODID:-//Polar Ridge Senior Living - ECPv6.11.2.1//NONSGML v1.0//EN
CALSCALE:GREGORIAN
METHOD:PUBLISH
X-WR-CALNAME:Polar Ridge Senior Living
X-ORIGINAL-URL:https://polarridgeseniorliving.com
X-WR-CALDESC:Events for Polar Ridge Senior Living
REFRESH-INTERVAL;VALUE=DURATION:PT1H
X-Robots-Tag:noindex
X-PUBLISHED-TTL:PT1H
BEGIN:VTIMEZONE
TZID:America/Chicago
BEGIN:DAYLIGHT
TZOFFSETFROM:-0600
TZOFFSETTO:-0500
TZNAME:CDT
DTSTART:20250309T080000
END:DAYLIGHT
BEGIN:STANDARD
TZOFFSETFROM:-0500
TZOFFSETTO:-0600
TZNAME:CST
DTSTART:20251102T070000
END:STANDARD
END:VTIMEZONE
BEGIN:VEVENT
DTSTART;TZID=America/Chicago:20250905T140000
DTEND;TZID=America/Chicago:20250905T150000
DTSTAMP:20260425T223348
CREATED:20250807T031409Z
LAST-MODIFIED:20250905T045857Z
UID:10001256-1757080800-1757084400@polarridgeseniorliving.com
SUMMARY:Book reading/Trivia & Spelling Bee
DESCRIPTION:
URL:https://polarridgeseniorliving.com/event-calendar/book-reading-trivia-spelling-bee-17/
LOCATION:Memory Care
CATEGORIES:Memory Care
END:VEVENT
BEGIN:VEVENT
DTSTART;TZID=America/Chicago:20250905T103000
DTEND;TZID=America/Chicago:20250905T113000
DTSTAMP:20260425T223348
CREATED:20250807T031409Z
LAST-MODIFIED:20250905T045857Z
UID:10001255-1757068200-1757071800@polarridgeseniorliving.com
SUMMARY:Coffee Social/Daily Chronicle
DESCRIPTION:
URL:https://polarridgeseniorliving.com/event-calendar/coffee-social-daily-chronicle-51/
LOCATION:Memory Care
CATEGORIES:Memory Care
END:VEVENT
BEGIN:VEVENT
DTSTART;TZID=America/Chicago:20250905T100000
DTEND;TZID=America/Chicago:20250905T103000
DTSTAMP:20260425T223348
CREATED:20250807T031409Z
LAST-MODIFIED:20250905T045857Z
UID:10001254-1757066400-1757068200@polarridgeseniorliving.com
SUMMARY:Seated Exercises
DESCRIPTION:
URL:https://polarridgeseniorliving.com/event-calendar/seated-exercises-114/
LOCATION:Memory Care
CATEGORIES:Memory Care
END:VEVENT
BEGIN:VEVENT
DTSTART;TZID=America/Chicago:20250904T190000
DTEND;TZID=America/Chicago:20250904T200000
DTSTAMP:20260425T223348
CREATED:20250806T031409Z
LAST-MODIFIED:20250904T045857Z
UID:10001246-1757012400-1757016000@polarridgeseniorliving.com
SUMMARY:Rest & Relaxation
DESCRIPTION:
URL:https://polarridgeseniorliving.com/event-calendar/rest-relaxation-98/
LOCATION:Memory Care
CATEGORIES:Memory Care
END:VEVENT
BEGIN:VEVENT
DTSTART;TZID=America/Chicago:20250904T173000
DTEND;TZID=America/Chicago:20250904T183000
DTSTAMP:20260425T223348
CREATED:20250806T031409Z
LAST-MODIFIED:20250904T045857Z
UID:10001245-1757007000-1757010600@polarridgeseniorliving.com
SUMMARY:Music Appreciation
DESCRIPTION:
URL:https://polarridgeseniorliving.com/event-calendar/music-appreciation-74/
LOCATION:Memory Care
CATEGORIES:Memory Care
END:VEVENT
BEGIN:VEVENT
DTSTART;TZID=America/Chicago:20250904T130000
DTEND;TZID=America/Chicago:20250904T140000
DTSTAMP:20260425T223348
CREATED:20250806T031409Z
LAST-MODIFIED:20250904T045857Z
UID:10001244-1756990800-1756994400@polarridgeseniorliving.com
SUMMARY:Bingo
DESCRIPTION:
URL:https://polarridgeseniorliving.com/event-calendar/bingo-33/
LOCATION:Memory Care
CATEGORIES:Memory Care
END:VEVENT
BEGIN:VEVENT
DTSTART;TZID=America/Chicago:20250904T103000
DTEND;TZID=America/Chicago:20250904T113000
DTSTAMP:20260425T223348
CREATED:20250806T031409Z
LAST-MODIFIED:20250904T045857Z
UID:10001243-1756981800-1756985400@polarridgeseniorliving.com
SUMMARY:Coffee Social/Daily Chronicle
DESCRIPTION:
URL:https://polarridgeseniorliving.com/event-calendar/coffee-social-daily-chronicle-50/
LOCATION:Memory Care
CATEGORIES:Memory Care
END:VEVENT
BEGIN:VEVENT
DTSTART;TZID=America/Chicago:20250904T100000
DTEND;TZID=America/Chicago:20250904T103000
DTSTAMP:20260425T223348
CREATED:20250806T031409Z
LAST-MODIFIED:20250904T045857Z
UID:10001242-1756980000-1756981800@polarridgeseniorliving.com
SUMMARY:Seated Exercises
DESCRIPTION:
URL:https://polarridgeseniorliving.com/event-calendar/seated-exercises-113/
LOCATION:Memory Care
CATEGORIES:Memory Care
END:VEVENT
BEGIN:VEVENT
DTSTART;TZID=America/Chicago:20250903T190000
DTEND;TZID=America/Chicago:20250903T200000
DTSTAMP:20260425T223348
CREATED:20250805T031359Z
LAST-MODIFIED:20250903T045855Z
UID:10001235-1756926000-1756929600@polarridgeseniorliving.com
SUMMARY:Rest & Relaxation
DESCRIPTION:
URL:https://polarridgeseniorliving.com/event-calendar/rest-relaxation-97/
LOCATION:Memory Care
CATEGORIES:Memory Care
END:VEVENT
BEGIN:VEVENT
DTSTART;TZID=America/Chicago:20250903T173000
DTEND;TZID=America/Chicago:20250903T183000
DTSTAMP:20260425T223348
CREATED:20250805T031359Z
LAST-MODIFIED:20250903T045855Z
UID:10001234-1756920600-1756924200@polarridgeseniorliving.com
SUMMARY:Music Appreciation
DESCRIPTION:
URL:https://polarridgeseniorliving.com/event-calendar/music-appreciation-73/
LOCATION:Memory Care
CATEGORIES:Memory Care
END:VEVENT
BEGIN:VEVENT
DTSTART;TZID=America/Chicago:20250903T103000
DTEND;TZID=America/Chicago:20250903T113000
DTSTAMP:20260425T223348
CREATED:20250805T031359Z
LAST-MODIFIED:20250903T045855Z
UID:10001233-1756895400-1756899000@polarridgeseniorliving.com
SUMMARY:Coffee Social/Daily Chronicle
DESCRIPTION:
URL:https://polarridgeseniorliving.com/event-calendar/coffee-social-daily-chronicle-49/
LOCATION:Memory Care
CATEGORIES:Memory Care
END:VEVENT
BEGIN:VEVENT
DTSTART;TZID=America/Chicago:20250903T100000
DTEND;TZID=America/Chicago:20250903T103000
DTSTAMP:20260425T223348
CREATED:20250805T031358Z
LAST-MODIFIED:20250903T045855Z
UID:10001232-1756893600-1756895400@polarridgeseniorliving.com
SUMMARY:Seated Exercises
DESCRIPTION:
URL:https://polarridgeseniorliving.com/event-calendar/seated-exercises-112/
LOCATION:Memory Care
CATEGORIES:Memory Care
END:VEVENT
BEGIN:VEVENT
DTSTART;TZID=America/Chicago:20250902T190000
DTEND;TZID=America/Chicago:20250902T200000
DTSTAMP:20260425T223348
CREATED:20250804T031400Z
LAST-MODIFIED:20250902T045856Z
UID:10001225-1756839600-1756843200@polarridgeseniorliving.com
SUMMARY:Rest & Relaxation
DESCRIPTION:
URL:https://polarridgeseniorliving.com/event-calendar/rest-relaxation-96/
LOCATION:Memory Care
CATEGORIES:Memory Care
END:VEVENT
BEGIN:VEVENT
DTSTART;TZID=America/Chicago:20250902T173000
DTEND;TZID=America/Chicago:20250902T183000
DTSTAMP:20260425T223348
CREATED:20250804T031400Z
LAST-MODIFIED:20250902T045856Z
UID:10001224-1756834200-1756837800@polarridgeseniorliving.com
SUMMARY:Music Appreciation
DESCRIPTION:
URL:https://polarridgeseniorliving.com/event-calendar/music-appreciation-72/
LOCATION:Memory Care
CATEGORIES:Memory Care
END:VEVENT
BEGIN:VEVENT
DTSTART;TZID=America/Chicago:20250902T130000
DTEND;TZID=America/Chicago:20250902T140000
DTSTAMP:20260425T223348
CREATED:20250804T031400Z
LAST-MODIFIED:20250902T045856Z
UID:10001223-1756818000-1756821600@polarridgeseniorliving.com
SUMMARY:Bingo
DESCRIPTION:
URL:https://polarridgeseniorliving.com/event-calendar/bingo-32/
LOCATION:Memory Care
CATEGORIES:Memory Care
END:VEVENT
BEGIN:VEVENT
DTSTART;TZID=America/Chicago:20250902T103000
DTEND;TZID=America/Chicago:20250902T113000
DTSTAMP:20260425T223348
CREATED:20250804T031400Z
LAST-MODIFIED:20250902T045856Z
UID:10001222-1756809000-1756812600@polarridgeseniorliving.com
SUMMARY:Coffee Social/Daily Chronicle
DESCRIPTION:
URL:https://polarridgeseniorliving.com/event-calendar/coffee-social-daily-chronicle-48/
LOCATION:Memory Care
CATEGORIES:Memory Care
END:VEVENT
BEGIN:VEVENT
DTSTART;TZID=America/Chicago:20250902T100000
DTEND;TZID=America/Chicago:20250902T103000
DTSTAMP:20260425T223348
CREATED:20250804T031400Z
LAST-MODIFIED:20250902T045856Z
UID:10001221-1756807200-1756809000@polarridgeseniorliving.com
SUMMARY:Seated Exercises
DESCRIPTION:
URL:https://polarridgeseniorliving.com/event-calendar/seated-exercises-111/
LOCATION:Memory Care
CATEGORIES:Memory Care
END:VEVENT
BEGIN:VEVENT
DTSTART;TZID=America/Chicago:20250901T190000
DTEND;TZID=America/Chicago:20250901T200000
DTSTAMP:20260425T223348
CREATED:20250803T031415Z
LAST-MODIFIED:20250901T045855Z
UID:10001213-1756753200-1756756800@polarridgeseniorliving.com
SUMMARY:Rest & Relaxation
DESCRIPTION:
URL:https://polarridgeseniorliving.com/event-calendar/rest-relaxation-95/
LOCATION:Memory Care
CATEGORIES:Memory Care
END:VEVENT
BEGIN:VEVENT
DTSTART;TZID=America/Chicago:20250901T140000
DTEND;TZID=America/Chicago:20250901T143000
DTSTAMP:20260425T223348
CREATED:20250803T031415Z
LAST-MODIFIED:20250901T045855Z
UID:10001212-1756735200-1756737000@polarridgeseniorliving.com
SUMMARY:Story Time with Maria
DESCRIPTION:
URL:https://polarridgeseniorliving.com/event-calendar/story-time-with-maria-16/
LOCATION:Memory Care
CATEGORIES:Memory Care
END:VEVENT
BEGIN:VEVENT
DTSTART;TZID=America/Chicago:20250901T130000
DTEND;TZID=America/Chicago:20250901T140000
DTSTAMP:20260425T223348
CREATED:20250803T031415Z
LAST-MODIFIED:20250901T045855Z
UID:10001211-1756731600-1756735200@polarridgeseniorliving.com
SUMMARY:Arts & Crafts
DESCRIPTION:
URL:https://polarridgeseniorliving.com/event-calendar/arts-crafts-16/
LOCATION:Memory Care
CATEGORIES:Memory Care
END:VEVENT
BEGIN:VEVENT
DTSTART;TZID=America/Chicago:20250901T103000
DTEND;TZID=America/Chicago:20250901T113000
DTSTAMP:20260425T223348
CREATED:20250803T031415Z
LAST-MODIFIED:20250901T045854Z
UID:10001210-1756722600-1756726200@polarridgeseniorliving.com
SUMMARY:Coffee Social/Daily Chronicle
DESCRIPTION:
URL:https://polarridgeseniorliving.com/event-calendar/coffee-social-daily-chronicle-47/
LOCATION:Memory Care
CATEGORIES:Memory Care
END:VEVENT
BEGIN:VEVENT
DTSTART;TZID=America/Chicago:20250901T100000
DTEND;TZID=America/Chicago:20250901T103000
DTSTAMP:20260425T223348
CREATED:20250803T031415Z
LAST-MODIFIED:20250901T045854Z
UID:10001208-1756720800-1756722600@polarridgeseniorliving.com
SUMMARY:Seated Exercises
DESCRIPTION:
URL:https://polarridgeseniorliving.com/event-calendar/seated-exercises-110/
LOCATION:Memory Care
CATEGORIES:Memory Care
END:VEVENT
BEGIN:VEVENT
DTSTART;TZID=America/Chicago:20250831T100000
DTEND;TZID=America/Chicago:20250831T103000
DTSTAMP:20260425T223348
CREATED:20250802T025912Z
LAST-MODIFIED:20250831T044356Z
UID:10001200-1756634400-1756636200@polarridgeseniorliving.com
SUMMARY:Seated Exercises
DESCRIPTION:
URL:https://polarridgeseniorliving.com/event-calendar/seated-exercises-109/
LOCATION:Memory Care
CATEGORIES:Memory Care
END:VEVENT
BEGIN:VEVENT
DTSTART;TZID=America/Chicago:20250830T190000
DTEND;TZID=America/Chicago:20250830T200000
DTSTAMP:20260425T223348
CREATED:20250801T025859Z
LAST-MODIFIED:20250830T044358Z
UID:10001197-1756580400-1756584000@polarridgeseniorliving.com
SUMMARY:Rest & Relaxation
DESCRIPTION:
URL:https://polarridgeseniorliving.com/event-calendar/rest-relaxation-94/
LOCATION:Memory Care
CATEGORIES:Memory Care
END:VEVENT
BEGIN:VEVENT
DTSTART;TZID=America/Chicago:20250830T100000
DTEND;TZID=America/Chicago:20250830T103000
DTSTAMP:20260425T223348
CREATED:20250801T025859Z
LAST-MODIFIED:20250830T044358Z
UID:10001195-1756548000-1756549800@polarridgeseniorliving.com
SUMMARY:Seated Exercises
DESCRIPTION:
URL:https://polarridgeseniorliving.com/event-calendar/seated-exercises-108/
LOCATION:Memory Care
CATEGORIES:Memory Care
END:VEVENT
BEGIN:VEVENT
DTSTART;TZID=America/Chicago:20250829T190000
DTEND;TZID=America/Chicago:20250829T200000
DTSTAMP:20260425T223348
CREATED:20250731T024401Z
LAST-MODIFIED:20250829T044430Z
UID:10001185-1756494000-1756497600@polarridgeseniorliving.com
SUMMARY:Rest & Relaxation
DESCRIPTION:
URL:https://polarridgeseniorliving.com/event-calendar/rest-relaxation-93/
LOCATION:Memory Care
CATEGORIES:Memory Care
END:VEVENT
BEGIN:VEVENT
DTSTART;TZID=America/Chicago:20250829T173000
DTEND;TZID=America/Chicago:20250829T183000
DTSTAMP:20260425T223348
CREATED:20250731T024401Z
LAST-MODIFIED:20250829T044430Z
UID:10001184-1756488600-1756492200@polarridgeseniorliving.com
SUMMARY:Music Appreciation
DESCRIPTION:
URL:https://polarridgeseniorliving.com/event-calendar/music-appreciation-71/
LOCATION:Memory Care
CATEGORIES:Memory Care
END:VEVENT
BEGIN:VEVENT
DTSTART;TZID=America/Chicago:20250829T150000
DTEND;TZID=America/Chicago:20250829T160000
DTSTAMP:20260425T223348
CREATED:20250731T024401Z
LAST-MODIFIED:20250829T044430Z
UID:10001183-1756479600-1756483200@polarridgeseniorliving.com
SUMMARY:1:1 Social Visits
DESCRIPTION:
URL:https://polarridgeseniorliving.com/event-calendar/11-social-visits-63/
LOCATION:Memory Care
CATEGORIES:Memory Care
END:VEVENT
BEGIN:VEVENT
DTSTART;TZID=America/Chicago:20250829T140000
DTEND;TZID=America/Chicago:20250829T150000
DTSTAMP:20260425T223348
CREATED:20250731T024401Z
LAST-MODIFIED:20250829T044430Z
UID:10001182-1756476000-1756479600@polarridgeseniorliving.com
SUMMARY:Book reading/Trivia & Spelling Bee
DESCRIPTION:
URL:https://polarridgeseniorliving.com/event-calendar/book-reading-trivia-spelling-bee-16/
LOCATION:Memory Care
CATEGORIES:Memory Care
END:VEVENT
BEGIN:VEVENT
DTSTART;TZID=America/Chicago:20250829T103000
DTEND;TZID=America/Chicago:20250829T113000
DTSTAMP:20260425T223348
CREATED:20250731T024401Z
LAST-MODIFIED:20250829T044430Z
UID:10001181-1756463400-1756467000@polarridgeseniorliving.com
SUMMARY:Coffee Social/Daily Chronicle
DESCRIPTION:
URL:https://polarridgeseniorliving.com/event-calendar/coffee-social-daily-chronicle-46/
LOCATION:Memory Care
CATEGORIES:Memory Care
END:VEVENT
END:VCALENDAR